{"text_format":"2","workbook":"xlsx","n_sheets":4,"sheets":["輸入表單","輸出雙向細目表","輸出雙向細目表（1下適用）","data"],"not_rendered":{"charts":0,"images":1,"macros":0,"external_links":0,"defined_names":0,"comments":0,"pivot_tables":0},"unopened":[],"bounds":{"document_bytes":16777216,"sheet_cells":100000,"run_cost":"one","rows_first":2000,"rows_last":500,"rows_between":2000,"halvings":0,"cell_chars":16384,"cell_head_chars":4096},"cells_cut":0,"cells_raw":0,"read":"whole","date_system":"1900"}

{"sheet":"輸入表單","index":0,"n_rows":648,"n_cols":29,"rows_kept":648,"cut":false,"hidden":false,"merged":[]}
[null,null,"年級：",2,null,null,"題型清單（自行修正）",{"$nulls":21},"版本別"]
[null,null,"領域：","英語","（請選擇）",null,"情境(1）","領域清單：","國語","數學","社會","自然","英語",{"$nulls":15},"康軒"]
[null,null,"版本：","翰林","（請選擇）",null,"情境(2）",{"$nulls":21},"翰林"]
[null,null,"第1大題題型：","情境(1）","（請選擇）",null,"情境(3）","題型清單：","選擇","是非","填充","國字","注音","改錯","造句","簡答","問答","連連看","照樣造句","計算","聽寫","應用","閱讀測驗","重組句子","配合","標點符號","比大小",null,"南一"]
[null,null,"每小題／格配分：",2,"題數：",3,"情境（二）"]
["判概念","判題型","題號","所屬單元","所屬認知層次",null,"連連看","認知層次：","記憶","了解","應用","高層次思考","評鑑","創作"]
[{"$f":"IF(C7=\"\",\"\",CONCATENATE(D7,E7))","v":"1"},{"$f":"IF(C7=\"\",\"\",CONCATENATE($D$4,C7))","v":"情境(1）1"},{"$f":"IF($F$5>=ROW($A$1),1,\"\")","v":1},1,null,null,"勾選"]
[{"$f":"IF(C8=\"\",\"\",CONCATENATE(D8,E8))","v":"1"},{"$f":"IF(C8=\"\",\"\",CONCATENATE($D$4,C8))","v":"情境(1）2"},{"$f":"IF($F$5>=ROW($A2),C7+1,\"\")","v":2},1,null,null,"閱讀測驗"]
["2","情境(1）3",3,2]
["","","",2]
["","","",2]
["","",""]
["","",""]
["","",""]
["","",""]
["","",""]
["","",""]
["","",""]
["","",""]
["","",""]
["","",""]
["","",""]
["","",""]
["","",""]
["","",""]
["","",""]
["","",""]
["","",""]
[{"$f":"IF(C29=\"\",\"\",CONCATENATE(D29,E29))","v":""},{"$f":"IF(C29=\"\",\"\",CONCATENATE($D$4,C29))","v":""},""]
["","",""]
["","",""]
["","",""]
["","",""]
["","",""]
["","",""]
[{"$f":"IF(C36=\"\",\"\",CONCATENATE(D36,E36))","v":""},{"$f":"IF(C36=\"\",\"\",CONCATENATE($D$4,C36))","v":""},""]
["","",""]
["","",""]
["","",""]
["","",""]
["","",""]
["","",""]
["","",""]
["","",""]
["","",""]
["","",""]
[null,null,"第2大題題型：","情境(2）","（請選擇）"]
[null,null,"每小題／格配分：",null,"題數："]
[null,null,"題號","所屬單元","所屬認知層次"]
[{"$f":"IF(C50=\"\",\"\",CONCATENATE(D50,E50))","v":""},{"$f":"IF(C50=\"\",\"\",CONCATENATE($D$47,C50))","v":""},{"$f":"IF($F$48>=ROW($A$1),1,\"\")","v":""}]
[{"$f":"IF(C51=\"\",\"\",CONCATENATE(D51,E51))","v":""},"",{"$f":"IF($F$48>=ROW($A2),C50+1,\"\")","v":""}]
["","",""]
["","",""]
["","",""]
["","",""]
["","",""]
["","",""]
["","",""]
["","",""]
["","",""]
["","",""]
["","",""]
["","",""]
["","",""]
["","",""]
["","",""]
["","",""]
["","",""]
[{"$f":"IF(C69=\"\",\"\",CONCATENATE(D69,E69))","v":""},{"$f":"IF(C69=\"\",\"\",CONCATENATE($D$47,C69))","v":""},""]
["","",""]
["","",""]
["","",""]
["","",""]
["","",""]
["","",""]
["","",""]
["","",""]
["","",""]
[{"$f":"IF(C79=\"\",\"\",CONCATENATE(D79,E79))","v":""},{"$f":"IF(C79=\"\",\"\",CONCATENATE($D$47,C79))","v":""},{"$f":"IF($F$48>=ROW($A30),C78+1,\"\")","v":""}]
["","",""]
["","",""]
["","",""]
["","",""]
["","",""]
["","",""]
["","",""]
["","",""]
["","",""]
["","",""]
[null,null,"第3大題題型：","情境(3）","（請選擇）"]
[null,null,"每小題／格配分：",null,"題數："]
[null,null,"題號","所屬單元","所屬認知層次"]
[{"$f":"IF(C93=\"\",\"\",CONCATENATE(D93,E93))","v":""},{"$f":"IF(C93=\"\",\"\",CONCATENATE($D$90,C93))","v":""},{"$f":"IF($F$91>=ROW($A$1),1,\"\")","v":""}]
[{"$f":"IF(C94=\"\",\"\",CONCATENATE(D94,E94))","v":""},{"$f":"IF(C94=\"\",\"\",CONCATENATE($D$90,C94))","v":""},{"$f":"IF($F$91>=ROW($A2),C93+1,\"\")","v":""}]
["","",""]
["","",""]
["","",""]
["","",""]
["","",""]
["","",""]
["","",""]
["","",""]
["","",""]
["","",""]
["","",""]
["","",""]
["","",""]
["","",""]
["","",""]
["","",""]
["","",""]
[{"$f":"IF(C112=\"\",\"\",CONCATENATE(D112,E112))","v":""},{"$f":"IF(C112=\"\",\"\",CONCATENATE($D$90,C112))","v":""},{"$f":"IF($F$91>=ROW($A20),C111+1,\"\")","v":""}]
["","",""]
["","",""]
["","",""]
["","",""]
["","",""]
["","",""]
["","",""]
["","",""]
["","",""]
["","",""]
["","",""]
["","",""]
["","",""]
["","",""]
["","",""]
["","",""]
["","",""]
["","",""]
["","",""]
["","",""]
[null,null,"第4大題題型：","填充","（請選擇）"]
[null,null,"每小題／格配分：",null,"題數："]
[null,null,"題號","所屬單元","所屬認知層次"]
[{"$f":"IF(C136=\"\",\"\",CONCATENATE(D136,E136))","v":""},{"$f":"IF(C136=\"\",\"\",CONCATENATE($D$133,C136))","v":""},{"$f":"IF($F$134>=ROW($A$1),1,\"\")","v":""}]
[{"$f":"IF(C137=\"\",\"\",CONCATENATE(D137,E137))","v":""},{"$f":"IF(C137=\"\",\"\",CONCATENATE($D$133,C137))","v":""},{"$f":"IF($F$134>=ROW($A2),C136+1,\"\")","v":""}]
["","",""]
["","",""]
["","",""]
["","",""]
["","",""]
["","",""]
["","",""]
["","",""]
["","",""]
["","",""]
["","",""]
["","",""]
["","",""]
["","",""]
["","",""]
["","",""]
["","",""]
[{"$f":"IF(C155=\"\",\"\",CONCATENATE(D155,E155))","v":""},{"$f":"IF(C155=\"\",\"\",CONCATENATE($D$133,C155))","v":""},{"$f":"IF($F$134>=ROW($A20),C154+1,\"\")","v":""}]
["","",""]
["","",""]
["","",""]
["","",""]
["","",""]
["","",""]
["","",""]
["","",""]
["","",""]
["","",""]
["","",""]
["","",""]
["","",""]
["","",""]
["","",""]
["","",""]
["","",""]
["","",""]
["","",""]
["","",""]
[null,null,"第5大題題型：","連連看","（請選擇）"]
[null,null,"每小題／格配分：",null,"題數："]
[null,null,"題號","所屬單元","所屬認知層次"]
[{"$f":"IF(C179=\"\",\"\",CONCATENATE(D179,E179))","v":""},{"$f":"IF(C179=\"\",\"\",CONCATENATE($D$176,C179))","v":""},{"$f":"IF($F$177>=ROW($A$1),1,\"\")","v":""}]
[{"$f":"IF(C180=\"\",\"\",CONCATENATE(D180,E180))","v":""},{"$f":"IF(C180=\"\",\"\",CONCATENATE($D$176,C180))","v":""},{"$f":"IF($F$177>=ROW($A2),C179+1,\"\")","v":""}]
["","",""]
["","",""]
["","",""]
["","",""]
["","",""]
["","",""]
["","",""]
["","",""]
["","",""]
["","",""]
["","",""]
["","",""]
["","",""]
["","",""]
["","",""]
["","",""]
["","",""]
[{"$f":"IF(C198=\"\",\"\",CONCATENATE(D198,E198))","v":""},{"$f":"IF(C198=\"\",\"\",CONCATENATE($D$176,C198))","v":""},{"$f":"IF($F$177>=ROW($A20),C197+1,\"\")","v":""}]
["","",""]
["","",""]
["","",""]
["","",""]
["","",""]
["","",""]
["","",""]
["","",""]
["","",""]
["","",""]
["","",""]
["","",""]
["","",""]
["","",""]
["","",""]
["","",""]
["","",""]
["","",""]
["","",""]
["","",""]
[null,null,"第6大題題型：","勾選","（請選擇）"]
[null,null,"每小題／格配分：",2,"題數："]
[null,null,"題號","所屬單元","所屬認知層次"]
[{"$f":"IF(C222=\"\",\"\",CONCATENATE(D222,E222))","v":""},{"$f":"IF(C222=\"\",\"\",CONCATENATE($D$219,C222))","v":""},{"$f":"IF($F$220>=ROW($A$1),1,\"\")","v":""}]
[{"$f":"IF(C223=\"\",\"\",CONCATENATE(D223,E223))","v":""},{"$f":"IF(C223=\"\",\"\",CONCATENATE($D$219,C223))","v":""},{"$f":"IF($F$220>=ROW($A2),C222+1,\"\")","v":""}]
["","",""]
["","",""]
["","",""]
["","",""]
["","",""]
["","",""]
["","",""]
["","",""]
["","",""]
["","",""]
["","",""]
["","",""]
["","",""]
["","",""]
["","",""]
["","",""]
["","",""]
[{"$f":"IF(C241=\"\",\"\",CONCATENATE(D241,E241))","v":""},{"$f":"IF(C241=\"\",\"\",CONCATENATE($D$219,C241))","v":""},{"$f":"IF($F$220>=ROW($A20),C240+1,\"\")","v":""}]
["","",""]
["","",""]
["","",""]
["","",""]
["","",""]
["","",""]
["","",""]
["","",""]
["","",""]
["","",""]
["","",""]
["","",""]
["","",""]
["","",""]
["","",""]
["","",""]
["","",""]
["","",""]
["","",""]
["","",""]
[null,null,"第7大題題型：","閱讀測驗","（請選擇）"]
[null,null,"每小題／格配分：",1,"題數："]
[null,null,"題號","所屬單元","所屬認知層次"]
[{"$f":"IF(C265=\"\",\"\",CONCATENATE(D265,E265))","v":""},{"$f":"IF(C265=\"\",\"\",CONCATENATE($D$262,C265))","v":""},{"$f":"IF($F$263>=ROW($A$1),1,\"\")","v":""}]
[{"$f":"IF(C266=\"\",\"\",CONCATENATE(D266,E266))","v":""},{"$f":"IF(C266=\"\",\"\",CONCATENATE($D$262,C266))","v":""},{"$f":"IF($F$263>=ROW($A2),C265+1,\"\")","v":""}]
["","",""]
["","",""]
["","",""]
["","",""]
["","",""]
["","",""]
["","",""]
["","",""]
["","",""]
["","",""]
["","",""]
["","",""]
["","",""]
["","",""]
["","",""]
["","",""]
["","",""]
[{"$f":"IF(C284=\"\",\"\",CONCATENATE(D284,E284))","v":""},{"$f":"IF(C284=\"\",\"\",CONCATENATE($D$262,C284))","v":""},{"$f":"IF($F$263>=ROW($A20),C283+1,\"\")","v":""}]
["","",""]
["","",""]
["","",""]
["","",""]
["","",""]
["","",""]
["","",""]
["","",""]
["","",""]
["","",""]
["","",""]
["","",""]
["","",""]
["","",""]
["","",""]
["","",""]
["","",""]
["","",""]
["","",""]
["","",""]
[null,null,"第8大題題型：","造句","（請選擇）"]
[null,null,"每小題／格配分：",null,"題數："]
[null,null,"題號","所屬單元","所屬認知層次"]
[{"$f":"IF(C308=\"\",\"\",CONCATENATE(D308,E308))","v":""},{"$f":"IF(C308=\"\",\"\",CONCATENATE($D$305,C308))","v":""},{"$f":"IF($F$306>=ROW($A$1),1,\"\")","v":""}]
[{"$f":"IF(C309=\"\",\"\",CONCATENATE(D309,E309))","v":""},{"$f":"IF(C309=\"\",\"\",CONCATENATE($D$305,C309))","v":""},{"$f":"IF($F$306>=ROW($A2),C308+1,\"\")","v":""}]
["","",""]
["","",""]
["","",""]
["","",""]
["","",""]
["","",""]
["","",""]
["","",""]
["","",""]
["","",""]
["","",""]
["","",""]
["","",""]
["","",""]
["","",""]
["","",""]
["","",""]
[{"$f":"IF(C327=\"\",\"\",CONCATENATE(D327,E327))","v":""},{"$f":"IF(C327=\"\",\"\",CONCATENATE($D$305,C327))","v":""},{"$f":"IF($F$306>=ROW($A20),C326+1,\"\")","v":""}]
["","",""]
["","",""]
["","",""]
["","",""]
["","",""]
["","",""]
["","",""]
["","",""]
["","",""]
["","",""]
["","",""]
["","",""]
["","",""]
["","",""]
["","",""]
["","",""]
["","",""]
["","",""]
["","",""]
["","",""]
[null,null,"第9大題題型：","閱讀測驗","（請選擇）"]
[null,null,"每小題／格配分：",null,"題數："]
[null,null,"題號","所屬單元","所屬認知層次"]
[{"$f":"IF(C351=\"\",\"\",CONCATENATE(D351,E351))","v":""},{"$f":"IF(C351=\"\",\"\",CONCATENATE($D$348,C351))","v":""},{"$f":"IF($F$349>=ROW($A$1),1,\"\")","v":""}]
[{"$f":"IF(C352=\"\",\"\",CONCATENATE(D352,E352))","v":""},{"$f":"IF(C352=\"\",\"\",CONCATENATE($D$348,C352))","v":""},{"$f":"IF($F$349>=ROW($A2),C351+1,\"\")","v":""}]
["","",""]
["","",""]
["","",""]
["","",""]
["","",""]
["","",""]
["","",""]
["","",""]
["","",""]
["","",""]
["","",""]
["","",""]
["","",""]
["","",""]
["","",""]
["","",""]
["","",""]
[{"$f":"IF(C370=\"\",\"\",CONCATENATE(D370,E370))","v":""},"",{"$f":"IF($F$349>=ROW($A20),C369+1,\"\")","v":""}]
["","",""]
["","",""]
["","",""]
["","",""]
["","",""]
["","",""]
["","",""]
["","",""]
["","",""]
["","",""]
["","",""]
["","",""]
["","",""]
["","",""]
["","",""]
["","",""]
["","",""]
["","",""]
["","",""]
["","",""]
[null,null,"第10大題題型：","完成統計表並回答下面問題","（請選擇）"]
[null,null,"每小題／格配分：",null,"題數："]
[null,null,"題號","所屬單元","所屬認知層次"]
[{"$f":"IF(C394=\"\",\"\",CONCATENATE(D394,E394))","v":""},{"$f":"IF(C394=\"\",\"\",CONCATENATE($D$391,C394))","v":""},{"$f":"IF($F$392>=ROW($A$1),1,\"\")","v":""}]
[{"$f":"IF(C395=\"\",\"\",CONCATENATE(D395,E395))","v":""},{"$f":"IF(C395=\"\",\"\",CONCATENATE($D$391,C395))","v":""},{"$f":"IF($F$392>=ROW($A2),C394+1,\"\")","v":""}]
["","",{"$f":"IF($F$392>=ROW($A3),C395+1,\"\")","v":""}]
["","",""]
["","",""]
["","",""]
["","",""]
["","",""]
["","",""]
["","",""]
["","",""]
["","",""]
["","",""]
["","",""]
["","",""]
["","",""]
["","",""]
["","",""]
["","",""]
[{"$f":"IF(C413=\"\",\"\",CONCATENATE(D413,E413))","v":""},"",{"$f":"IF($F$392>=ROW($A20),C412+1,\"\")","v":""}]
["","",""]
["","",""]
["","",""]
["","",""]
["","",""]
["","",""]
["","",""]
["","",""]
["","",""]
["","",""]
["","",""]
["","",""]
["","",""]
["","",""]
["","",""]
["","",""]
["","",""]
["","",""]
["","",""]
["","",""]
[null,null,"第11大題題型：","畫○做做看","（請選擇）"]
[null,null,"每小題／格配分：",null,"題數："]
[null,null,"題號","所屬單元","所屬認知層次"]
[{"$f":"IF(C437=\"\",\"\",CONCATENATE(D437,E437))","v":""},{"$f":"IF(C437=\"\",\"\",CONCATENATE($D$434,C437))","v":""},{"$f":"IF($F$435>=ROW($A$1),1,\"\")","v":""}]
[{"$f":"IF(C438=\"\",\"\",CONCATENATE(D438,E438))","v":""},{"$f":"IF(C438=\"\",\"\",CONCATENATE($D$434,C438))","v":""},{"$f":"IF($F$435>=ROW($A2),C437+1,\"\")","v":""}]
["","",{"$f":"IF($F$435>=ROW($A3),C438+1,\"\")","v":""}]
["","",""]
["","",""]
["","",""]
["","",""]
["","",""]
["","",""]
["","",""]
["","",""]
["","",""]
["","",""]
["","",""]
["","",""]
["","",""]
["","",""]
["","",""]
["","",""]
["","",""]
["","",""]
["","",""]
["","",""]
["","",""]
["","",""]
["","",""]
["","",""]
["","",""]
["","",""]
["","",""]
["","",""]
["","",""]
["","",""]
["","",""]
["","",""]
["","",""]
["","",""]
["","",""]
["","",""]
["","",""]
[null,null,"第12大題題型：","寫出算式做做看","（請選擇）"]
[null,null,"每小題／格配分：",null,"題數："]
[null,null,"題號","所屬單元","所屬認知層次"]
[{"$f":"IF(C480=\"\",\"\",CONCATENATE(D480,E480))","v":""},{"$f":"IF(C480=\"\",\"\",CONCATENATE($D$477,C480))","v":""},{"$f":"IF($F$478>=ROW($A$1),1,\"\")","v":""}]
[{"$f":"IF(C481=\"\",\"\",CONCATENATE(D481,E481))","v":""},{"$f":"IF(C481=\"\",\"\",CONCATENATE($D$477,C481))","v":""},{"$f":"IF($F$478>=ROW($A2),C480+1,\"\")","v":""}]
["","",{"$f":"IF($F$478>=ROW($A3),C481+1,\"\")","v":""}]
["","",""]
["","",""]
["","",""]
["","",""]
["","",""]
["","",""]
["","",""]
["","",""]
["","",""]
["","",""]
["","",""]
["","",""]
["","",""]
["","",""]
["","",""]
["","",""]
["","",""]
["","",""]
["","",""]
["","",""]
["","",""]
["","",""]
["","",""]
["","",""]
["","",""]
["","",""]
["","",""]
["","",""]
["","",""]
["","",""]
["","",""]
["","",""]
["","",""]
["","",""]
["","",""]
["","",""]
["","",""]
[null,null,"第13大題題型：","標點符號","（請選擇）"]
[null,null,"每小題／格配分：",null,"題數："]
[null,null,"題號","所屬單元","所屬認知層次"]
[{"$f":"IF(C523=\"\",\"\",CONCATENATE(D523,E523))","v":""},{"$f":"IF(C523=\"\",\"\",CONCATENATE($D$520,C523))","v":""},{"$f":"IF($F$521>=ROW($A$1),1,\"\")","v":""}]
[{"$f":"IF(C524=\"\",\"\",CONCATENATE(D524,E524))","v":""},{"$f":"IF(C524=\"\",\"\",CONCATENATE($D$520,C524))","v":""},{"$f":"IF($F$521>=ROW($A2),C523+1,\"\")","v":""}]
["","",{"$f":"IF($F$521>=ROW($A3),C524+1,\"\")","v":""}]
["","",""]
["","",""]
["","",""]
["","",""]
["","",""]
["","",""]
["","",""]
["","",""]
["","",""]
["","",""]
["","",""]
["","",""]
["","",""]
["","",""]
["","",""]
["","",""]
["","",""]
["","",""]
["","",""]
["","",""]
["","",""]
["","",""]
["","",""]
["","",""]
["","",""]
["","",""]
["","",""]
["","",""]
["","",""]
["","",""]
["","",""]
["","",""]
["","",""]
["","",""]
["","",""]
["","",""]
["","",""]
[null,null,"第14大題題型：","標點符號","（請選擇）"]
[null,null,"每小題／格配分：",null,"題數："]
[null,null,"題號","所屬單元","所屬認知層次"]
[{"$f":"IF(C566=\"\",\"\",CONCATENATE(D566,E566))","v":""},{"$f":"IF(C566=\"\",\"\",CONCATENATE($D$563,C566))","v":""},{"$f":"IF($F$564>=ROW($A$1),1,\"\")","v":""}]
[{"$f":"IF(C567=\"\",\"\",CONCATENATE(D567,E567))","v":""},{"$f":"IF(C567=\"\",\"\",CONCATENATE($D$563,C567))","v":""},{"$f":"IF($F$564>=ROW($A2),C566+1,\"\")","v":""}]
["","",{"$f":"IF($F$564>=ROW($A3),C567+1,\"\")","v":""}]
["","",""]
["","",""]
["","",""]
["","",""]
["","",""]
["","",""]
["","",""]
["","",""]
["","",""]
["","",""]
["","",""]
["","",""]
["","",""]
["","",""]
["","",""]
["","",""]
["","",""]
["","",""]
["","",""]
["","",""]
["","",""]
["","",""]
["","",""]
["","",""]
["","",""]
["","",""]
["","",""]
["","",""]
["","",""]
["","",""]
["","",""]
["","",""]
["","",""]
["","",""]
["","",""]
["","",""]
["","",""]
[null,null,"第15大題題型：","標點符號","（請選擇）"]
[null,null,"每小題／格配分：",null,"題數："]
[null,null,"題號","所屬單元","所屬認知層次"]
[{"$f":"IF(C609=\"\",\"\",CONCATENATE(D609,E609))","v":""},{"$f":"IF(C609=\"\",\"\",CONCATENATE($D$606,C609))","v":""},{"$f":"IF($F$607>=ROW($A$1),1,\"\")","v":""}]
[{"$f":"IF(C610=\"\",\"\",CONCATENATE(D610,E610))","v":""},{"$f":"IF(C610=\"\",\"\",CONCATENATE($D$606,C610))","v":""},{"$f":"IF($F$607>=ROW($A2),C609+1,\"\")","v":""}]
["","",{"$f":"IF($F$607>=ROW($A3),C610+1,\"\")","v":""}]
["","",""]
["","",""]
["","",""]
["","",""]
["","",""]
["","",""]
["","",""]
["","",""]
["","",""]
["","",""]
["","",""]
["","",""]
["","",""]
["","",""]
["","",""]
["","",""]
["","",""]
["","",""]
["","",""]
["","",""]
["","",""]
["","",""]
["","",""]
["","",""]
["","",""]
["","",""]
["","",""]
["","",""]
["","",""]
["","",""]
["","",""]
["","",""]
["","",""]
["","",""]
["","",""]
["","",""]
["","",""]

{"sheet":"輸出雙向細目表","index":1,"n_rows":13,"n_cols":22,"rows_kept":13,"cut":false,"hidden":false,"merged":[[1,21,2,21],[1,17,1,18],[1,19,1,20],[10,9,10,10],[10,11,10,12],[10,13,10,14],[10,15,10,16],[10,17,10,18],[10,19,10,20],[0,15,0,16],[1,9,1,10],[1,11,1,12],[1,13,1,14],[1,15,1,16]]}
[null,{"$f":"CONCATENATE(\"學科領域：【\",IF(輸入表單!D1=0,\"首冊\",CONCATENATE(輸入表單!D1,\"年級\")),輸入表單!D2,\"】\")","v":"學科領域：【2年級英語】"},null,{"$f":"CONCATENATE(輸入表單!C3,輸入表單!D3)","v":"版本：翰林"},"命題教師簽章：",null,null,null,"二、試題分析雙向細目表：",{"$nulls":6},"分析．評鑑．創作"]
[null,"一、試卷命題自我檢核：",{"$nulls":6},"認知層次","記憶",null,"了解",null,"應用",null,"高層次思考",null,"評鑑",null,"創作",null,"合計"]
[null,"單元名稱","教學目標","上課節數","理想配分(％)","實際配分(％)",null,null,"單元名稱","題號","配分",{"$f":"$J$3","v":"題號"},{"$f":"$K$3","v":"配分"},{"$f":"$J$3","v":"題號"},{"$f":"$K$3","v":"配分"},{"$f":"$J$3","v":"題號"},{"$f":"$K$3","v":"配分"},{"$f":"$J$3","v":"題號"},{"$f":"$K$3","v":"配分"},{"$f":"$J$3","v":"題號"},{"$f":"$K$3","v":"配分"}]
[{"$f":"CONCATENATE(輸入表單!D1,輸入表單!D2,data!B2)","v":"2英語1"},{"$f":"IF(A4=\"\",\"\",VLOOKUP(A4,data!$C$2:$D$310,2,FALSE))","v":"1.Nn Oo"},{"$f":"IF(A4=\"\",\"\",VLOOKUP(A4,data!$C$2:$E$300,3,FALSE))","v":0},5,{"$f":"IF(D4=\"\",\"\",ROUND((D4/$D$11),4))","v":0.33329999999999999},{"$f":"((COUNTIF(輸入表單!$D$7:$D$46,data!$B$2)*輸入表單!$D$5)+(COUNTIF(輸入表單!$D$50:$D$89,data!$B$2)*輸入表單!$D$48)+(COUNTIF(輸入表單!$D$93:$D$132,data!$B$2)*輸入表單!$D$91)+(COUNTIF(輸入表單!$D$136:$D$175,data!$B$2)*輸入表單!$D$134)+(COUNTIF(輸入表單!$D$179:$D$218,data!$B$2)*輸入表單!$D$177)+(COUNTIF(輸入表單!$D$222:$D$261,data!$B$2)*輸入表單!$D$220)+(COUNTIF(輸入表單!$D$265:$D$304,data!$B$2)*輸入表單!$D$263)+(COUNTIF(輸入表單!$D$308:$D$347,data!$B$2)*輸入表單!$D$306)+(COUNTIF(輸入表單!$D$351:$D$390,data!$B$2)*輸入表單!$D$349)+(COUNTIF(輸入表單!$D$394:$D$433,data!$B$2)*輸入表單!$D$392)+(COUNTIF(輸入表單!$D$437:$D$476,data!$B$2)*輸入表單!$D$435)+(COUNTIF(輸入表單!$D$480:$D$519,data!$B$2)*輸入表單!$D$478)+(COUNTIF(輸入表單!$D$523:$D$562,data!$B$2)*輸入表單!$D$521)+(COUNTIF(輸入表單!$D$566:$D$605,data!$B$2)*輸入表單!$D$564)+(COUNTIF(輸入表單!$D$609:$D$648,data!$B$2)*輸入表單!$D$607))/$V$11","v":{"$error":"#DIV/0!"}},null,null,{"$f":"IF(B4=\"\",\"\",B4)","v":"1.Nn Oo"},{"$f":"VLOOKUP(data!$B$2&輸出雙向細目表!$J$2,data!$H$27:$I$86,2,FALSE)","v":""},{"$f":"(COUNTIF(輸入表單!$A$7:$A$46,data!$B$2&$J$2)*輸入表單!$D$5)+(COUNTIF(輸入表單!$A$50:$A$89,data!$B$2&$J$2)*輸入表單!$D$48)+(COUNTIF(輸入表單!$A$93:$A$132,data!$B$2&$J$2)*輸入表單!$D$91)+(COUNTIF(輸入表單!$A$136:$A$175,data!$B$2&$J$2)*輸入表單!$D$134)+(COUNTIF(輸入表單!$A$179:$A$218,data!$B$2&$J$2)*輸入表單!$D$177)+(COUNTIF(輸入表單!$A$222:$A$261,data!$B$2&$J$2)*輸入表單!$D$220)+(COUNTIF(輸入表單!$A$265:$A$304,data!$B$2&$J$2)*輸入表單!$D$263)+(COUNTIF(輸入表單!$A$308:$A$347,data!$B$2&$J$2)*輸入表單!$D$306)+(COUNTIF(輸入表單!$A$351:$A$390,data!$B$2&$J$2)*輸入表單!$D$349)+(COUNTIF(輸入表單!$A$394:$A$433,data!$B$2&$J$2)*輸入表單!$D$392)+(COUNTIF(輸入表單!$A$437:$A$476,data!$B$2&$J$2)*輸入表單!$D$435)+(COUNTIF(輸入表單!$A$480:$A$519,data!$B$2&$J$2)*輸入表單!$D$478)+(COUNTIF(輸入表單!$A$523:$A$562,data!$B$2&$J$2)*輸入表單!$D$521)+(COUNTIF(輸入表單!$A$566:$A$605,data!$B$2&$J$2)*輸入表單!$D$564)+(COUNTIF(輸入表單!$A$609:$A$648,data!$B$2&$J$2)*輸入表單!$D$607)","v":0},{"$f":"VLOOKUP(data!$B$2&輸出雙向細目表!$L$2,data!$H$27:$I$86,2,FALSE)","v":""},{"$f":"(COUNTIF(輸入表單!$A$7:$A$46,data!$B$2&$L$2)*輸入表單!$D$5)+(COUNTIF(輸入表單!$A$50:$A$89,data!$B$2&$L$2)*輸入表單!$D$48)+(COUNTIF(輸入表單!$A$93:$A$132,data!$B$2&$L$2)*輸入表單!$D$91)+(COUNTIF(輸入表單!$A$136:$A$175,data!$B$2&$L$2)*輸入表單!$D$134)+(COUNTIF(輸入表單!$A$179:$A$218,data!$B$2&$L$2)*輸入表單!$D$177)+(COUNTIF(輸入表單!$A$222:$A$261,data!$B$2&$L$2)*輸入表單!$D$220)+(COUNTIF(輸入表單!$A$265:$A$304,data!$B$2&$L$2)*輸入表單!$D$263)+(COUNTIF(輸入表單!$A$308:$A$347,data!$B$2&$L$2)*輸入表單!$D$306)+(COUNTIF(輸入表單!$A$351:$A$390,data!$B$2&$L$2)*輸入表單!$D$349)+(COUNTIF(輸入表單!$A$394:$A$433,data!$B$2&$L$2)*輸入表單!$D$392)+(COUNTIF(輸入表單!$A$437:$A$476,data!$B$2&$L$2)*輸入表單!$D$435)+(COUNTIF(輸入表單!$A$480:$A$519,data!$B$2&$L$2)*輸入表單!$D$478)+(COUNTIF(輸入表單!$A$523:$A$562,data!$B$2&$L$2)*輸入表單!$D$521)+(COUNTIF(輸入表單!$A$566:$A$605,data!$B$2&$L$2)*輸入表單!$D$564)+(COUNTIF(輸入表單!$A$609:$A$648,data!$B$2&$L$2)*輸入表單!$D$607)","v":0},{"$f":"VLOOKUP(data!$B$2&輸出雙向細目表!$N$2,data!$H$27:$I$86,2,FALSE)","v":""},{"$f":"(COUNTIF(輸入表單!$A$7:$A$46,data!$B$2&$N$2)*輸入表單!$D$5)+(COUNTIF(輸入表單!$A$50:$A$89,data!$B$2&$N$2)*輸入表單!$D$48)+(COUNTIF(輸入表單!$A$93:$A$132,data!$B$2&$N$2)*輸入表單!$D$91)+(COUNTIF(輸入表單!$A$136:$A$175,data!$B$2&$N$2)*輸入表單!$D$134)+(COUNTIF(輸入表單!$A$179:$A$218,data!$B$2&$N$2)*輸入表單!$D$177)+(COUNTIF(輸入表單!$A$222:$A$261,data!$B$2&$N$2)*輸入表單!$D$220)+(COUNTIF(輸入表單!$A$265:$A$304,data!$B$2&$N$2)*輸入表單!$D$263)+(COUNTIF(輸入表單!$A$308:$A$347,data!$B$2&$N$2)*輸入表單!$D$306)+(COUNTIF(輸入表單!$A$351:$A$390,data!$B$2&$N$2)*輸入表單!$D$349)+(COUNTIF(輸入表單!$A$394:$A$433,data!$B$2&$N$2)*輸入表單!$D$392)+(COUNTIF(輸入表單!$A$437:$A$476,data!$B$2&$N$2)*輸入表單!$D$435)+(COUNTIF(輸入表單!$A$480:$A$519,data!$B$2&$N$2)*輸入表單!$D$478)+(COUNTIF(輸入表單!$A$523:$A$562,data!$B$2&$N$2)*輸入表單!$D$521)+(COUNTIF(輸入表單!$A$566:$A$605,data!$B$2&$N$2)*輸入表單!$D$564)+(COUNTIF(輸入表單!$A$609:$A$648,data!$B$2&$N$2)*輸入表單!$D$607)","v":0},{"$f":"VLOOKUP(data!$B$2&輸出雙向細目表!$P$2,data!$H$27:$I$86,2,FALSE)","v":""},{"$f":"(COUNTIF(輸入表單!$A$7:$A$46,data!$B$2&$P$2)*輸入表單!$D$5)+(COUNTIF(輸入表單!$A$50:$A$89,data!$B$2&$P$2)*輸入表單!$D$48)+(COUNTIF(輸入表單!$A$93:$A$132,data!$B$2&$P$2)*輸入表單!$D$91)+(COUNTIF(輸入表單!$A$136:$A$175,data!$B$2&$P$2)*輸入表單!$D$134)+(COUNTIF(輸入表單!$A$179:$A$218,data!$B$2&$P$2)*輸入表單!$D$177)+(COUNTIF(輸入表單!$A$222:$A$261,data!$B$2&$P$2)*輸入表單!$D$220)+(COUNTIF(輸入表單!$A$265:$A$304,data!$B$2&$P$2)*輸入表單!$D$263)+(COUNTIF(輸入表單!$A$308:$A$347,data!$B$2&$P$2)*輸入表單!$D$306)+(COUNTIF(輸入表單!$A$351:$A$390,data!$B$2&$P$2)*輸入表單!$D$349)+(COUNTIF(輸入表單!$A$394:$A$433,data!$B$2&$P$2)*輸入表單!$D$392)+(COUNTIF(輸入表單!$A$437:$A$476,data!$B$2&$P$2)*輸入表單!$D$435)+(COUNTIF(輸入表單!$A$480:$A$519,data!$B$2&$P$2)*輸入表單!$D$478)+(COUNTIF(輸入表單!$A$523:$A$562,data!$B$2&$P$2)*輸入表單!$D$521)+(COUNTIF(輸入表單!$A$566:$A$605,data!$B$2&$P$2)*輸入表單!$D$564)+(COUNTIF(輸入表單!$A$609:$A$648,data!$B$2&$P$2)*輸入表單!$D$607)","v":0},{"$f":"VLOOKUP(data!$B$2&輸出雙向細目表!$R$2,data!$H$27:$I$86,2,FALSE)","v":""},{"$f":"(COUNTIF(輸入表單!$A$7:$A$46,data!$B$2&$R$2)*輸入表單!$D$5)+(COUNTIF(輸入表單!$A$50:$A$89,data!$B$2&$R$2)*輸入表單!$D$48)+(COUNTIF(輸入表單!$A$93:$A$132,data!$B$2&$R$2)*輸入表單!$D$91)+(COUNTIF(輸入表單!$A$136:$A$175,data!$B$2&$R$2)*輸入表單!$D$134)+(COUNTIF(輸入表單!$A$179:$A$218,data!$B$2&$R$2)*輸入表單!$D$177)+(COUNTIF(輸入表單!$A$222:$A$261,data!$B$2&$R$2)*輸入表單!$D$220)+(COUNTIF(輸入表單!$A$265:$A$304,data!$B$2&$R$2)*輸入表單!$D$263)+(COUNTIF(輸入表單!$A$308:$A$347,data!$B$2&$R$2)*輸入表單!$D$306)+(COUNTIF(輸入表單!$A$351:$A$390,data!$B$2&$R$2)*輸入表單!$D$349)+(COUNTIF(輸入表單!$A$394:$A$433,data!$B$2&$R$2)*輸入表單!$D$392)+(COUNTIF(輸入表單!$A$437:$A$476,data!$B$2&$R$2)*輸入表單!$D$435)+(COUNTIF(輸入表單!$A$480:$A$519,data!$B$2&$R$2)*輸入表單!$D$478)+(COUNTIF(輸入表單!$A$523:$A$562,data!$B$2&$R$2)*輸入表單!$D$521)+(COUNTIF(輸入表單!$A$566:$A$605,data!$B$2&$R$2)*輸入表單!$D$564)+(COUNTIF(輸入表單!$A$609:$A$648,data!$B$2&$R$2)*輸入表單!$D$607)","v":0},{"$f":"VLOOKUP(data!$B$2&輸出雙向細目表!$T$2,data!$H$27:$I$86,2,FALSE)","v":""},{"$f":"(COUNTIF(輸入表單!$A$7:$A$46,data!$B$2&$T$2)*輸入表單!$D$5)+(COUNTIF(輸入表單!$A$50:$A$89,data!$B$2&$T$2)*輸入表單!$D$48)+(COUNTIF(輸入表單!$A$93:$A$132,data!$B$2&$T$2)*輸入表單!$D$91)+(COUNTIF(輸入表單!$A$136:$A$175,data!$B$2&$T$2)*輸入表單!$D$134)+(COUNTIF(輸入表單!$A$179:$A$218,data!$B$2&$T$2)*輸入表單!$D$177)+(COUNTIF(輸入表單!$A$222:$A$261,data!$B$2&$T$2)*輸入表單!$D$220)+(COUNTIF(輸入表單!$A$265:$A$304,data!$B$2&$T$2)*輸入表單!$D$263)+(COUNTIF(輸入表單!$A$308:$A$347,data!$B$2&$T$2)*輸入表單!$D$306)+(COUNTIF(輸入表單!$A$351:$A$390,data!$B$2&$T$2)*輸入表單!$D$349)+(COUNTIF(輸入表單!$A$394:$A$433,data!$B$2&$T$2)*輸入表單!$D$392)+(COUNTIF(輸入表單!$A$437:$A$476,data!$B$2&$T$2)*輸入表單!$D$435)+(COUNTIF(輸入表單!$A$480:$A$519,data!$B$2&$T$2)*輸入表單!$D$478)+(COUNTIF(輸入表單!$A$523:$A$562,data!$B$2&$T$2)*輸入表單!$D$521)+(COUNTIF(輸入表單!$A$566:$A$605,data!$B$2&$T$2)*輸入表單!$D$564)+(COUNTIF(輸入表單!$A$609:$A$648,data!$B$2&$T$2)*輸入表單!$D$607)","v":0},{"$f":"K4+M4+O4+Q4+S4+U4","v":0}]
[{"$f":"IF(data!$B$3<data!$B$2+(ROW(A1)),\"\",CONCATENATE(輸入表單!$D$1,輸入表單!$D$2,data!$B$2+(ROW(A1))))","v":"2英語2"},{"$f":"IF(A5=\"\",\"\",VLOOKUP(A5,data!$C$2:$D$310,2,FALSE))","v":"2.Pp Qq"},{"$f":"IF(A5=\"\",\"\",VLOOKUP(A5,data!$C$2:$E$300,3,FALSE))","v":0},{"$f":"IF(A5=\"\",\"\",VLOOKUP(A5,data!$C$2:$F$300,4,FALSE))","v":0},0,{"$f":"((COUNTIF(輸入表單!$D$7:$D$46,(data!$B$2+ROW(A1)))*輸入表單!$D$5)+(COUNTIF(輸入表單!$D$50:$D$89,(data!$B$2+ROW(A1)))*輸入表單!$D$48)+(COUNTIF(輸入表單!$D$93:$D$132,(data!$B$2+ROW(A1)))*輸入表單!$D$91)+(COUNTIF(輸入表單!$D$136:$D$175,(data!$B$2+ROW(A1)))*輸入表單!$D$134)+(COUNTIF(輸入表單!$D$179:$D$218,(data!$B$2+ROW(A1)))*輸入表單!$D$177)+(COUNTIF(輸入表單!$D$222:$D$261,(data!$B$2+ROW(A1)))*輸入表單!$D$220)+(COUNTIF(輸入表單!$D$265:$D$304,(data!$B$2+ROW(A1)))*輸入表單!$D$263)+(COUNTIF(輸入表單!$D$308:$D$347,(data!$B$2+ROW(A1)))*輸入表單!$D$306)+(COUNTIF(輸入表單!$D$351:$D$390,(data!$B$2+ROW(A1)))*輸入表單!$D$349)+(COUNTIF(輸入表單!$D$394:$D$433,(data!$B$2+ROW(A1)))*輸入表單!$D$392)+(COUNTIF(輸入表單!$D$437:$D$476,(data!$B$2+ROW(A1)))*輸入表單!$D$435)+(COUNTIF(輸入表單!$D$480:$D$519,(data!$B$2+ROW(A1)))*輸入表單!$D$478)+(COUNTIF(輸入表單!$D$523:$D$562,(data!$B$2+ROW(A1)))*輸入表單!$D$521)+(COUNTIF(輸入表單!$D$566:$D$605,(data!$B$2+ROW(A1)))*輸入表單!$D$564)+(COUNTIF(輸入表單!$D$609:$D$648,(data!$B$2+ROW(A1)))*輸入表單!$D$607))/$V$11","v":{"$error":"#DIV/0!"}},null,null,{"$f":"IF(B5=\"\",\"\",B5)","v":"2.Pp Qq"},{"$f":"VLOOKUP((data!$B$2+ROW(A1))&輸出雙向細目表!$J$2,data!$H$27:$I$86,2,FALSE)","v":""},{"$f":"(COUNTIF(輸入表單!$A$7:$A$46,(data!$B$2+ROW(A1))&$J$2)*輸入表單!$D$5)+(COUNTIF(輸入表單!$A$50:$A$89,(data!$B$2+ROW(A1))&$J$2)*輸入表單!$D$48)+(COUNTIF(輸入表單!$A$93:$A$132,(data!$B$2+ROW(A1))&$J$2)*輸入表單!$D$91)+(COUNTIF(輸入表單!$A$136:$A$175,(data!$B$2+ROW(A1))&$J$2)*輸入表單!$D$134)+(COUNTIF(輸入表單!$A$179:$A$218,(data!$B$2+ROW(A1))&$J$2)*輸入表單!$D$177)+(COUNTIF(輸入表單!$A$222:$A$261,(data!$B$2+ROW(A1))&$J$2)*輸入表單!$D$220)+(COUNTIF(輸入表單!$A$265:$A$304,(data!$B$2+ROW(A1))&$J$2)*輸入表單!$D$263)+(COUNTIF(輸入表單!$A$308:$A$347,(data!$B$2+ROW(A1))&$J$2)*輸入表單!$D$306)+(COUNTIF(輸入表單!$A$351:$A$390,(data!$B$2+ROW(A1))&$J$2)*輸入表單!$D$349)+(COUNTIF(輸入表單!$A$394:$A$433,(data!$B$2+ROW(A1))&$J$2)*輸入表單!$D$392)+(COUNTIF(輸入表單!$A$437:$A$476,(data!$B$2+ROW(A1))&$J$2)*輸入表單!$D$435)+(COUNTIF(輸入表單!$A$480:$A$519,(data!$B$2+ROW(A1))&$J$2)*輸入表單!$D$478)+(COUNTIF(輸入表單!$A$523:$A$562,(data!$B$2+ROW(A1))&$J$2)*輸入表單!$D$521)+(COUNTIF(輸入表單!$A$566:$A$605,(data!$B$2+ROW(A1))&$J$2)*輸入表單!$D$564)+(COUNTIF(輸入表單!$A$609:$A$648,(data!$B$2+ROW(A1))&$J$2)*輸入表單!$D$607)","v":0},{"$f":"VLOOKUP((data!$B$2+ROW(A1))&輸出雙向細目表!$L$2,data!$H$27:$I$86,2,FALSE)","v":""},{"$f":"(COUNTIF(輸入表單!$A$7:$A$46,(data!$B$2+ROW(A1))&$L$2)*輸入表單!$D$5)+(COUNTIF(輸入表單!$A$50:$A$89,(data!$B$2+ROW(A1))&$L$2)*輸入表單!$D$48)+(COUNTIF(輸入表單!$A$93:$A$132,(data!$B$2+ROW(A1))&$L$2)*輸入表單!$D$91)+(COUNTIF(輸入表單!$A$136:$A$175,(data!$B$2+ROW(A1))&$L$2)*輸入表單!$D$134)+(COUNTIF(輸入表單!$A$179:$A$218,(data!$B$2+ROW(A1))&$L$2)*輸入表單!$D$177)+(COUNTIF(輸入表單!$A$222:$A$261,(data!$B$2+ROW(A1))&$L$2)*輸入表單!$D$220)+(COUNTIF(輸入表單!$A$265:$A$304,(data!$B$2+ROW(A1))&$L$2)*輸入表單!$D$263)+(COUNTIF(輸入表單!$A$308:$A$347,(data!$B$2+ROW(A1))&$L$2)*輸入表單!$D$306)+(COUNTIF(輸入表單!$A$351:$A$390,(data!$B$2+ROW(A1))&$L$2)*輸入表單!$D$349)+(COUNTIF(輸入表單!$A$394:$A$433,(data!$B$2+ROW(A1))&$L$2)*輸入表單!$D$392)+(COUNTIF(輸入表單!$A$437:$A$476,(data!$B$2+ROW(A1))&$L$2)*輸入表單!$D$435)+(COUNTIF(輸入表單!$A$480:$A$519,(data!$B$2+ROW(A1))&$L$2)*輸入表單!$D$478)+(COUNTIF(輸入表單!$A$523:$A$562,(data!$B$2+ROW(A1))&$L$2)*輸入表單!$D$521)+(COUNTIF(輸入表單!$A$566:$A$605,(data!$B$2+ROW(A1))&$L$2)*輸入表單!$D$564)+(COUNTIF(輸入表單!$A$609:$A$648,(data!$B$2+ROW(A1))&$L$2)*輸入表單!$D$607)","v":0},{"$f":"VLOOKUP((data!$B$2+ROW(A1))&輸出雙向細目表!$N$2,data!$H$27:$I$86,2,FALSE)","v":""},{"$f":"(COUNTIF(輸入表單!$A$7:$A$46,(data!$B$2+ROW(A1))&$N$2)*輸入表單!$D$5)+(COUNTIF(輸入表單!$A$50:$A$89,(data!$B$2+ROW(A1))&$N$2)*輸入表單!$D$48)+(COUNTIF(輸入表單!$A$93:$A$132,(data!$B$2+ROW(A1))&$N$2)*輸入表單!$D$91)+(COUNTIF(輸入表單!$A$136:$A$175,(data!$B$2+ROW(A1))&$N$2)*輸入表單!$D$134)+(COUNTIF(輸入表單!$A$179:$A$218,(data!$B$2+ROW(A1))&$N$2)*輸入表單!$D$177)+(COUNTIF(輸入表單!$A$222:$A$261,(data!$B$2+ROW(A1))&$N$2)*輸入表單!$D$220)+(COUNTIF(輸入表單!$A$265:$A$304,(data!$B$2+ROW(A1))&$N$2)*輸入表單!$D$263)+(COUNTIF(輸入表單!$A$308:$A$347,(data!$B$2+ROW(A1))&$N$2)*輸入表單!$D$306)+(COUNTIF(輸入表單!$A$351:$A$390,(data!$B$2+ROW(A1))&$N$2)*輸入表單!$D$349)+(COUNTIF(輸入表單!$A$394:$A$433,(data!$B$2+ROW(A1))&$N$2)*輸入表單!$D$392)+(COUNTIF(輸入表單!$A$437:$A$476,(data!$B$2+ROW(A1))&$N$2)*輸入表單!$D$435)+(COUNTIF(輸入表單!$A$480:$A$519,(data!$B$2+ROW(A1))&$N$2)*輸入表單!$D$478)+(COUNTIF(輸入表單!$A$523:$A$562,(data!$B$2+ROW(A1))&$N$2)*輸入表單!$D$521)+(COUNTIF(輸入表單!$A$566:$A$605,(data!$B$2+ROW(A1))&$N$2)*輸入表單!$D$564)+(COUNTIF(輸入表單!$A$609:$A$648,(data!$B$2+ROW(A1))&$N$2)*輸入表單!$D$607)","v":0},{"$f":"VLOOKUP((data!$B$2+ROW(A1))&輸出雙向細目表!$P$2,data!$H$27:$I$86,2,FALSE)","v":""},{"$f":"(COUNTIF(輸入表單!$A$7:$A$46,(data!$B$2+ROW(A1))&$P$2)*輸入表單!$D$5)+(COUNTIF(輸入表單!$A$50:$A$89,(data!$B$2+ROW(A1))&$P$2)*輸入表單!$D$48)+(COUNTIF(輸入表單!$A$93:$A$132,(data!$B$2+ROW(A1))&$P$2)*輸入表單!$D$91)+(COUNTIF(輸入表單!$A$136:$A$175,(data!$B$2+ROW(A1))&$P$2)*輸入表單!$D$134)+(COUNTIF(輸入表單!$A$179:$A$218,(data!$B$2+ROW(A1))&$P$2)*輸入表單!$D$177)+(COUNTIF(輸入表單!$A$222:$A$261,(data!$B$2+ROW(A1))&$P$2)*輸入表單!$D$220)+(COUNTIF(輸入表單!$A$265:$A$304,(data!$B$2+ROW(A1))&$P$2)*輸入表單!$D$263)+(COUNTIF(輸入表單!$A$308:$A$347,(data!$B$2+ROW(A1))&$P$2)*輸入表單!$D$306)+(COUNTIF(輸入表單!$A$351:$A$390,(data!$B$2+ROW(A1))&$P$2)*輸入表單!$D$349)+(COUNTIF(輸入表單!$A$394:$A$433,(data!$B$2+ROW(A1))&$P$2)*輸入表單!$D$392)+(COUNTIF(輸入表單!$A$437:$A$476,(data!$B$2+ROW(A1))&$P$2)*輸入表單!$D$435)+(COUNTIF(輸入表單!$A$480:$A$519,(data!$B$2+ROW(A1))&$P$2)*輸入表單!$D$478)+(COUNTIF(輸入表單!$A$523:$A$562,(data!$B$2+ROW(A1))&$P$2)*輸入表單!$D$521)+(COUNTIF(輸入表單!$A$566:$A$605,(data!$B$2+ROW(A1))&$P$2)*輸入表單!$D$564)+(COUNTIF(輸入表單!$A$609:$A$648,(data!$B$2+ROW(A1))&$P$2)*輸入表單!$D$607)","v":0},{"$f":"VLOOKUP((data!$B$2+ROW(A1))&輸出雙向細目表!$R$2,data!$H$27:$I$86,2,FALSE)","v":""},{"$f":"(COUNTIF(輸入表單!$A$7:$A$46,(data!$B$2+ROW(A1))&$R$2)*輸入表單!$D$5)+(COUNTIF(輸入表單!$A$50:$A$89,(data!$B$2+ROW(A1))&$R$2)*輸入表單!$D$48)+(COUNTIF(輸入表單!$A$93:$A$132,(data!$B$2+ROW(A1))&$R$2)*輸入表單!$D$91)+(COUNTIF(輸入表單!$A$136:$A$175,(data!$B$2+ROW(A1))&$R$2)*輸入表單!$D$134)+(COUNTIF(輸入表單!$A$179:$A$218,(data!$B$2+ROW(A1))&$R$2)*輸入表單!$D$177)+(COUNTIF(輸入表單!$A$222:$A$261,(data!$B$2+ROW(A1))&$R$2)*輸入表單!$D$220)+(COUNTIF(輸入表單!$A$265:$A$304,(data!$B$2+ROW(A1))&$R$2)*輸入表單!$D$263)+(COUNTIF(輸入表單!$A$308:$A$347,(data!$B$2+ROW(A1))&$R$2)*輸入表單!$D$306)+(COUNTIF(輸入表單!$A$351:$A$390,(data!$B$2+ROW(A1))&$R$2)*輸入表單!$D$349)+(COUNTIF(輸入表單!$A$394:$A$433,(data!$B$2+ROW(A1))&$R$2)*輸入表單!$D$392)+(COUNTIF(輸入表單!$A$437:$A$476,(data!$B$2+ROW(A1))&$R$2)*輸入表單!$D$435)+(COUNTIF(輸入表單!$A$480:$A$519,(data!$B$2+ROW(A1))&$R$2)*輸入表單!$D$478)+(COUNTIF(輸入表單!$A$523:$A$562,(data!$B$2+ROW(A1))&$R$2)*輸入表單!$D$521)+(COUNTIF(輸入表單!$A$566:$A$605,(data!$B$2+ROW(A1))&$R$2)*輸入表單!$D$564)+(COUNTIF(輸入表單!$A$609:$A$648,(data!$B$2+ROW(A1))&$R$2)*輸入表單!$D$607)","v":0},{"$f":"VLOOKUP((data!$B$2+ROW(A1))&輸出雙向細目表!$T$2,data!$H$27:$I$86,2,FALSE)","v":""},{"$f":"(COUNTIF(輸入表單!$A$7:$A$46,(data!$B$2+ROW(A1))&$T$2)*輸入表單!$D$5)+(COUNTIF(輸入表單!$A$50:$A$89,(data!$B$2+ROW(A1))&$T$2)*輸入表單!$D$48)+(COUNTIF(輸入表單!$A$93:$A$132,(data!$B$2+ROW(A1))&$T$2)*輸入表單!$D$91)+(COUNTIF(輸入表單!$A$136:$A$175,(data!$B$2+ROW(A1))&$T$2)*輸入表單!$D$134)+(COUNTIF(輸入表單!$A$179:$A$218,(data!$B$2+ROW(A1))&$T$2)*輸入表單!$D$177)+(COUNTIF(輸入表單!$A$222:$A$261,(data!$B$2+ROW(A1))&$T$2)*輸入表單!$D$220)+(COUNTIF(輸入表單!$A$265:$A$304,(data!$B$2+ROW(A1))&$T$2)*輸入表單!$D$263)+(COUNTIF(輸入表單!$A$308:$A$347,(data!$B$2+ROW(A1))&$T$2)*輸入表單!$D$306)+(COUNTIF(輸入表單!$A$351:$A$390,(data!$B$2+ROW(A1))&$T$2)*輸入表單!$D$349)+(COUNTIF(輸入表單!$A$394:$A$433,(data!$B$2+ROW(A1))&$T$2)*輸入表單!$D$392)+(COUNTIF(輸入表單!$A$437:$A$476,(data!$B$2+ROW(A1))&$T$2)*輸入表單!$D$435)+(COUNTIF(輸入表單!$A$480:$A$519,(data!$B$2+ROW(A1))&$T$2)*輸入表單!$D$478)+(COUNTIF(輸入表單!$A$523:$A$562,(data!$B$2+ROW(A1))&$T$2)*輸入表單!$D$521)+(COUNTIF(輸入表單!$A$566:$A$605,(data!$B$2+ROW(A1))&$T$2)*輸入表單!$D$564)+(COUNTIF(輸入表單!$A$609:$A$648,(data!$B$2+ROW(A1))&$T$2)*輸入表單!$D$607)","v":0},0]
[{"$f":"IF(data!$B$3<data!$B$2+(ROW(A2)),\"\",CONCATENATE(輸入表單!$D$1,輸入表單!$D$2,data!$B$2+(ROW(A2))))","v":""},{"$f":"IF(A6=\"\",\"\",VLOOKUP(A6,data!$C$2:$D$310,2,FALSE))","v":""},{"$f":"IF(A6=\"\",\"\",VLOOKUP(A6,data!$C$2:$E$300,3,FALSE))","v":""},10,0.66669999999999996,{"$f":"((COUNTIF(輸入表單!$D$7:$D$46,(data!$B$2+ROW(A2)))*輸入表單!$D$5)+(COUNTIF(輸入表單!$D$50:$D$89,(data!$B$2+ROW(A2)))*輸入表單!$D$48)+(COUNTIF(輸入表單!$D$93:$D$132,(data!$B$2+ROW(A2)))*輸入表單!$D$91)+(COUNTIF(輸入表單!$D$136:$D$175,(data!$B$2+ROW(A2)))*輸入表單!$D$134)+(COUNTIF(輸入表單!$D$179:$D$218,(data!$B$2+ROW(A2)))*輸入表單!$D$177)+(COUNTIF(輸入表單!$D$222:$D$261,(data!$B$2+ROW(A2)))*輸入表單!$D$220)+(COUNTIF(輸入表單!$D$265:$D$304,(data!$B$2+ROW(A2)))*輸入表單!$D$263)+(COUNTIF(輸入表單!$D$308:$D$347,(data!$B$2+ROW(A2)))*輸入表單!$D$306)+(COUNTIF(輸入表單!$D$351:$D$390,(data!$B$2+ROW(A2)))*輸入表單!$D$349)+(COUNTIF(輸入表單!$D$394:$D$433,(data!$B$2+ROW(A2)))*輸入表單!$D$392)+(COUNTIF(輸入表單!$D$437:$D$476,(data!$B$2+ROW(A2)))*輸入表單!$D$435)+(COUNTIF(輸入表單!$D$480:$D$519,(data!$B$2+ROW(A2)))*輸入表單!$D$478)+(COUNTIF(輸入表單!$D$523:$D$562,(data!$B$2+ROW(A2)))*輸入表單!$D$521)+(COUNTIF(輸入表單!$D$566:$D$605,(data!$B$2+ROW(A2)))*輸入表單!$D$564)+(COUNTIF(輸入表單!$D$609:$D$648,(data!$B$2+ROW(A2)))*輸入表單!$D$607))/$V$11","v":{"$error":"#DIV/0!"}},null,null,"",{"$f":"VLOOKUP((data!$B$2+ROW(A2))&輸出雙向細目表!$J$2,data!$H$27:$I$86,2,FALSE)","v":""},{"$f":"(COUNTIF(輸入表單!$A$7:$A$46,(data!$B$2+ROW(A2))&$J$2)*輸入表單!$D$5)+(COUNTIF(輸入表單!$A$50:$A$89,(data!$B$2+ROW(A2))&$J$2)*輸入表單!$D$48)+(COUNTIF(輸入表單!$A$93:$A$132,(data!$B$2+ROW(A2))&$J$2)*輸入表單!$D$91)+(COUNTIF(輸入表單!$A$136:$A$175,(data!$B$2+ROW(A2))&$J$2)*輸入表單!$D$134)+(COUNTIF(輸入表單!$A$179:$A$218,(data!$B$2+ROW(A2))&$J$2)*輸入表單!$D$177)+(COUNTIF(輸入表單!$A$222:$A$261,(data!$B$2+ROW(A2))&$J$2)*輸入表單!$D$220)+(COUNTIF(輸入表單!$A$265:$A$304,(data!$B$2+ROW(A2))&$J$2)*輸入表單!$D$263)+(COUNTIF(輸入表單!$A$308:$A$347,(data!$B$2+ROW(A2))&$J$2)*輸入表單!$D$306)+(COUNTIF(輸入表單!$A$351:$A$390,(data!$B$2+ROW(A2))&$J$2)*輸入表單!$D$349)+(COUNTIF(輸入表單!$A$394:$A$433,(data!$B$2+ROW(A2))&$J$2)*輸入表單!$D$392)+(COUNTIF(輸入表單!$A$437:$A$476,(data!$B$2+ROW(A2))&$J$2)*輸入表單!$D$435)+(COUNTIF(輸入表單!$A$480:$A$519,(data!$B$2+ROW(A2))&$J$2)*輸入表單!$D$478)+(COUNTIF(輸入表單!$A$523:$A$562,(data!$B$2+ROW(A2))&$J$2)*輸入表單!$D$521)+(COUNTIF(輸入表單!$A$566:$A$605,(data!$B$2+ROW(A2))&$J$2)*輸入表單!$D$564)+(COUNTIF(輸入表單!$A$609:$A$648,(data!$B$2+ROW(A2))&$J$2)*輸入表單!$D$607)","v":0},{"$f":"VLOOKUP((data!$B$2+ROW(A2))&輸出雙向細目表!$L$2,data!$H$27:$I$86,2,FALSE)","v":""},{"$f":"(COUNTIF(輸入表單!$A$7:$A$46,(data!$B$2+ROW(A2))&$L$2)*輸入表單!$D$5)+(COUNTIF(輸入表單!$A$50:$A$89,(data!$B$2+ROW(A2))&$L$2)*輸入表單!$D$48)+(COUNTIF(輸入表單!$A$93:$A$132,(data!$B$2+ROW(A2))&$L$2)*輸入表單!$D$91)+(COUNTIF(輸入表單!$A$136:$A$175,(data!$B$2+ROW(A2))&$L$2)*輸入表單!$D$134)+(COUNTIF(輸入表單!$A$179:$A$218,(data!$B$2+ROW(A2))&$L$2)*輸入表單!$D$177)+(COUNTIF(輸入表單!$A$222:$A$261,(data!$B$2+ROW(A2))&$L$2)*輸入表單!$D$220)+(COUNTIF(輸入表單!$A$265:$A$304,(data!$B$2+ROW(A2))&$L$2)*輸入表單!$D$263)+(COUNTIF(輸入表單!$A$308:$A$347,(data!$B$2+ROW(A2))&$L$2)*輸入表單!$D$306)+(COUNTIF(輸入表單!$A$351:$A$390,(data!$B$2+ROW(A2))&$L$2)*輸入表單!$D$349)+(COUNTIF(輸入表單!$A$394:$A$433,(data!$B$2+ROW(A2))&$L$2)*輸入表單!$D$392)+(COUNTIF(輸入表單!$A$437:$A$476,(data!$B$2+ROW(A2))&$L$2)*輸入表單!$D$435)+(COUNTIF(輸入表單!$A$480:$A$519,(data!$B$2+ROW(A2))&$L$2)*輸入表單!$D$478)+(COUNTIF(輸入表單!$A$523:$A$562,(data!$B$2+ROW(A2))&$L$2)*輸入表單!$D$521)+(COUNTIF(輸入表單!$A$566:$A$605,(data!$B$2+ROW(A2))&$L$2)*輸入表單!$D$564)+(COUNTIF(輸入表單!$A$609:$A$648,(data!$B$2+ROW(A2))&$L$2)*輸入表單!$D$607)","v":0},{"$f":"VLOOKUP((data!$B$2+ROW(A2))&輸出雙向細目表!$N$2,data!$H$27:$I$86,2,FALSE)","v":""},{"$f":"(COUNTIF(輸入表單!$A$7:$A$46,(data!$B$2+ROW(A2))&$N$2)*輸入表單!$D$5)+(COUNTIF(輸入表單!$A$50:$A$89,(data!$B$2+ROW(A2))&$N$2)*輸入表單!$D$48)+(COUNTIF(輸入表單!$A$93:$A$132,(data!$B$2+ROW(A2))&$N$2)*輸入表單!$D$91)+(COUNTIF(輸入表單!$A$136:$A$175,(data!$B$2+ROW(A2))&$N$2)*輸入表單!$D$134)+(COUNTIF(輸入表單!$A$179:$A$218,(data!$B$2+ROW(A2))&$N$2)*輸入表單!$D$177)+(COUNTIF(輸入表單!$A$222:$A$261,(data!$B$2+ROW(A2))&$N$2)*輸入表單!$D$220)+(COUNTIF(輸入表單!$A$265:$A$304,(data!$B$2+ROW(A2))&$N$2)*輸入表單!$D$263)+(COUNTIF(輸入表單!$A$308:$A$347,(data!$B$2+ROW(A2))&$N$2)*輸入表單!$D$306)+(COUNTIF(輸入表單!$A$351:$A$390,(data!$B$2+ROW(A2))&$N$2)*輸入表單!$D$349)+(COUNTIF(輸入表單!$A$394:$A$433,(data!$B$2+ROW(A2))&$N$2)*輸入表單!$D$392)+(COUNTIF(輸入表單!$A$437:$A$476,(data!$B$2+ROW(A2))&$N$2)*輸入表單!$D$435)+(COUNTIF(輸入表單!$A$480:$A$519,(data!$B$2+ROW(A2))&$N$2)*輸入表單!$D$478)+(COUNTIF(輸入表單!$A$523:$A$562,(data!$B$2+ROW(A2))&$N$2)*輸入表單!$D$521)+(COUNTIF(輸入表單!$A$566:$A$605,(data!$B$2+ROW(A2))&$N$2)*輸入表單!$D$564)+(COUNTIF(輸入表單!$A$609:$A$648,(data!$B$2+ROW(A2))&$N$2)*輸入表單!$D$607)","v":0},{"$f":"VLOOKUP((data!$B$2+ROW(A2))&輸出雙向細目表!$P$2,data!$H$27:$I$86,2,FALSE)","v":""},{"$f":"(COUNTIF(輸入表單!$A$7:$A$46,(data!$B$2+ROW(A2))&$P$2)*輸入表單!$D$5)+(COUNTIF(輸入表單!$A$50:$A$89,(data!$B$2+ROW(A2))&$P$2)*輸入表單!$D$48)+(COUNTIF(輸入表單!$A$93:$A$132,(data!$B$2+ROW(A2))&$P$2)*輸入表單!$D$91)+(COUNTIF(輸入表單!$A$136:$A$175,(data!$B$2+ROW(A2))&$P$2)*輸入表單!$D$134)+(COUNTIF(輸入表單!$A$179:$A$218,(data!$B$2+ROW(A2))&$P$2)*輸入表單!$D$177)+(COUNTIF(輸入表單!$A$222:$A$261,(data!$B$2+ROW(A2))&$P$2)*輸入表單!$D$220)+(COUNTIF(輸入表單!$A$265:$A$304,(data!$B$2+ROW(A2))&$P$2)*輸入表單!$D$263)+(COUNTIF(輸入表單!$A$308:$A$347,(data!$B$2+ROW(A2))&$P$2)*輸入表單!$D$306)+(COUNTIF(輸入表單!$A$351:$A$390,(data!$B$2+ROW(A2))&$P$2)*輸入表單!$D$349)+(COUNTIF(輸入表單!$A$394:$A$433,(data!$B$2+ROW(A2))&$P$2)*輸入表單!$D$392)+(COUNTIF(輸入表單!$A$437:$A$476,(data!$B$2+ROW(A2))&$P$2)*輸入表單!$D$435)+(COUNTIF(輸入表單!$A$480:$A$519,(data!$B$2+ROW(A2))&$P$2)*輸入表單!$D$478)+(COUNTIF(輸入表單!$A$523:$A$562,(data!$B$2+ROW(A2))&$P$2)*輸入表單!$D$521)+(COUNTIF(輸入表單!$A$566:$A$605,(data!$B$2+ROW(A2))&$P$2)*輸入表單!$D$564)+(COUNTIF(輸入表單!$A$609:$A$648,(data!$B$2+ROW(A2))&$P$2)*輸入表單!$D$607)","v":0},{"$f":"VLOOKUP((data!$B$2+ROW(A2))&輸出雙向細目表!$R$2,data!$H$27:$I$86,2,FALSE)","v":""},{"$f":"(COUNTIF(輸入表單!$A$7:$A$46,(data!$B$2+ROW(A2))&$R$2)*輸入表單!$D$5)+(COUNTIF(輸入表單!$A$50:$A$89,(data!$B$2+ROW(A2))&$R$2)*輸入表單!$D$48)+(COUNTIF(輸入表單!$A$93:$A$132,(data!$B$2+ROW(A2))&$R$2)*輸入表單!$D$91)+(COUNTIF(輸入表單!$A$136:$A$175,(data!$B$2+ROW(A2))&$R$2)*輸入表單!$D$134)+(COUNTIF(輸入表單!$A$179:$A$218,(data!$B$2+ROW(A2))&$R$2)*輸入表單!$D$177)+(COUNTIF(輸入表單!$A$222:$A$261,(data!$B$2+ROW(A2))&$R$2)*輸入表單!$D$220)+(COUNTIF(輸入表單!$A$265:$A$304,(data!$B$2+ROW(A2))&$R$2)*輸入表單!$D$263)+(COUNTIF(輸入表單!$A$308:$A$347,(data!$B$2+ROW(A2))&$R$2)*輸入表單!$D$306)+(COUNTIF(輸入表單!$A$351:$A$390,(data!$B$2+ROW(A2))&$R$2)*輸入表單!$D$349)+(COUNTIF(輸入表單!$A$394:$A$433,(data!$B$2+ROW(A2))&$R$2)*輸入表單!$D$392)+(COUNTIF(輸入表單!$A$437:$A$476,(data!$B$2+ROW(A2))&$R$2)*輸入表單!$D$435)+(COUNTIF(輸入表單!$A$480:$A$519,(data!$B$2+ROW(A2))&$R$2)*輸入表單!$D$478)+(COUNTIF(輸入表單!$A$523:$A$562,(data!$B$2+ROW(A2))&$R$2)*輸入表單!$D$521)+(COUNTIF(輸入表單!$A$566:$A$605,(data!$B$2+ROW(A2))&$R$2)*輸入表單!$D$564)+(COUNTIF(輸入表單!$A$609:$A$648,(data!$B$2+ROW(A2))&$R$2)*輸入表單!$D$607)","v":0},{"$f":"VLOOKUP((data!$B$2+ROW(A2))&輸出雙向細目表!$T$2,data!$H$27:$I$86,2,FALSE)","v":""},{"$f":"(COUNTIF(輸入表單!$A$7:$A$46,(data!$B$2+ROW(A2))&$T$2)*輸入表單!$D$5)+(COUNTIF(輸入表單!$A$50:$A$89,(data!$B$2+ROW(A2))&$T$2)*輸入表單!$D$48)+(COUNTIF(輸入表單!$A$93:$A$132,(data!$B$2+ROW(A2))&$T$2)*輸入表單!$D$91)+(COUNTIF(輸入表單!$A$136:$A$175,(data!$B$2+ROW(A2))&$T$2)*輸入表單!$D$134)+(COUNTIF(輸入表單!$A$179:$A$218,(data!$B$2+ROW(A2))&$T$2)*輸入表單!$D$177)+(COUNTIF(輸入表單!$A$222:$A$261,(data!$B$2+ROW(A2))&$T$2)*輸入表單!$D$220)+(COUNTIF(輸入表單!$A$265:$A$304,(data!$B$2+ROW(A2))&$T$2)*輸入表單!$D$263)+(COUNTIF(輸入表單!$A$308:$A$347,(data!$B$2+ROW(A2))&$T$2)*輸入表單!$D$306)+(COUNTIF(輸入表單!$A$351:$A$390,(data!$B$2+ROW(A2))&$T$2)*輸入表單!$D$349)+(COUNTIF(輸入表單!$A$394:$A$433,(data!$B$2+ROW(A2))&$T$2)*輸入表單!$D$392)+(COUNTIF(輸入表單!$A$437:$A$476,(data!$B$2+ROW(A2))&$T$2)*輸入表單!$D$435)+(COUNTIF(輸入表單!$A$480:$A$519,(data!$B$2+ROW(A2))&$T$2)*輸入表單!$D$478)+(COUNTIF(輸入表單!$A$523:$A$562,(data!$B$2+ROW(A2))&$T$2)*輸入表單!$D$521)+(COUNTIF(輸入表單!$A$566:$A$605,(data!$B$2+ROW(A2))&$T$2)*輸入表單!$D$564)+(COUNTIF(輸入表單!$A$609:$A$648,(data!$B$2+ROW(A2))&$T$2)*輸入表單!$D$607)","v":0},0]
[{"$f":"IF(data!$B$3<data!$B$2+(ROW(A3)),\"\",CONCATENATE(輸入表單!$D$1,輸入表單!$D$2,data!$B$2+(ROW(A3))))","v":""},{"$f":"IF(A7=\"\",\"\",VLOOKUP(A7,data!$C$2:$D$310,2,FALSE))","v":""},{"$f":"IF(A7=\"\",\"\",VLOOKUP(A7,data!$C$2:$E$300,3,FALSE))","v":""},{"$f":"IF(A7=\"\",\"\",VLOOKUP(A7,data!$C$2:$F$300,4,FALSE))","v":""},"",{"$f":"SUM(F4:F6)","v":{"$error":"#DIV/0!"}},null,null,"",{"$f":"VLOOKUP((data!$B$2+ROW(A3))&輸出雙向細目表!$J$2,data!$H$27:$I$86,2,FALSE)","v":""},{"$f":"(COUNTIF(輸入表單!$A$7:$A$46,(data!$B$2+ROW(A3))&$J$2)*輸入表單!$D$5)+(COUNTIF(輸入表單!$A$50:$A$89,(data!$B$2+ROW(A3))&$J$2)*輸入表單!$D$48)+(COUNTIF(輸入表單!$A$93:$A$132,(data!$B$2+ROW(A3))&$J$2)*輸入表單!$D$91)+(COUNTIF(輸入表單!$A$136:$A$175,(data!$B$2+ROW(A3))&$J$2)*輸入表單!$D$134)+(COUNTIF(輸入表單!$A$179:$A$218,(data!$B$2+ROW(A3))&$J$2)*輸入表單!$D$177)+(COUNTIF(輸入表單!$A$222:$A$261,(data!$B$2+ROW(A3))&$J$2)*輸入表單!$D$220)+(COUNTIF(輸入表單!$A$265:$A$304,(data!$B$2+ROW(A3))&$J$2)*輸入表單!$D$263)+(COUNTIF(輸入表單!$A$308:$A$347,(data!$B$2+ROW(A3))&$J$2)*輸入表單!$D$306)+(COUNTIF(輸入表單!$A$351:$A$390,(data!$B$2+ROW(A3))&$J$2)*輸入表單!$D$349)+(COUNTIF(輸入表單!$A$394:$A$433,(data!$B$2+ROW(A3))&$J$2)*輸入表單!$D$392)+(COUNTIF(輸入表單!$A$437:$A$476,(data!$B$2+ROW(A3))&$J$2)*輸入表單!$D$435)+(COUNTIF(輸入表單!$A$480:$A$519,(data!$B$2+ROW(A3))&$J$2)*輸入表單!$D$478)+(COUNTIF(輸入表單!$A$523:$A$562,(data!$B$2+ROW(A3))&$J$2)*輸入表單!$D$521)+(COUNTIF(輸入表單!$A$566:$A$605,(data!$B$2+ROW(A3))&$J$2)*輸入表單!$D$564)+(COUNTIF(輸入表單!$A$609:$A$648,(data!$B$2+ROW(A3))&$J$2)*輸入表單!$D$607)","v":0},{"$f":"VLOOKUP((data!$B$2+ROW(A3))&輸出雙向細目表!$L$2,data!$H$27:$I$86,2,FALSE)","v":""},{"$f":"(COUNTIF(輸入表單!$A$7:$A$46,(data!$B$2+ROW(A3))&$L$2)*輸入表單!$D$5)+(COUNTIF(輸入表單!$A$50:$A$89,(data!$B$2+ROW(A3))&$L$2)*輸入表單!$D$48)+(COUNTIF(輸入表單!$A$93:$A$132,(data!$B$2+ROW(A3))&$L$2)*輸入表單!$D$91)+(COUNTIF(輸入表單!$A$136:$A$175,(data!$B$2+ROW(A3))&$L$2)*輸入表單!$D$134)+(COUNTIF(輸入表單!$A$179:$A$218,(data!$B$2+ROW(A3))&$L$2)*輸入表單!$D$177)+(COUNTIF(輸入表單!$A$222:$A$261,(data!$B$2+ROW(A3))&$L$2)*輸入表單!$D$220)+(COUNTIF(輸入表單!$A$265:$A$304,(data!$B$2+ROW(A3))&$L$2)*輸入表單!$D$263)+(COUNTIF(輸入表單!$A$308:$A$347,(data!$B$2+ROW(A3))&$L$2)*輸入表單!$D$306)+(COUNTIF(輸入表單!$A$351:$A$390,(data!$B$2+ROW(A3))&$L$2)*輸入表單!$D$349)+(COUNTIF(輸入表單!$A$394:$A$433,(data!$B$2+ROW(A3))&$L$2)*輸入表單!$D$392)+(COUNTIF(輸入表單!$A$437:$A$476,(data!$B$2+ROW(A3))&$L$2)*輸入表單!$D$435)+(COUNTIF(輸入表單!$A$480:$A$519,(data!$B$2+ROW(A3))&$L$2)*輸入表單!$D$478)+(COUNTIF(輸入表單!$A$523:$A$562,(data!$B$2+ROW(A3))&$L$2)*輸入表單!$D$521)+(COUNTIF(輸入表單!$A$566:$A$605,(data!$B$2+ROW(A3))&$L$2)*輸入表單!$D$564)+(COUNTIF(輸入表單!$A$609:$A$648,(data!$B$2+ROW(A3))&$L$2)*輸入表單!$D$607)","v":0},{"$f":"VLOOKUP((data!$B$2+ROW(A3))&輸出雙向細目表!$N$2,data!$H$27:$I$86,2,FALSE)","v":""},{"$f":"(COUNTIF(輸入表單!$A$7:$A$46,(data!$B$2+ROW(A3))&$N$2)*輸入表單!$D$5)+(COUNTIF(輸入表單!$A$50:$A$89,(data!$B$2+ROW(A3))&$N$2)*輸入表單!$D$48)+(COUNTIF(輸入表單!$A$93:$A$132,(data!$B$2+ROW(A3))&$N$2)*輸入表單!$D$91)+(COUNTIF(輸入表單!$A$136:$A$175,(data!$B$2+ROW(A3))&$N$2)*輸入表單!$D$134)+(COUNTIF(輸入表單!$A$179:$A$218,(data!$B$2+ROW(A3))&$N$2)*輸入表單!$D$177)+(COUNTIF(輸入表單!$A$222:$A$261,(data!$B$2+ROW(A3))&$N$2)*輸入表單!$D$220)+(COUNTIF(輸入表單!$A$265:$A$304,(data!$B$2+ROW(A3))&$N$2)*輸入表單!$D$263)+(COUNTIF(輸入表單!$A$308:$A$347,(data!$B$2+ROW(A3))&$N$2)*輸入表單!$D$306)+(COUNTIF(輸入表單!$A$351:$A$390,(data!$B$2+ROW(A3))&$N$2)*輸入表單!$D$349)+(COUNTIF(輸入表單!$A$394:$A$433,(data!$B$2+ROW(A3))&$N$2)*輸入表單!$D$392)+(COUNTIF(輸入表單!$A$437:$A$476,(data!$B$2+ROW(A3))&$N$2)*輸入表單!$D$435)+(COUNTIF(輸入表單!$A$480:$A$519,(data!$B$2+ROW(A3))&$N$2)*輸入表單!$D$478)+(COUNTIF(輸入表單!$A$523:$A$562,(data!$B$2+ROW(A3))&$N$2)*輸入表單!$D$521)+(COUNTIF(輸入表單!$A$566:$A$605,(data!$B$2+ROW(A3))&$N$2)*輸入表單!$D$564)+(COUNTIF(輸入表單!$A$609:$A$648,(data!$B$2+ROW(A3))&$N$2)*輸入表單!$D$607)","v":0},{"$f":"VLOOKUP((data!$B$2+ROW(A3))&輸出雙向細目表!$P$2,data!$H$27:$I$86,2,FALSE)","v":""},{"$f":"(COUNTIF(輸入表單!$A$7:$A$46,(data!$B$2+ROW(A3))&$P$2)*輸入表單!$D$5)+(COUNTIF(輸入表單!$A$50:$A$89,(data!$B$2+ROW(A3))&$P$2)*輸入表單!$D$48)+(COUNTIF(輸入表單!$A$93:$A$132,(data!$B$2+ROW(A3))&$P$2)*輸入表單!$D$91)+(COUNTIF(輸入表單!$A$136:$A$175,(data!$B$2+ROW(A3))&$P$2)*輸入表單!$D$134)+(COUNTIF(輸入表單!$A$179:$A$218,(data!$B$2+ROW(A3))&$P$2)*輸入表單!$D$177)+(COUNTIF(輸入表單!$A$222:$A$261,(data!$B$2+ROW(A3))&$P$2)*輸入表單!$D$220)+(COUNTIF(輸入表單!$A$265:$A$304,(data!$B$2+ROW(A3))&$P$2)*輸入表單!$D$263)+(COUNTIF(輸入表單!$A$308:$A$347,(data!$B$2+ROW(A3))&$P$2)*輸入表單!$D$306)+(COUNTIF(輸入表單!$A$351:$A$390,(data!$B$2+ROW(A3))&$P$2)*輸入表單!$D$349)+(COUNTIF(輸入表單!$A$394:$A$433,(data!$B$2+ROW(A3))&$P$2)*輸入表單!$D$392)+(COUNTIF(輸入表單!$A$437:$A$476,(data!$B$2+ROW(A3))&$P$2)*輸入表單!$D$435)+(COUNTIF(輸入表單!$A$480:$A$519,(data!$B$2+ROW(A3))&$P$2)*輸入表單!$D$478)+(COUNTIF(輸入表單!$A$523:$A$562,(data!$B$2+ROW(A3))&$P$2)*輸入表單!$D$521)+(COUNTIF(輸入表單!$A$566:$A$605,(data!$B$2+ROW(A3))&$P$2)*輸入表單!$D$564)+(COUNTIF(輸入表單!$A$609:$A$648,(data!$B$2+ROW(A3))&$P$2)*輸入表單!$D$607)","v":0},{"$f":"VLOOKUP((data!$B$2+ROW(A3))&輸出雙向細目表!$R$2,data!$H$27:$I$86,2,FALSE)","v":""},{"$f":"(COUNTIF(輸入表單!$A$7:$A$46,(data!$B$2+ROW(A3))&$R$2)*輸入表單!$D$5)+(COUNTIF(輸入表單!$A$50:$A$89,(data!$B$2+ROW(A3))&$R$2)*輸入表單!$D$48)+(COUNTIF(輸入表單!$A$93:$A$132,(data!$B$2+ROW(A3))&$R$2)*輸入表單!$D$91)+(COUNTIF(輸入表單!$A$136:$A$175,(data!$B$2+ROW(A3))&$R$2)*輸入表單!$D$134)+(COUNTIF(輸入表單!$A$179:$A$218,(data!$B$2+ROW(A3))&$R$2)*輸入表單!$D$177)+(COUNTIF(輸入表單!$A$222:$A$261,(data!$B$2+ROW(A3))&$R$2)*輸入表單!$D$220)+(COUNTIF(輸入表單!$A$265:$A$304,(data!$B$2+ROW(A3))&$R$2)*輸入表單!$D$263)+(COUNTIF(輸入表單!$A$308:$A$347,(data!$B$2+ROW(A3))&$R$2)*輸入表單!$D$306)+(COUNTIF(輸入表單!$A$351:$A$390,(data!$B$2+ROW(A3))&$R$2)*輸入表單!$D$349)+(COUNTIF(輸入表單!$A$394:$A$433,(data!$B$2+ROW(A3))&$R$2)*輸入表單!$D$392)+(COUNTIF(輸入表單!$A$437:$A$476,(data!$B$2+ROW(A3))&$R$2)*輸入表單!$D$435)+(COUNTIF(輸入表單!$A$480:$A$519,(data!$B$2+ROW(A3))&$R$2)*輸入表單!$D$478)+(COUNTIF(輸入表單!$A$523:$A$562,(data!$B$2+ROW(A3))&$R$2)*輸入表單!$D$521)+(COUNTIF(輸入表單!$A$566:$A$605,(data!$B$2+ROW(A3))&$R$2)*輸入表單!$D$564)+(COUNTIF(輸入表單!$A$609:$A$648,(data!$B$2+ROW(A3))&$R$2)*輸入表單!$D$607)","v":0},{"$f":"VLOOKUP((data!$B$2+ROW(A3))&輸出雙向細目表!$T$2,data!$H$27:$I$86,2,FALSE)","v":""},{"$f":"(COUNTIF(輸入表單!$A$7:$A$46,(data!$B$2+ROW(A3))&$T$2)*輸入表單!$D$5)+(COUNTIF(輸入表單!$A$50:$A$89,(data!$B$2+ROW(A3))&$T$2)*輸入表單!$D$48)+(COUNTIF(輸入表單!$A$93:$A$132,(data!$B$2+ROW(A3))&$T$2)*輸入表單!$D$91)+(COUNTIF(輸入表單!$A$136:$A$175,(data!$B$2+ROW(A3))&$T$2)*輸入表單!$D$134)+(COUNTIF(輸入表單!$A$179:$A$218,(data!$B$2+ROW(A3))&$T$2)*輸入表單!$D$177)+(COUNTIF(輸入表單!$A$222:$A$261,(data!$B$2+ROW(A3))&$T$2)*輸入表單!$D$220)+(COUNTIF(輸入表單!$A$265:$A$304,(data!$B$2+ROW(A3))&$T$2)*輸入表單!$D$263)+(COUNTIF(輸入表單!$A$308:$A$347,(data!$B$2+ROW(A3))&$T$2)*輸入表單!$D$306)+(COUNTIF(輸入表單!$A$351:$A$390,(data!$B$2+ROW(A3))&$T$2)*輸入表單!$D$349)+(COUNTIF(輸入表單!$A$394:$A$433,(data!$B$2+ROW(A3))&$T$2)*輸入表單!$D$392)+(COUNTIF(輸入表單!$A$437:$A$476,(data!$B$2+ROW(A3))&$T$2)*輸入表單!$D$435)+(COUNTIF(輸入表單!$A$480:$A$519,(data!$B$2+ROW(A3))&$T$2)*輸入表單!$D$478)+(COUNTIF(輸入表單!$A$523:$A$562,(data!$B$2+ROW(A3))&$T$2)*輸入表單!$D$521)+(COUNTIF(輸入表單!$A$566:$A$605,(data!$B$2+ROW(A3))&$T$2)*輸入表單!$D$564)+(COUNTIF(輸入表單!$A$609:$A$648,(data!$B$2+ROW(A3))&$T$2)*輸入表單!$D$607)","v":0},0]
[{"$f":"IF(data!$B$3<data!$B$2+(ROW(A4)),\"\",CONCATENATE(輸入表單!$D$1,輸入表單!$D$2,data!$B$2+(ROW(A4))))","v":""},{"$f":"IF(A8=\"\",\"\",VLOOKUP(A8,data!$C$2:$D$310,2,FALSE))","v":""},null,{"$f":"IF(A8=\"\",\"\",VLOOKUP(A8,data!$C$2:$F$300,4,FALSE))","v":""},{"$f":"IF(D8=\"\",\"\",ROUND((D8/$D$11),4))","v":""},{"$f":"SUM(F5:F7)","v":{"$error":"#DIV/0!"}},null,null,"",{"$f":"VLOOKUP((data!$B$2+ROW(A4))&輸出雙向細目表!$J$2,data!$H$27:$I$86,2,FALSE)","v":""},{"$f":"(COUNTIF(輸入表單!$A$7:$A$46,(data!$B$2+ROW(A4))&$J$2)*輸入表單!$D$5)+(COUNTIF(輸入表單!$A$50:$A$89,(data!$B$2+ROW(A4))&$J$2)*輸入表單!$D$48)+(COUNTIF(輸入表單!$A$93:$A$132,(data!$B$2+ROW(A4))&$J$2)*輸入表單!$D$91)+(COUNTIF(輸入表單!$A$136:$A$175,(data!$B$2+ROW(A4))&$J$2)*輸入表單!$D$134)+(COUNTIF(輸入表單!$A$179:$A$218,(data!$B$2+ROW(A4))&$J$2)*輸入表單!$D$177)+(COUNTIF(輸入表單!$A$222:$A$261,(data!$B$2+ROW(A4))&$J$2)*輸入表單!$D$220)+(COUNTIF(輸入表單!$A$265:$A$304,(data!$B$2+ROW(A4))&$J$2)*輸入表單!$D$263)+(COUNTIF(輸入表單!$A$308:$A$347,(data!$B$2+ROW(A4))&$J$2)*輸入表單!$D$306)+(COUNTIF(輸入表單!$A$351:$A$390,(data!$B$2+ROW(A4))&$J$2)*輸入表單!$D$349)+(COUNTIF(輸入表單!$A$394:$A$433,(data!$B$2+ROW(A4))&$J$2)*輸入表單!$D$392)+(COUNTIF(輸入表單!$A$437:$A$476,(data!$B$2+ROW(A4))&$J$2)*輸入表單!$D$435)+(COUNTIF(輸入表單!$A$480:$A$519,(data!$B$2+ROW(A4))&$J$2)*輸入表單!$D$478)+(COUNTIF(輸入表單!$A$523:$A$562,(data!$B$2+ROW(A4))&$J$2)*輸入表單!$D$521)+(COUNTIF(輸入表單!$A$566:$A$605,(data!$B$2+ROW(A4))&$J$2)*輸入表單!$D$564)+(COUNTIF(輸入表單!$A$609:$A$648,(data!$B$2+ROW(A4))&$J$2)*輸入表單!$D$607)","v":0},{"$f":"VLOOKUP((data!$B$2+ROW(A4))&輸出雙向細目表!$L$2,data!$H$27:$I$86,2,FALSE)","v":""},{"$f":"(COUNTIF(輸入表單!$A$7:$A$46,(data!$B$2+ROW(A4))&$L$2)*輸入表單!$D$5)+(COUNTIF(輸入表單!$A$50:$A$89,(data!$B$2+ROW(A4))&$L$2)*輸入表單!$D$48)+(COUNTIF(輸入表單!$A$93:$A$132,(data!$B$2+ROW(A4))&$L$2)*輸入表單!$D$91)+(COUNTIF(輸入表單!$A$136:$A$175,(data!$B$2+ROW(A4))&$L$2)*輸入表單!$D$134)+(COUNTIF(輸入表單!$A$179:$A$218,(data!$B$2+ROW(A4))&$L$2)*輸入表單!$D$177)+(COUNTIF(輸入表單!$A$222:$A$261,(data!$B$2+ROW(A4))&$L$2)*輸入表單!$D$220)+(COUNTIF(輸入表單!$A$265:$A$304,(data!$B$2+ROW(A4))&$L$2)*輸入表單!$D$263)+(COUNTIF(輸入表單!$A$308:$A$347,(data!$B$2+ROW(A4))&$L$2)*輸入表單!$D$306)+(COUNTIF(輸入表單!$A$351:$A$390,(data!$B$2+ROW(A4))&$L$2)*輸入表單!$D$349)+(COUNTIF(輸入表單!$A$394:$A$433,(data!$B$2+ROW(A4))&$L$2)*輸入表單!$D$392)+(COUNTIF(輸入表單!$A$437:$A$476,(data!$B$2+ROW(A4))&$L$2)*輸入表單!$D$435)+(COUNTIF(輸入表單!$A$480:$A$519,(data!$B$2+ROW(A4))&$L$2)*輸入表單!$D$478)+(COUNTIF(輸入表單!$A$523:$A$562,(data!$B$2+ROW(A4))&$L$2)*輸入表單!$D$521)+(COUNTIF(輸入表單!$A$566:$A$605,(data!$B$2+ROW(A4))&$L$2)*輸入表單!$D$564)+(COUNTIF(輸入表單!$A$609:$A$648,(data!$B$2+ROW(A4))&$L$2)*輸入表單!$D$607)","v":0},{"$f":"VLOOKUP((data!$B$2+ROW(A4))&輸出雙向細目表!$N$2,data!$H$27:$I$86,2,FALSE)","v":""},{"$f":"(COUNTIF(輸入表單!$A$7:$A$46,(data!$B$2+ROW(A4))&$N$2)*輸入表單!$D$5)+(COUNTIF(輸入表單!$A$50:$A$89,(data!$B$2+ROW(A4))&$N$2)*輸入表單!$D$48)+(COUNTIF(輸入表單!$A$93:$A$132,(data!$B$2+ROW(A4))&$N$2)*輸入表單!$D$91)+(COUNTIF(輸入表單!$A$136:$A$175,(data!$B$2+ROW(A4))&$N$2)*輸入表單!$D$134)+(COUNTIF(輸入表單!$A$179:$A$218,(data!$B$2+ROW(A4))&$N$2)*輸入表單!$D$177)+(COUNTIF(輸入表單!$A$222:$A$261,(data!$B$2+ROW(A4))&$N$2)*輸入表單!$D$220)+(COUNTIF(輸入表單!$A$265:$A$304,(data!$B$2+ROW(A4))&$N$2)*輸入表單!$D$263)+(COUNTIF(輸入表單!$A$308:$A$347,(data!$B$2+ROW(A4))&$N$2)*輸入表單!$D$306)+(COUNTIF(輸入表單!$A$351:$A$390,(data!$B$2+ROW(A4))&$N$2)*輸入表單!$D$349)+(COUNTIF(輸入表單!$A$394:$A$433,(data!$B$2+ROW(A4))&$N$2)*輸入表單!$D$392)+(COUNTIF(輸入表單!$A$437:$A$476,(data!$B$2+ROW(A4))&$N$2)*輸入表單!$D$435)+(COUNTIF(輸入表單!$A$480:$A$519,(data!$B$2+ROW(A4))&$N$2)*輸入表單!$D$478)+(COUNTIF(輸入表單!$A$523:$A$562,(data!$B$2+ROW(A4))&$N$2)*輸入表單!$D$521)+(COUNTIF(輸入表單!$A$566:$A$605,(data!$B$2+ROW(A4))&$N$2)*輸入表單!$D$564)+(COUNTIF(輸入表單!$A$609:$A$648,(data!$B$2+ROW(A4))&$N$2)*輸入表單!$D$607)","v":0},{"$f":"VLOOKUP((data!$B$2+ROW(A4))&輸出雙向細目表!$P$2,data!$H$27:$I$86,2,FALSE)","v":""},{"$f":"(COUNTIF(輸入表單!$A$7:$A$46,(data!$B$2+ROW(A4))&$P$2)*輸入表單!$D$5)+(COUNTIF(輸入表單!$A$50:$A$89,(data!$B$2+ROW(A4))&$P$2)*輸入表單!$D$48)+(COUNTIF(輸入表單!$A$93:$A$132,(data!$B$2+ROW(A4))&$P$2)*輸入表單!$D$91)+(COUNTIF(輸入表單!$A$136:$A$175,(data!$B$2+ROW(A4))&$P$2)*輸入表單!$D$134)+(COUNTIF(輸入表單!$A$179:$A$218,(data!$B$2+ROW(A4))&$P$2)*輸入表單!$D$177)+(COUNTIF(輸入表單!$A$222:$A$261,(data!$B$2+ROW(A4))&$P$2)*輸入表單!$D$220)+(COUNTIF(輸入表單!$A$265:$A$304,(data!$B$2+ROW(A4))&$P$2)*輸入表單!$D$263)+(COUNTIF(輸入表單!$A$308:$A$347,(data!$B$2+ROW(A4))&$P$2)*輸入表單!$D$306)+(COUNTIF(輸入表單!$A$351:$A$390,(data!$B$2+ROW(A4))&$P$2)*輸入表單!$D$349)+(COUNTIF(輸入表單!$A$394:$A$433,(data!$B$2+ROW(A4))&$P$2)*輸入表單!$D$392)+(COUNTIF(輸入表單!$A$437:$A$476,(data!$B$2+ROW(A4))&$P$2)*輸入表單!$D$435)+(COUNTIF(輸入表單!$A$480:$A$519,(data!$B$2+ROW(A4))&$P$2)*輸入表單!$D$478)+(COUNTIF(輸入表單!$A$523:$A$562,(data!$B$2+ROW(A4))&$P$2)*輸入表單!$D$521)+(COUNTIF(輸入表單!$A$566:$A$605,(data!$B$2+ROW(A4))&$P$2)*輸入表單!$D$564)+(COUNTIF(輸入表單!$A$609:$A$648,(data!$B$2+ROW(A4))&$P$2)*輸入表單!$D$607)","v":0},{"$f":"VLOOKUP((data!$B$2+ROW(A4))&輸出雙向細目表!$R$2,data!$H$27:$I$86,2,FALSE)","v":""},{"$f":"(COUNTIF(輸入表單!$A$7:$A$46,(data!$B$2+ROW(A4))&$R$2)*輸入表單!$D$5)+(COUNTIF(輸入表單!$A$50:$A$89,(data!$B$2+ROW(A4))&$R$2)*輸入表單!$D$48)+(COUNTIF(輸入表單!$A$93:$A$132,(data!$B$2+ROW(A4))&$R$2)*輸入表單!$D$91)+(COUNTIF(輸入表單!$A$136:$A$175,(data!$B$2+ROW(A4))&$R$2)*輸入表單!$D$134)+(COUNTIF(輸入表單!$A$179:$A$218,(data!$B$2+ROW(A4))&$R$2)*輸入表單!$D$177)+(COUNTIF(輸入表單!$A$222:$A$261,(data!$B$2+ROW(A4))&$R$2)*輸入表單!$D$220)+(COUNTIF(輸入表單!$A$265:$A$304,(data!$B$2+ROW(A4))&$R$2)*輸入表單!$D$263)+(COUNTIF(輸入表單!$A$308:$A$347,(data!$B$2+ROW(A4))&$R$2)*輸入表單!$D$306)+(COUNTIF(輸入表單!$A$351:$A$390,(data!$B$2+ROW(A4))&$R$2)*輸入表單!$D$349)+(COUNTIF(輸入表單!$A$394:$A$433,(data!$B$2+ROW(A4))&$R$2)*輸入表單!$D$392)+(COUNTIF(輸入表單!$A$437:$A$476,(data!$B$2+ROW(A4))&$R$2)*輸入表單!$D$435)+(COUNTIF(輸入表單!$A$480:$A$519,(data!$B$2+ROW(A4))&$R$2)*輸入表單!$D$478)+(COUNTIF(輸入表單!$A$523:$A$562,(data!$B$2+ROW(A4))&$R$2)*輸入表單!$D$521)+(COUNTIF(輸入表單!$A$566:$A$605,(data!$B$2+ROW(A4))&$R$2)*輸入表單!$D$564)+(COUNTIF(輸入表單!$A$609:$A$648,(data!$B$2+ROW(A4))&$R$2)*輸入表單!$D$607)","v":0},{"$f":"VLOOKUP((data!$B$2+ROW(A4))&輸出雙向細目表!$T$2,data!$H$27:$I$86,2,FALSE)","v":""},{"$f":"(COUNTIF(輸入表單!$A$7:$A$46,(data!$B$2+ROW(A4))&$T$2)*輸入表單!$D$5)+(COUNTIF(輸入表單!$A$50:$A$89,(data!$B$2+ROW(A4))&$T$2)*輸入表單!$D$48)+(COUNTIF(輸入表單!$A$93:$A$132,(data!$B$2+ROW(A4))&$T$2)*輸入表單!$D$91)+(COUNTIF(輸入表單!$A$136:$A$175,(data!$B$2+ROW(A4))&$T$2)*輸入表單!$D$134)+(COUNTIF(輸入表單!$A$179:$A$218,(data!$B$2+ROW(A4))&$T$2)*輸入表單!$D$177)+(COUNTIF(輸入表單!$A$222:$A$261,(data!$B$2+ROW(A4))&$T$2)*輸入表單!$D$220)+(COUNTIF(輸入表單!$A$265:$A$304,(data!$B$2+ROW(A4))&$T$2)*輸入表單!$D$263)+(COUNTIF(輸入表單!$A$308:$A$347,(data!$B$2+ROW(A4))&$T$2)*輸入表單!$D$306)+(COUNTIF(輸入表單!$A$351:$A$390,(data!$B$2+ROW(A4))&$T$2)*輸入表單!$D$349)+(COUNTIF(輸入表單!$A$394:$A$433,(data!$B$2+ROW(A4))&$T$2)*輸入表單!$D$392)+(COUNTIF(輸入表單!$A$437:$A$476,(data!$B$2+ROW(A4))&$T$2)*輸入表單!$D$435)+(COUNTIF(輸入表單!$A$480:$A$519,(data!$B$2+ROW(A4))&$T$2)*輸入表單!$D$478)+(COUNTIF(輸入表單!$A$523:$A$562,(data!$B$2+ROW(A4))&$T$2)*輸入表單!$D$521)+(COUNTIF(輸入表單!$A$566:$A$605,(data!$B$2+ROW(A4))&$T$2)*輸入表單!$D$564)+(COUNTIF(輸入表單!$A$609:$A$648,(data!$B$2+ROW(A4))&$T$2)*輸入表單!$D$607)","v":0},0]
[{"$f":"IF(data!$B$3<data!$B$2+(ROW(A5)),\"\",CONCATENATE(輸入表單!$D$1,輸入表單!$D$2,data!$B$2+(ROW(A5))))","v":""},{"$f":"IF(A9=\"\",\"\",VLOOKUP(A9,data!$C$2:$D$310,2,FALSE))","v":""},null,{"$f":"IF(A9=\"\",\"\",VLOOKUP(A9,data!$C$2:$F$300,4,FALSE))","v":""},"",{"$error":"#DIV/0!"},null,null,"",{"$f":"VLOOKUP((data!$B$2+ROW(A5))&輸出雙向細目表!$J$2,data!$H$27:$I$86,2,FALSE)","v":""},{"$f":"(COUNTIF(輸入表單!$A$7:$A$46,(data!$B$2+ROW(A5))&$J$2)*輸入表單!$D$5)+(COUNTIF(輸入表單!$A$50:$A$89,(data!$B$2+ROW(A5))&$J$2)*輸入表單!$D$48)+(COUNTIF(輸入表單!$A$93:$A$132,(data!$B$2+ROW(A5))&$J$2)*輸入表單!$D$91)+(COUNTIF(輸入表單!$A$136:$A$175,(data!$B$2+ROW(A5))&$J$2)*輸入表單!$D$134)+(COUNTIF(輸入表單!$A$179:$A$218,(data!$B$2+ROW(A5))&$J$2)*輸入表單!$D$177)+(COUNTIF(輸入表單!$A$222:$A$261,(data!$B$2+ROW(A5))&$J$2)*輸入表單!$D$220)+(COUNTIF(輸入表單!$A$265:$A$304,(data!$B$2+ROW(A5))&$J$2)*輸入表單!$D$263)+(COUNTIF(輸入表單!$A$308:$A$347,(data!$B$2+ROW(A5))&$J$2)*輸入表單!$D$306)+(COUNTIF(輸入表單!$A$351:$A$390,(data!$B$2+ROW(A5))&$J$2)*輸入表單!$D$349)+(COUNTIF(輸入表單!$A$394:$A$433,(data!$B$2+ROW(A5))&$J$2)*輸入表單!$D$392)+(COUNTIF(輸入表單!$A$437:$A$476,(data!$B$2+ROW(A5))&$J$2)*輸入表單!$D$435)+(COUNTIF(輸入表單!$A$480:$A$519,(data!$B$2+ROW(A5))&$J$2)*輸入表單!$D$478)+(COUNTIF(輸入表單!$A$523:$A$562,(data!$B$2+ROW(A5))&$J$2)*輸入表單!$D$521)+(COUNTIF(輸入表單!$A$566:$A$605,(data!$B$2+ROW(A5))&$J$2)*輸入表單!$D$564)+(COUNTIF(輸入表單!$A$609:$A$648,(data!$B$2+ROW(A5))&$J$2)*輸入表單!$D$607)","v":0},{"$f":"VLOOKUP((data!$B$2+ROW(A5))&輸出雙向細目表!$L$2,data!$H$27:$I$86,2,FALSE)","v":""},{"$f":"(COUNTIF(輸入表單!$A$7:$A$46,(data!$B$2+ROW(A5))&$L$2)*輸入表單!$D$5)+(COUNTIF(輸入表單!$A$50:$A$89,(data!$B$2+ROW(A5))&$L$2)*輸入表單!$D$48)+(COUNTIF(輸入表單!$A$93:$A$132,(data!$B$2+ROW(A5))&$L$2)*輸入表單!$D$91)+(COUNTIF(輸入表單!$A$136:$A$175,(data!$B$2+ROW(A5))&$L$2)*輸入表單!$D$134)+(COUNTIF(輸入表單!$A$179:$A$218,(data!$B$2+ROW(A5))&$L$2)*輸入表單!$D$177)+(COUNTIF(輸入表單!$A$222:$A$261,(data!$B$2+ROW(A5))&$L$2)*輸入表單!$D$220)+(COUNTIF(輸入表單!$A$265:$A$304,(data!$B$2+ROW(A5))&$L$2)*輸入表單!$D$263)+(COUNTIF(輸入表單!$A$308:$A$347,(data!$B$2+ROW(A5))&$L$2)*輸入表單!$D$306)+(COUNTIF(輸入表單!$A$351:$A$390,(data!$B$2+ROW(A5))&$L$2)*輸入表單!$D$349)+(COUNTIF(輸入表單!$A$394:$A$433,(data!$B$2+ROW(A5))&$L$2)*輸入表單!$D$392)+(COUNTIF(輸入表單!$A$437:$A$476,(data!$B$2+ROW(A5))&$L$2)*輸入表單!$D$435)+(COUNTIF(輸入表單!$A$480:$A$519,(data!$B$2+ROW(A5))&$L$2)*輸入表單!$D$478)+(COUNTIF(輸入表單!$A$523:$A$562,(data!$B$2+ROW(A5))&$L$2)*輸入表單!$D$521)+(COUNTIF(輸入表單!$A$566:$A$605,(data!$B$2+ROW(A5))&$L$2)*輸入表單!$D$564)+(COUNTIF(輸入表單!$A$609:$A$648,(data!$B$2+ROW(A5))&$L$2)*輸入表單!$D$607)","v":0},{"$f":"VLOOKUP((data!$B$2+ROW(A5))&輸出雙向細目表!$N$2,data!$H$27:$I$86,2,FALSE)","v":""},{"$f":"(COUNTIF(輸入表單!$A$7:$A$46,(data!$B$2+ROW(A5))&$N$2)*輸入表單!$D$5)+(COUNTIF(輸入表單!$A$50:$A$89,(data!$B$2+ROW(A5))&$N$2)*輸入表單!$D$48)+(COUNTIF(輸入表單!$A$93:$A$132,(data!$B$2+ROW(A5))&$N$2)*輸入表單!$D$91)+(COUNTIF(輸入表單!$A$136:$A$175,(data!$B$2+ROW(A5))&$N$2)*輸入表單!$D$134)+(COUNTIF(輸入表單!$A$179:$A$218,(data!$B$2+ROW(A5))&$N$2)*輸入表單!$D$177)+(COUNTIF(輸入表單!$A$222:$A$261,(data!$B$2+ROW(A5))&$N$2)*輸入表單!$D$220)+(COUNTIF(輸入表單!$A$265:$A$304,(data!$B$2+ROW(A5))&$N$2)*輸入表單!$D$263)+(COUNTIF(輸入表單!$A$308:$A$347,(data!$B$2+ROW(A5))&$N$2)*輸入表單!$D$306)+(COUNTIF(輸入表單!$A$351:$A$390,(data!$B$2+ROW(A5))&$N$2)*輸入表單!$D$349)+(COUNTIF(輸入表單!$A$394:$A$433,(data!$B$2+ROW(A5))&$N$2)*輸入表單!$D$392)+(COUNTIF(輸入表單!$A$437:$A$476,(data!$B$2+ROW(A5))&$N$2)*輸入表單!$D$435)+(COUNTIF(輸入表單!$A$480:$A$519,(data!$B$2+ROW(A5))&$N$2)*輸入表單!$D$478)+(COUNTIF(輸入表單!$A$523:$A$562,(data!$B$2+ROW(A5))&$N$2)*輸入表單!$D$521)+(COUNTIF(輸入表單!$A$566:$A$605,(data!$B$2+ROW(A5))&$N$2)*輸入表單!$D$564)+(COUNTIF(輸入表單!$A$609:$A$648,(data!$B$2+ROW(A5))&$N$2)*輸入表單!$D$607)","v":0},{"$f":"VLOOKUP((data!$B$2+ROW(A5))&輸出雙向細目表!$P$2,data!$H$27:$I$86,2,FALSE)","v":""},{"$f":"(COUNTIF(輸入表單!$A$7:$A$46,(data!$B$2+ROW(A5))&$P$2)*輸入表單!$D$5)+(COUNTIF(輸入表單!$A$50:$A$89,(data!$B$2+ROW(A5))&$P$2)*輸入表單!$D$48)+(COUNTIF(輸入表單!$A$93:$A$132,(data!$B$2+ROW(A5))&$P$2)*輸入表單!$D$91)+(COUNTIF(輸入表單!$A$136:$A$175,(data!$B$2+ROW(A5))&$P$2)*輸入表單!$D$134)+(COUNTIF(輸入表單!$A$179:$A$218,(data!$B$2+ROW(A5))&$P$2)*輸入表單!$D$177)+(COUNTIF(輸入表單!$A$222:$A$261,(data!$B$2+ROW(A5))&$P$2)*輸入表單!$D$220)+(COUNTIF(輸入表單!$A$265:$A$304,(data!$B$2+ROW(A5))&$P$2)*輸入表單!$D$263)+(COUNTIF(輸入表單!$A$308:$A$347,(data!$B$2+ROW(A5))&$P$2)*輸入表單!$D$306)+(COUNTIF(輸入表單!$A$351:$A$390,(data!$B$2+ROW(A5))&$P$2)*輸入表單!$D$349)+(COUNTIF(輸入表單!$A$394:$A$433,(data!$B$2+ROW(A5))&$P$2)*輸入表單!$D$392)+(COUNTIF(輸入表單!$A$437:$A$476,(data!$B$2+ROW(A5))&$P$2)*輸入表單!$D$435)+(COUNTIF(輸入表單!$A$480:$A$519,(data!$B$2+ROW(A5))&$P$2)*輸入表單!$D$478)+(COUNTIF(輸入表單!$A$523:$A$562,(data!$B$2+ROW(A5))&$P$2)*輸入表單!$D$521)+(COUNTIF(輸入表單!$A$566:$A$605,(data!$B$2+ROW(A5))&$P$2)*輸入表單!$D$564)+(COUNTIF(輸入表單!$A$609:$A$648,(data!$B$2+ROW(A5))&$P$2)*輸入表單!$D$607)","v":0},{"$f":"VLOOKUP((data!$B$2+ROW(A5))&輸出雙向細目表!$R$2,data!$H$27:$I$86,2,FALSE)","v":""},{"$f":"(COUNTIF(輸入表單!$A$7:$A$46,(data!$B$2+ROW(A5))&$R$2)*輸入表單!$D$5)+(COUNTIF(輸入表單!$A$50:$A$89,(data!$B$2+ROW(A5))&$R$2)*輸入表單!$D$48)+(COUNTIF(輸入表單!$A$93:$A$132,(data!$B$2+ROW(A5))&$R$2)*輸入表單!$D$91)+(COUNTIF(輸入表單!$A$136:$A$175,(data!$B$2+ROW(A5))&$R$2)*輸入表單!$D$134)+(COUNTIF(輸入表單!$A$179:$A$218,(data!$B$2+ROW(A5))&$R$2)*輸入表單!$D$177)+(COUNTIF(輸入表單!$A$222:$A$261,(data!$B$2+ROW(A5))&$R$2)*輸入表單!$D$220)+(COUNTIF(輸入表單!$A$265:$A$304,(data!$B$2+ROW(A5))&$R$2)*輸入表單!$D$263)+(COUNTIF(輸入表單!$A$308:$A$347,(data!$B$2+ROW(A5))&$R$2)*輸入表單!$D$306)+(COUNTIF(輸入表單!$A$351:$A$390,(data!$B$2+ROW(A5))&$R$2)*輸入表單!$D$349)+(COUNTIF(輸入表單!$A$394:$A$433,(data!$B$2+ROW(A5))&$R$2)*輸入表單!$D$392)+(COUNTIF(輸入表單!$A$437:$A$476,(data!$B$2+ROW(A5))&$R$2)*輸入表單!$D$435)+(COUNTIF(輸入表單!$A$480:$A$519,(data!$B$2+ROW(A5))&$R$2)*輸入表單!$D$478)+(COUNTIF(輸入表單!$A$523:$A$562,(data!$B$2+ROW(A5))&$R$2)*輸入表單!$D$521)+(COUNTIF(輸入表單!$A$566:$A$605,(data!$B$2+ROW(A5))&$R$2)*輸入表單!$D$564)+(COUNTIF(輸入表單!$A$609:$A$648,(data!$B$2+ROW(A5))&$R$2)*輸入表單!$D$607)","v":0},{"$f":"VLOOKUP((data!$B$2+ROW(A5))&輸出雙向細目表!$T$2,data!$H$27:$I$86,2,FALSE)","v":""},{"$f":"(COUNTIF(輸入表單!$A$7:$A$46,(data!$B$2+ROW(A5))&$T$2)*輸入表單!$D$5)+(COUNTIF(輸入表單!$A$50:$A$89,(data!$B$2+ROW(A5))&$T$2)*輸入表單!$D$48)+(COUNTIF(輸入表單!$A$93:$A$132,(data!$B$2+ROW(A5))&$T$2)*輸入表單!$D$91)+(COUNTIF(輸入表單!$A$136:$A$175,(data!$B$2+ROW(A5))&$T$2)*輸入表單!$D$134)+(COUNTIF(輸入表單!$A$179:$A$218,(data!$B$2+ROW(A5))&$T$2)*輸入表單!$D$177)+(COUNTIF(輸入表單!$A$222:$A$261,(data!$B$2+ROW(A5))&$T$2)*輸入表單!$D$220)+(COUNTIF(輸入表單!$A$265:$A$304,(data!$B$2+ROW(A5))&$T$2)*輸入表單!$D$263)+(COUNTIF(輸入表單!$A$308:$A$347,(data!$B$2+ROW(A5))&$T$2)*輸入表單!$D$306)+(COUNTIF(輸入表單!$A$351:$A$390,(data!$B$2+ROW(A5))&$T$2)*輸入表單!$D$349)+(COUNTIF(輸入表單!$A$394:$A$433,(data!$B$2+ROW(A5))&$T$2)*輸入表單!$D$392)+(COUNTIF(輸入表單!$A$437:$A$476,(data!$B$2+ROW(A5))&$T$2)*輸入表單!$D$435)+(COUNTIF(輸入表單!$A$480:$A$519,(data!$B$2+ROW(A5))&$T$2)*輸入表單!$D$478)+(COUNTIF(輸入表單!$A$523:$A$562,(data!$B$2+ROW(A5))&$T$2)*輸入表單!$D$521)+(COUNTIF(輸入表單!$A$566:$A$605,(data!$B$2+ROW(A5))&$T$2)*輸入表單!$D$564)+(COUNTIF(輸入表單!$A$609:$A$648,(data!$B$2+ROW(A5))&$T$2)*輸入表單!$D$607)","v":0},0]
[{"$f":"IF(data!$B$3<data!$B$2+(ROW(A6)),\"\",CONCATENATE(輸入表單!$D$1,輸入表單!$D$2,data!$B$2+(ROW(A6))))","v":""},{"$f":"IF(A10=\"\",\"\",VLOOKUP(A10,data!$C$2:$D$310,2,FALSE))","v":""},null,{"$f":"IF(A10=\"\",\"\",VLOOKUP(A10,data!$C$2:$F$300,4,FALSE))","v":""},"",{"$error":"#DIV/0!"},null,null,"",{"$f":"VLOOKUP((data!$B$2+ROW(A6))&輸出雙向細目表!$J$2,data!$H$27:$I$86,2,FALSE)","v":""},{"$f":"(COUNTIF(輸入表單!$A$7:$A$46,(data!$B$2+ROW(A6))&$J$2)*輸入表單!$D$5)+(COUNTIF(輸入表單!$A$50:$A$89,(data!$B$2+ROW(A6))&$J$2)*輸入表單!$D$48)+(COUNTIF(輸入表單!$A$93:$A$132,(data!$B$2+ROW(A6))&$J$2)*輸入表單!$D$91)+(COUNTIF(輸入表單!$A$136:$A$175,(data!$B$2+ROW(A6))&$J$2)*輸入表單!$D$134)+(COUNTIF(輸入表單!$A$179:$A$218,(data!$B$2+ROW(A6))&$J$2)*輸入表單!$D$177)+(COUNTIF(輸入表單!$A$222:$A$261,(data!$B$2+ROW(A6))&$J$2)*輸入表單!$D$220)+(COUNTIF(輸入表單!$A$265:$A$304,(data!$B$2+ROW(A6))&$J$2)*輸入表單!$D$263)+(COUNTIF(輸入表單!$A$308:$A$347,(data!$B$2+ROW(A6))&$J$2)*輸入表單!$D$306)+(COUNTIF(輸入表單!$A$351:$A$390,(data!$B$2+ROW(A6))&$J$2)*輸入表單!$D$349)+(COUNTIF(輸入表單!$A$394:$A$433,(data!$B$2+ROW(A6))&$J$2)*輸入表單!$D$392)+(COUNTIF(輸入表單!$A$437:$A$476,(data!$B$2+ROW(A6))&$J$2)*輸入表單!$D$435)+(COUNTIF(輸入表單!$A$480:$A$519,(data!$B$2+ROW(A6))&$J$2)*輸入表單!$D$478)+(COUNTIF(輸入表單!$A$523:$A$562,(data!$B$2+ROW(A6))&$J$2)*輸入表單!$D$521)+(COUNTIF(輸入表單!$A$566:$A$605,(data!$B$2+ROW(A6))&$J$2)*輸入表單!$D$564)+(COUNTIF(輸入表單!$A$609:$A$648,(data!$B$2+ROW(A6))&$J$2)*輸入表單!$D$607)","v":0},{"$f":"VLOOKUP((data!$B$2+ROW(A6))&輸出雙向細目表!$L$2,data!$H$27:$I$86,2,FALSE)","v":""},{"$f":"(COUNTIF(輸入表單!$A$7:$A$46,(data!$B$2+ROW(A6))&$L$2)*輸入表單!$D$5)+(COUNTIF(輸入表單!$A$50:$A$89,(data!$B$2+ROW(A6))&$L$2)*輸入表單!$D$48)+(COUNTIF(輸入表單!$A$93:$A$132,(data!$B$2+ROW(A6))&$L$2)*輸入表單!$D$91)+(COUNTIF(輸入表單!$A$136:$A$175,(data!$B$2+ROW(A6))&$L$2)*輸入表單!$D$134)+(COUNTIF(輸入表單!$A$179:$A$218,(data!$B$2+ROW(A6))&$L$2)*輸入表單!$D$177)+(COUNTIF(輸入表單!$A$222:$A$261,(data!$B$2+ROW(A6))&$L$2)*輸入表單!$D$220)+(COUNTIF(輸入表單!$A$265:$A$304,(data!$B$2+ROW(A6))&$L$2)*輸入表單!$D$263)+(COUNTIF(輸入表單!$A$308:$A$347,(data!$B$2+ROW(A6))&$L$2)*輸入表單!$D$306)+(COUNTIF(輸入表單!$A$351:$A$390,(data!$B$2+ROW(A6))&$L$2)*輸入表單!$D$349)+(COUNTIF(輸入表單!$A$394:$A$433,(data!$B$2+ROW(A6))&$L$2)*輸入表單!$D$392)+(COUNTIF(輸入表單!$A$437:$A$476,(data!$B$2+ROW(A6))&$L$2)*輸入表單!$D$435)+(COUNTIF(輸入表單!$A$480:$A$519,(data!$B$2+ROW(A6))&$L$2)*輸入表單!$D$478)+(COUNTIF(輸入表單!$A$523:$A$562,(data!$B$2+ROW(A6))&$L$2)*輸入表單!$D$521)+(COUNTIF(輸入表單!$A$566:$A$605,(data!$B$2+ROW(A6))&$L$2)*輸入表單!$D$564)+(COUNTIF(輸入表單!$A$609:$A$648,(data!$B$2+ROW(A6))&$L$2)*輸入表單!$D$607)","v":0},{"$f":"VLOOKUP((data!$B$2+ROW(A6))&輸出雙向細目表!$N$2,data!$H$27:$I$86,2,FALSE)","v":""},{"$f":"(COUNTIF(輸入表單!$A$7:$A$46,(data!$B$2+ROW(A6))&$N$2)*輸入表單!$D$5)+(COUNTIF(輸入表單!$A$50:$A$89,(data!$B$2+ROW(A6))&$N$2)*輸入表單!$D$48)+(COUNTIF(輸入表單!$A$93:$A$132,(data!$B$2+ROW(A6))&$N$2)*輸入表單!$D$91)+(COUNTIF(輸入表單!$A$136:$A$175,(data!$B$2+ROW(A6))&$N$2)*輸入表單!$D$134)+(COUNTIF(輸入表單!$A$179:$A$218,(data!$B$2+ROW(A6))&$N$2)*輸入表單!$D$177)+(COUNTIF(輸入表單!$A$222:$A$261,(data!$B$2+ROW(A6))&$N$2)*輸入表單!$D$220)+(COUNTIF(輸入表單!$A$265:$A$304,(data!$B$2+ROW(A6))&$N$2)*輸入表單!$D$263)+(COUNTIF(輸入表單!$A$308:$A$347,(data!$B$2+ROW(A6))&$N$2)*輸入表單!$D$306)+(COUNTIF(輸入表單!$A$351:$A$390,(data!$B$2+ROW(A6))&$N$2)*輸入表單!$D$349)+(COUNTIF(輸入表單!$A$394:$A$433,(data!$B$2+ROW(A6))&$N$2)*輸入表單!$D$392)+(COUNTIF(輸入表單!$A$437:$A$476,(data!$B$2+ROW(A6))&$N$2)*輸入表單!$D$435)+(COUNTIF(輸入表單!$A$480:$A$519,(data!$B$2+ROW(A6))&$N$2)*輸入表單!$D$478)+(COUNTIF(輸入表單!$A$523:$A$562,(data!$B$2+ROW(A6))&$N$2)*輸入表單!$D$521)+(COUNTIF(輸入表單!$A$566:$A$605,(data!$B$2+ROW(A6))&$N$2)*輸入表單!$D$564)+(COUNTIF(輸入表單!$A$609:$A$648,(data!$B$2+ROW(A6))&$N$2)*輸入表單!$D$607)","v":0},{"$f":"VLOOKUP((data!$B$2+ROW(A6))&輸出雙向細目表!$P$2,data!$H$27:$I$86,2,FALSE)","v":""},{"$f":"(COUNTIF(輸入表單!$A$7:$A$46,(data!$B$2+ROW(A6))&$P$2)*輸入表單!$D$5)+(COUNTIF(輸入表單!$A$50:$A$89,(data!$B$2+ROW(A6))&$P$2)*輸入表單!$D$48)+(COUNTIF(輸入表單!$A$93:$A$132,(data!$B$2+ROW(A6))&$P$2)*輸入表單!$D$91)+(COUNTIF(輸入表單!$A$136:$A$175,(data!$B$2+ROW(A6))&$P$2)*輸入表單!$D$134)+(COUNTIF(輸入表單!$A$179:$A$218,(data!$B$2+ROW(A6))&$P$2)*輸入表單!$D$177)+(COUNTIF(輸入表單!$A$222:$A$261,(data!$B$2+ROW(A6))&$P$2)*輸入表單!$D$220)+(COUNTIF(輸入表單!$A$265:$A$304,(data!$B$2+ROW(A6))&$P$2)*輸入表單!$D$263)+(COUNTIF(輸入表單!$A$308:$A$347,(data!$B$2+ROW(A6))&$P$2)*輸入表單!$D$306)+(COUNTIF(輸入表單!$A$351:$A$390,(data!$B$2+ROW(A6))&$P$2)*輸入表單!$D$349)+(COUNTIF(輸入表單!$A$394:$A$433,(data!$B$2+ROW(A6))&$P$2)*輸入表單!$D$392)+(COUNTIF(輸入表單!$A$437:$A$476,(data!$B$2+ROW(A6))&$P$2)*輸入表單!$D$435)+(COUNTIF(輸入表單!$A$480:$A$519,(data!$B$2+ROW(A6))&$P$2)*輸入表單!$D$478)+(COUNTIF(輸入表單!$A$523:$A$562,(data!$B$2+ROW(A6))&$P$2)*輸入表單!$D$521)+(COUNTIF(輸入表單!$A$566:$A$605,(data!$B$2+ROW(A6))&$P$2)*輸入表單!$D$564)+(COUNTIF(輸入表單!$A$609:$A$648,(data!$B$2+ROW(A6))&$P$2)*輸入表單!$D$607)","v":0},{"$f":"VLOOKUP((data!$B$2+ROW(A6))&輸出雙向細目表!$R$2,data!$H$27:$I$86,2,FALSE)","v":""},{"$f":"(COUNTIF(輸入表單!$A$7:$A$46,(data!$B$2+ROW(A6))&$R$2)*輸入表單!$D$5)+(COUNTIF(輸入表單!$A$50:$A$89,(data!$B$2+ROW(A6))&$R$2)*輸入表單!$D$48)+(COUNTIF(輸入表單!$A$93:$A$132,(data!$B$2+ROW(A6))&$R$2)*輸入表單!$D$91)+(COUNTIF(輸入表單!$A$136:$A$175,(data!$B$2+ROW(A6))&$R$2)*輸入表單!$D$134)+(COUNTIF(輸入表單!$A$179:$A$218,(data!$B$2+ROW(A6))&$R$2)*輸入表單!$D$177)+(COUNTIF(輸入表單!$A$222:$A$261,(data!$B$2+ROW(A6))&$R$2)*輸入表單!$D$220)+(COUNTIF(輸入表單!$A$265:$A$304,(data!$B$2+ROW(A6))&$R$2)*輸入表單!$D$263)+(COUNTIF(輸入表單!$A$308:$A$347,(data!$B$2+ROW(A6))&$R$2)*輸入表單!$D$306)+(COUNTIF(輸入表單!$A$351:$A$390,(data!$B$2+ROW(A6))&$R$2)*輸入表單!$D$349)+(COUNTIF(輸入表單!$A$394:$A$433,(data!$B$2+ROW(A6))&$R$2)*輸入表單!$D$392)+(COUNTIF(輸入表單!$A$437:$A$476,(data!$B$2+ROW(A6))&$R$2)*輸入表單!$D$435)+(COUNTIF(輸入表單!$A$480:$A$519,(data!$B$2+ROW(A6))&$R$2)*輸入表單!$D$478)+(COUNTIF(輸入表單!$A$523:$A$562,(data!$B$2+ROW(A6))&$R$2)*輸入表單!$D$521)+(COUNTIF(輸入表單!$A$566:$A$605,(data!$B$2+ROW(A6))&$R$2)*輸入表單!$D$564)+(COUNTIF(輸入表單!$A$609:$A$648,(data!$B$2+ROW(A6))&$R$2)*輸入表單!$D$607)","v":0},{"$f":"VLOOKUP((data!$B$2+ROW(A6))&輸出雙向細目表!$T$2,data!$H$27:$I$86,2,FALSE)","v":""},{"$f":"(COUNTIF(輸入表單!$A$7:$A$46,(data!$B$2+ROW(A6))&$T$2)*輸入表單!$D$5)+(COUNTIF(輸入表單!$A$50:$A$89,(data!$B$2+ROW(A6))&$T$2)*輸入表單!$D$48)+(COUNTIF(輸入表單!$A$93:$A$132,(data!$B$2+ROW(A6))&$T$2)*輸入表單!$D$91)+(COUNTIF(輸入表單!$A$136:$A$175,(data!$B$2+ROW(A6))&$T$2)*輸入表單!$D$134)+(COUNTIF(輸入表單!$A$179:$A$218,(data!$B$2+ROW(A6))&$T$2)*輸入表單!$D$177)+(COUNTIF(輸入表單!$A$222:$A$261,(data!$B$2+ROW(A6))&$T$2)*輸入表單!$D$220)+(COUNTIF(輸入表單!$A$265:$A$304,(data!$B$2+ROW(A6))&$T$2)*輸入表單!$D$263)+(COUNTIF(輸入表單!$A$308:$A$347,(data!$B$2+ROW(A6))&$T$2)*輸入表單!$D$306)+(COUNTIF(輸入表單!$A$351:$A$390,(data!$B$2+ROW(A6))&$T$2)*輸入表單!$D$349)+(COUNTIF(輸入表單!$A$394:$A$433,(data!$B$2+ROW(A6))&$T$2)*輸入表單!$D$392)+(COUNTIF(輸入表單!$A$437:$A$476,(data!$B$2+ROW(A6))&$T$2)*輸入表單!$D$435)+(COUNTIF(輸入表單!$A$480:$A$519,(data!$B$2+ROW(A6))&$T$2)*輸入表單!$D$478)+(COUNTIF(輸入表單!$A$523:$A$562,(data!$B$2+ROW(A6))&$T$2)*輸入表單!$D$521)+(COUNTIF(輸入表單!$A$566:$A$605,(data!$B$2+ROW(A6))&$T$2)*輸入表單!$D$564)+(COUNTIF(輸入表單!$A$609:$A$648,(data!$B$2+ROW(A6))&$T$2)*輸入表單!$D$607)","v":0},0]
[null,null,null,{"$f":"SUM(D4:D10)","v":15},{"$f":"SUM(E4:E10)","v":1},{"$error":"#DIV/0!"},null,null,null,{"$f":"SUM(K4:K10)","v":0},null,{"$f":"SUM(M4:M10)","v":0},null,{"$f":"SUM(O4:O10)","v":0},null,{"$f":"SUM(Q4:Q10)","v":0},null,{"$f":"SUM(S4:S10)","v":0},null,{"$f":"SUM(U4:U10)","v":0},null,{"$f":"SUM(V4:V10)","v":0}]
[{"$nulls":8},"審題相關建議："]
[{"$nulls":15},"審題教師簽章："]

{"sheet":"輸出雙向細目表（1下適用）","index":2,"n_rows":16,"n_cols":22,"rows_kept":16,"cut":false,"hidden":false,"merged":[[1,21,2,21],[1,17,1,18],[1,19,1,20],[13,9,13,10],[13,11,13,12],[13,13,13,14],[13,15,13,16],[13,17,13,18],[13,19,13,20],[0,15,0,16],[1,9,1,10],[1,11,1,12],[1,13,1,14],[1,15,1,16]]}
[null,{"$f":"CONCATENATE(\"學科領域：【\",IF(輸入表單!D1=0,\"首冊\",CONCATENATE(輸入表單!D1,\"年級\")),輸入表單!D2,\"】\")","v":"學科領域：【2年級英語】"},null,null,"命題教師簽章：",null,null,null,"二、試題分析雙向細目表：",{"$nulls":6},"分析．評鑑．創作"]
[null,"一、命題範圍單元名稱暨教材比例分佈表：",{"$nulls":6},"認知層次","記憶",null,"了解",null,"應用",null,"高層次思考",null,"評鑑",null,"創作",null,"合計"]
[null,"單元名稱","教學目標","上課節數","理想配分(％)","實際配分(％)",null,null,"單元名稱","題號","配分",{"$f":"$J$3","v":"題號"},{"$f":"$K$3","v":"配分"},{"$f":"$J$3","v":"題號"},{"$f":"$K$3","v":"配分"},{"$f":"$J$3","v":"題號"},{"$f":"$K$3","v":"配分"},{"$f":"$J$3","v":"題號"},{"$f":"$K$3","v":"配分"},{"$f":"$J$3","v":"題號"},{"$f":"$K$3","v":"配分"}]
[{"$f":"CONCATENATE(輸入表單!D1,輸入表單!D2,data!B2)","v":"2英語1"},{"$f":"IF(A4=\"\",\"\",VLOOKUP(A4,data!$C$2:$D$310,2,FALSE))","v":"1.Nn Oo"},{"$f":"IF(A4=\"\",\"\",VLOOKUP(A4,data!$C$2:$E$300,3,FALSE))","v":0},{"$f":"IF(A4=\"\",\"\",VLOOKUP(A4,data!$C$2:$F$300,4,FALSE))","v":0},{"$f":"IF(D4=\"\",\"\",ROUND((D4/$D$14),4))","v":{"$error":"#DIV/0!"}},{"$f":"((COUNTIF(輸入表單!$D$7:$D$46,data!$B$2)*輸入表單!$D$5)+(COUNTIF(輸入表單!$D$50:$D$89,data!$B$2)*輸入表單!$D$48)+(COUNTIF(輸入表單!$D$93:$D$132,data!$B$2)*輸入表單!$D$91)+(COUNTIF(輸入表單!$D$136:$D$175,data!$B$2)*輸入表單!$D$134)+(COUNTIF(輸入表單!$D$179:$D$218,data!$B$2)*輸入表單!$D$177)+(COUNTIF(輸入表單!$D$222:$D$261,data!$B$2)*輸入表單!$D$220)+(COUNTIF(輸入表單!$D$265:$D$304,data!$B$2)*輸入表單!$D$263)+(COUNTIF(輸入表單!$D$308:$D$347,data!$B$2)*輸入表單!$D$306)+(COUNTIF(輸入表單!$D$351:$D$390,data!$B$2)*輸入表單!$D$349)+(COUNTIF(輸入表單!$D$394:$D$433,data!$B$2)*輸入表單!$D$392)+(COUNTIF(輸入表單!$D$437:$D$476,data!$B$2)*輸入表單!$D$435)+(COUNTIF(輸入表單!$D$480:$D$519,data!$B$2)*輸入表單!$D$478)+(COUNTIF(輸入表單!$D$523:$D$562,data!$B$2)*輸入表單!$D$521)+(COUNTIF(輸入表單!$D$566:$D$605,data!$B$2)*輸入表單!$D$564)+(COUNTIF(輸入表單!$D$609:$D$648,data!$B$2)*輸入表單!$D$607))/$V$14","v":{"$error":"#DIV/0!"}},null,null,{"$f":"IF(B4=\"\",\"\",B4)","v":"1.Nn Oo"},{"$f":"VLOOKUP(data!$B$2&'輸出雙向細目表（1下適用）'!$J$2,data!$H$27:$I$86,2,FALSE)","v":""},{"$f":"(COUNTIF(輸入表單!$A$7:$A$46,data!$B$2&$J$2)*輸入表單!$D$5)+(COUNTIF(輸入表單!$A$50:$A$89,data!$B$2&$J$2)*輸入表單!$D$48)+(COUNTIF(輸入表單!$A$93:$A$132,data!$B$2&$J$2)*輸入表單!$D$91)+(COUNTIF(輸入表單!$A$136:$A$175,data!$B$2&$J$2)*輸入表單!$D$134)+(COUNTIF(輸入表單!$A$179:$A$218,data!$B$2&$J$2)*輸入表單!$D$177)+(COUNTIF(輸入表單!$A$222:$A$261,data!$B$2&$J$2)*輸入表單!$D$220)+(COUNTIF(輸入表單!$A$265:$A$304,data!$B$2&$J$2)*輸入表單!$D$263)+(COUNTIF(輸入表單!$A$308:$A$347,data!$B$2&$J$2)*輸入表單!$D$306)+(COUNTIF(輸入表單!$A$351:$A$390,data!$B$2&$J$2)*輸入表單!$D$349)+(COUNTIF(輸入表單!$A$394:$A$433,data!$B$2&$J$2)*輸入表單!$D$392)+(COUNTIF(輸入表單!$A$437:$A$476,data!$B$2&$J$2)*輸入表單!$D$435)+(COUNTIF(輸入表單!$A$480:$A$519,data!$B$2&$J$2)*輸入表單!$D$478)+(COUNTIF(輸入表單!$A$523:$A$562,data!$B$2&$J$2)*輸入表單!$D$521)+(COUNTIF(輸入表單!$A$566:$A$605,data!$B$2&$J$2)*輸入表單!$D$564)+(COUNTIF(輸入表單!$A$609:$A$648,data!$B$2&$J$2)*輸入表單!$D$607)","v":0},{"$f":"VLOOKUP(data!$B$2&'輸出雙向細目表（1下適用）'!$L$2,data!$H$27:$I$86,2,FALSE)","v":""},{"$f":"(COUNTIF(輸入表單!$A$7:$A$46,data!$B$2&$L$2)*輸入表單!$D$5)+(COUNTIF(輸入表單!$A$50:$A$89,data!$B$2&$L$2)*輸入表單!$D$48)+(COUNTIF(輸入表單!$A$93:$A$132,data!$B$2&$L$2)*輸入表單!$D$91)+(COUNTIF(輸入表單!$A$136:$A$175,data!$B$2&$L$2)*輸入表單!$D$134)+(COUNTIF(輸入表單!$A$179:$A$218,data!$B$2&$L$2)*輸入表單!$D$177)+(COUNTIF(輸入表單!$A$222:$A$261,data!$B$2&$L$2)*輸入表單!$D$220)+(COUNTIF(輸入表單!$A$265:$A$304,data!$B$2&$L$2)*輸入表單!$D$263)+(COUNTIF(輸入表單!$A$308:$A$347,data!$B$2&$L$2)*輸入表單!$D$306)+(COUNTIF(輸入表單!$A$351:$A$390,data!$B$2&$L$2)*輸入表單!$D$349)+(COUNTIF(輸入表單!$A$394:$A$433,data!$B$2&$L$2)*輸入表單!$D$392)+(COUNTIF(輸入表單!$A$437:$A$476,data!$B$2&$L$2)*輸入表單!$D$435)+(COUNTIF(輸入表單!$A$480:$A$519,data!$B$2&$L$2)*輸入表單!$D$478)+(COUNTIF(輸入表單!$A$523:$A$562,data!$B$2&$L$2)*輸入表單!$D$521)+(COUNTIF(輸入表單!$A$566:$A$605,data!$B$2&$L$2)*輸入表單!$D$564)+(COUNTIF(輸入表單!$A$609:$A$648,data!$B$2&$L$2)*輸入表單!$D$607)","v":0},{"$f":"VLOOKUP(data!$B$2&'輸出雙向細目表（1下適用）'!$N$2,data!$H$27:$I$86,2,FALSE)","v":""},{"$f":"(COUNTIF(輸入表單!$A$7:$A$46,data!$B$2&$N$2)*輸入表單!$D$5)+(COUNTIF(輸入表單!$A$50:$A$89,data!$B$2&$N$2)*輸入表單!$D$48)+(COUNTIF(輸入表單!$A$93:$A$132,data!$B$2&$N$2)*輸入表單!$D$91)+(COUNTIF(輸入表單!$A$136:$A$175,data!$B$2&$N$2)*輸入表單!$D$134)+(COUNTIF(輸入表單!$A$179:$A$218,data!$B$2&$N$2)*輸入表單!$D$177)+(COUNTIF(輸入表單!$A$222:$A$261,data!$B$2&$N$2)*輸入表單!$D$220)+(COUNTIF(輸入表單!$A$265:$A$304,data!$B$2&$N$2)*輸入表單!$D$263)+(COUNTIF(輸入表單!$A$308:$A$347,data!$B$2&$N$2)*輸入表單!$D$306)+(COUNTIF(輸入表單!$A$351:$A$390,data!$B$2&$N$2)*輸入表單!$D$349)+(COUNTIF(輸入表單!$A$394:$A$433,data!$B$2&$N$2)*輸入表單!$D$392)+(COUNTIF(輸入表單!$A$437:$A$476,data!$B$2&$N$2)*輸入表單!$D$435)+(COUNTIF(輸入表單!$A$480:$A$519,data!$B$2&$N$2)*輸入表單!$D$478)+(COUNTIF(輸入表單!$A$523:$A$562,data!$B$2&$N$2)*輸入表單!$D$521)+(COUNTIF(輸入表單!$A$566:$A$605,data!$B$2&$N$2)*輸入表單!$D$564)+(COUNTIF(輸入表單!$A$609:$A$648,data!$B$2&$N$2)*輸入表單!$D$607)","v":0},{"$f":"VLOOKUP(data!$B$2&'輸出雙向細目表（1下適用）'!$P$2,data!$H$27:$I$86,2,FALSE)","v":""},{"$f":"(COUNTIF(輸入表單!$A$7:$A$46,data!$B$2&$P$2)*輸入表單!$D$5)+(COUNTIF(輸入表單!$A$50:$A$89,data!$B$2&$P$2)*輸入表單!$D$48)+(COUNTIF(輸入表單!$A$93:$A$132,data!$B$2&$P$2)*輸入表單!$D$91)+(COUNTIF(輸入表單!$A$136:$A$175,data!$B$2&$P$2)*輸入表單!$D$134)+(COUNTIF(輸入表單!$A$179:$A$218,data!$B$2&$P$2)*輸入表單!$D$177)+(COUNTIF(輸入表單!$A$222:$A$261,data!$B$2&$P$2)*輸入表單!$D$220)+(COUNTIF(輸入表單!$A$265:$A$304,data!$B$2&$P$2)*輸入表單!$D$263)+(COUNTIF(輸入表單!$A$308:$A$347,data!$B$2&$P$2)*輸入表單!$D$306)+(COUNTIF(輸入表單!$A$351:$A$390,data!$B$2&$P$2)*輸入表單!$D$349)+(COUNTIF(輸入表單!$A$394:$A$433,data!$B$2&$P$2)*輸入表單!$D$392)+(COUNTIF(輸入表單!$A$437:$A$476,data!$B$2&$P$2)*輸入表單!$D$435)+(COUNTIF(輸入表單!$A$480:$A$519,data!$B$2&$P$2)*輸入表單!$D$478)+(COUNTIF(輸入表單!$A$523:$A$562,data!$B$2&$P$2)*輸入表單!$D$521)+(COUNTIF(輸入表單!$A$566:$A$605,data!$B$2&$P$2)*輸入表單!$D$564)+(COUNTIF(輸入表單!$A$609:$A$648,data!$B$2&$P$2)*輸入表單!$D$607)","v":0},{"$f":"VLOOKUP(data!$B$2&'輸出雙向細目表（1下適用）'!$R$2,data!$H$27:$I$86,2,FALSE)","v":""},{"$f":"(COUNTIF(輸入表單!$A$7:$A$46,data!$B$2&$R$2)*輸入表單!$D$5)+(COUNTIF(輸入表單!$A$50:$A$89,data!$B$2&$R$2)*輸入表單!$D$48)+(COUNTIF(輸入表單!$A$93:$A$132,data!$B$2&$R$2)*輸入表單!$D$91)+(COUNTIF(輸入表單!$A$136:$A$175,data!$B$2&$R$2)*輸入表單!$D$134)+(COUNTIF(輸入表單!$A$179:$A$218,data!$B$2&$R$2)*輸入表單!$D$177)+(COUNTIF(輸入表單!$A$222:$A$261,data!$B$2&$R$2)*輸入表單!$D$220)+(COUNTIF(輸入表單!$A$265:$A$304,data!$B$2&$R$2)*輸入表單!$D$263)+(COUNTIF(輸入表單!$A$308:$A$347,data!$B$2&$R$2)*輸入表單!$D$306)+(COUNTIF(輸入表單!$A$351:$A$390,data!$B$2&$R$2)*輸入表單!$D$349)+(COUNTIF(輸入表單!$A$394:$A$433,data!$B$2&$R$2)*輸入表單!$D$392)+(COUNTIF(輸入表單!$A$437:$A$476,data!$B$2&$R$2)*輸入表單!$D$435)+(COUNTIF(輸入表單!$A$480:$A$519,data!$B$2&$R$2)*輸入表單!$D$478)+(COUNTIF(輸入表單!$A$523:$A$562,data!$B$2&$R$2)*輸入表單!$D$521)+(COUNTIF(輸入表單!$A$566:$A$605,data!$B$2&$R$2)*輸入表單!$D$564)+(COUNTIF(輸入表單!$A$609:$A$648,data!$B$2&$R$2)*輸入表單!$D$607)","v":0},{"$f":"VLOOKUP(data!$B$2&'輸出雙向細目表（1下適用）'!$T$2,data!$H$27:$I$86,2,FALSE)","v":""},{"$f":"(COUNTIF(輸入表單!$A$7:$A$46,data!$B$2&$T$2)*輸入表單!$D$5)+(COUNTIF(輸入表單!$A$50:$A$89,data!$B$2&$T$2)*輸入表單!$D$48)+(COUNTIF(輸入表單!$A$93:$A$132,data!$B$2&$T$2)*輸入表單!$D$91)+(COUNTIF(輸入表單!$A$136:$A$175,data!$B$2&$T$2)*輸入表單!$D$134)+(COUNTIF(輸入表單!$A$179:$A$218,data!$B$2&$T$2)*輸入表單!$D$177)+(COUNTIF(輸入表單!$A$222:$A$261,data!$B$2&$T$2)*輸入表單!$D$220)+(COUNTIF(輸入表單!$A$265:$A$304,data!$B$2&$T$2)*輸入表單!$D$263)+(COUNTIF(輸入表單!$A$308:$A$347,data!$B$2&$T$2)*輸入表單!$D$306)+(COUNTIF(輸入表單!$A$351:$A$390,data!$B$2&$T$2)*輸入表單!$D$349)+(COUNTIF(輸入表單!$A$394:$A$433,data!$B$2&$T$2)*輸入表單!$D$392)+(COUNTIF(輸入表單!$A$437:$A$476,data!$B$2&$T$2)*輸入表單!$D$435)+(COUNTIF(輸入表單!$A$480:$A$519,data!$B$2&$T$2)*輸入表單!$D$478)+(COUNTIF(輸入表單!$A$523:$A$562,data!$B$2&$T$2)*輸入表單!$D$521)+(COUNTIF(輸入表單!$A$566:$A$605,data!$B$2&$T$2)*輸入表單!$D$564)+(COUNTIF(輸入表單!$A$609:$A$648,data!$B$2&$T$2)*輸入表單!$D$607)","v":0},{"$f":"K4+M4+O4+Q4+S4+U4","v":0}]
[{"$f":"IF(data!$B$3<data!$B$2+(ROW(A1)),\"\",CONCATENATE(輸入表單!$D$1,輸入表單!$D$2,data!$B$2+(ROW(A1))))","v":"2英語2"},{"$f":"IF(A5=\"\",\"\",VLOOKUP(A5,data!$C$2:$D$310,2,FALSE))","v":"2.Pp Qq"},{"$f":"IF(A5=\"\",\"\",VLOOKUP(A5,data!$C$2:$E$300,3,FALSE))","v":0},{"$f":"IF(A5=\"\",\"\",VLOOKUP(A5,data!$C$2:$F$300,4,FALSE))","v":0},{"$f":"IF(D5=\"\",\"\",ROUND((D5/$D$14),4))","v":{"$error":"#DIV/0!"}},{"$f":"((COUNTIF(輸入表單!$D$7:$D$46,(data!$B$2+ROW(A1)))*輸入表單!$D$5)+(COUNTIF(輸入表單!$D$50:$D$89,(data!$B$2+ROW(A1)))*輸入表單!$D$48)+(COUNTIF(輸入表單!$D$93:$D$132,(data!$B$2+ROW(A1)))*輸入表單!$D$91)+(COUNTIF(輸入表單!$D$136:$D$175,(data!$B$2+ROW(A1)))*輸入表單!$D$134)+(COUNTIF(輸入表單!$D$179:$D$218,(data!$B$2+ROW(A1)))*輸入表單!$D$177)+(COUNTIF(輸入表單!$D$222:$D$261,(data!$B$2+ROW(A1)))*輸入表單!$D$220)+(COUNTIF(輸入表單!$D$265:$D$304,(data!$B$2+ROW(A1)))*輸入表單!$D$263)+(COUNTIF(輸入表單!$D$308:$D$347,(data!$B$2+ROW(A1)))*輸入表單!$D$306)+(COUNTIF(輸入表單!$D$351:$D$390,(data!$B$2+ROW(A1)))*輸入表單!$D$349)+(COUNTIF(輸入表單!$D$394:$D$433,(data!$B$2+ROW(A1)))*輸入表單!$D$392)+(COUNTIF(輸入表單!$D$437:$D$476,(data!$B$2+ROW(A1)))*輸入表單!$D$435)+(COUNTIF(輸入表單!$D$480:$D$519,(data!$B$2+ROW(A1)))*輸入表單!$D$478)+(COUNTIF(輸入表單!$D$523:$D$562,(data!$B$2+ROW(A1)))*輸入表單!$D$521)+(COUNTIF(輸入表單!$D$566:$D$605,(data!$B$2+ROW(A1)))*輸入表單!$D$564)+(COUNTIF(輸入表單!$D$609:$D$648,(data!$B$2+ROW(A1)))*輸入表單!$D$607))/$V$14","v":{"$error":"#DIV/0!"}},null,null,{"$f":"IF(B5=\"\",\"\",B5)","v":"2.Pp Qq"},{"$f":"VLOOKUP((data!$B$2+ROW(A1))&'輸出雙向細目表（1下適用）'!$J$2,data!$H$27:$I$86,2,FALSE)","v":""},{"$f":"(COUNTIF(輸入表單!$A$7:$A$46,(data!$B$2+ROW(A1))&$J$2)*輸入表單!$D$5)+(COUNTIF(輸入表單!$A$50:$A$89,(data!$B$2+ROW(A1))&$J$2)*輸入表單!$D$48)+(COUNTIF(輸入表單!$A$93:$A$132,(data!$B$2+ROW(A1))&$J$2)*輸入表單!$D$91)+(COUNTIF(輸入表單!$A$136:$A$175,(data!$B$2+ROW(A1))&$J$2)*輸入表單!$D$134)+(COUNTIF(輸入表單!$A$179:$A$218,(data!$B$2+ROW(A1))&$J$2)*輸入表單!$D$177)+(COUNTIF(輸入表單!$A$222:$A$261,(data!$B$2+ROW(A1))&$J$2)*輸入表單!$D$220)+(COUNTIF(輸入表單!$A$265:$A$304,(data!$B$2+ROW(A1))&$J$2)*輸入表單!$D$263)+(COUNTIF(輸入表單!$A$308:$A$347,(data!$B$2+ROW(A1))&$J$2)*輸入表單!$D$306)+(COUNTIF(輸入表單!$A$351:$A$390,(data!$B$2+ROW(A1))&$J$2)*輸入表單!$D$349)+(COUNTIF(輸入表單!$A$394:$A$433,(data!$B$2+ROW(A1))&$J$2)*輸入表單!$D$392)+(COUNTIF(輸入表單!$A$437:$A$476,(data!$B$2+ROW(A1))&$J$2)*輸入表單!$D$435)+(COUNTIF(輸入表單!$A$480:$A$519,(data!$B$2+ROW(A1))&$J$2)*輸入表單!$D$478)+(COUNTIF(輸入表單!$A$523:$A$562,(data!$B$2+ROW(A1))&$J$2)*輸入表單!$D$521)+(COUNTIF(輸入表單!$A$566:$A$605,(data!$B$2+ROW(A1))&$J$2)*輸入表單!$D$564)+(COUNTIF(輸入表單!$A$609:$A$648,(data!$B$2+ROW(A1))&$J$2)*輸入表單!$D$607)","v":0},{"$f":"VLOOKUP((data!$B$2+ROW(A1))&'輸出雙向細目表（1下適用）'!$L$2,data!$H$27:$I$86,2,FALSE)","v":""},{"$f":"(COUNTIF(輸入表單!$A$7:$A$46,(data!$B$2+ROW(A1))&$L$2)*輸入表單!$D$5)+(COUNTIF(輸入表單!$A$50:$A$89,(data!$B$2+ROW(A1))&$L$2)*輸入表單!$D$48)+(COUNTIF(輸入表單!$A$93:$A$132,(data!$B$2+ROW(A1))&$L$2)*輸入表單!$D$91)+(COUNTIF(輸入表單!$A$136:$A$175,(data!$B$2+ROW(A1))&$L$2)*輸入表單!$D$134)+(COUNTIF(輸入表單!$A$179:$A$218,(data!$B$2+ROW(A1))&$L$2)*輸入表單!$D$177)+(COUNTIF(輸入表單!$A$222:$A$261,(data!$B$2+ROW(A1))&$L$2)*輸入表單!$D$220)+(COUNTIF(輸入表單!$A$265:$A$304,(data!$B$2+ROW(A1))&$L$2)*輸入表單!$D$263)+(COUNTIF(輸入表單!$A$308:$A$347,(data!$B$2+ROW(A1))&$L$2)*輸入表單!$D$306)+(COUNTIF(輸入表單!$A$351:$A$390,(data!$B$2+ROW(A1))&$L$2)*輸入表單!$D$349)+(COUNTIF(輸入表單!$A$394:$A$433,(data!$B$2+ROW(A1))&$L$2)*輸入表單!$D$392)+(COUNTIF(輸入表單!$A$437:$A$476,(data!$B$2+ROW(A1))&$L$2)*輸入表單!$D$435)+(COUNTIF(輸入表單!$A$480:$A$519,(data!$B$2+ROW(A1))&$L$2)*輸入表單!$D$478)+(COUNTIF(輸入表單!$A$523:$A$562,(data!$B$2+ROW(A1))&$L$2)*輸入表單!$D$521)+(COUNTIF(輸入表單!$A$566:$A$605,(data!$B$2+ROW(A1))&$L$2)*輸入表單!$D$564)+(COUNTIF(輸入表單!$A$609:$A$648,(data!$B$2+ROW(A1))&$L$2)*輸入表單!$D$607)","v":0},{"$f":"VLOOKUP((data!$B$2+ROW(A1))&'輸出雙向細目表（1下適用）'!$N$2,data!$H$27:$I$86,2,FALSE)","v":""},{"$f":"(COUNTIF(輸入表單!$A$7:$A$46,(data!$B$2+ROW(A1))&$N$2)*輸入表單!$D$5)+(COUNTIF(輸入表單!$A$50:$A$89,(data!$B$2+ROW(A1))&$N$2)*輸入表單!$D$48)+(COUNTIF(輸入表單!$A$93:$A$132,(data!$B$2+ROW(A1))&$N$2)*輸入表單!$D$91)+(COUNTIF(輸入表單!$A$136:$A$175,(data!$B$2+ROW(A1))&$N$2)*輸入表單!$D$134)+(COUNTIF(輸入表單!$A$179:$A$218,(data!$B$2+ROW(A1))&$N$2)*輸入表單!$D$177)+(COUNTIF(輸入表單!$A$222:$A$261,(data!$B$2+ROW(A1))&$N$2)*輸入表單!$D$220)+(COUNTIF(輸入表單!$A$265:$A$304,(data!$B$2+ROW(A1))&$N$2)*輸入表單!$D$263)+(COUNTIF(輸入表單!$A$308:$A$347,(data!$B$2+ROW(A1))&$N$2)*輸入表單!$D$306)+(COUNTIF(輸入表單!$A$351:$A$390,(data!$B$2+ROW(A1))&$N$2)*輸入表單!$D$349)+(COUNTIF(輸入表單!$A$394:$A$433,(data!$B$2+ROW(A1))&$N$2)*輸入表單!$D$392)+(COUNTIF(輸入表單!$A$437:$A$476,(data!$B$2+ROW(A1))&$N$2)*輸入表單!$D$435)+(COUNTIF(輸入表單!$A$480:$A$519,(data!$B$2+ROW(A1))&$N$2)*輸入表單!$D$478)+(COUNTIF(輸入表單!$A$523:$A$562,(data!$B$2+ROW(A1))&$N$2)*輸入表單!$D$521)+(COUNTIF(輸入表單!$A$566:$A$605,(data!$B$2+ROW(A1))&$N$2)*輸入表單!$D$564)+(COUNTIF(輸入表單!$A$609:$A$648,(data!$B$2+ROW(A1))&$N$2)*輸入表單!$D$607)","v":0},{"$f":"VLOOKUP((data!$B$2+ROW(A1))&'輸出雙向細目表（1下適用）'!$P$2,data!$H$27:$I$86,2,FALSE)","v":""},{"$f":"(COUNTIF(輸入表單!$A$7:$A$46,(data!$B$2+ROW(A1))&$P$2)*輸入表單!$D$5)+(COUNTIF(輸入表單!$A$50:$A$89,(data!$B$2+ROW(A1))&$P$2)*輸入表單!$D$48)+(COUNTIF(輸入表單!$A$93:$A$132,(data!$B$2+ROW(A1))&$P$2)*輸入表單!$D$91)+(COUNTIF(輸入表單!$A$136:$A$175,(data!$B$2+ROW(A1))&$P$2)*輸入表單!$D$134)+(COUNTIF(輸入表單!$A$179:$A$218,(data!$B$2+ROW(A1))&$P$2)*輸入表單!$D$177)+(COUNTIF(輸入表單!$A$222:$A$261,(data!$B$2+ROW(A1))&$P$2)*輸入表單!$D$220)+(COUNTIF(輸入表單!$A$265:$A$304,(data!$B$2+ROW(A1))&$P$2)*輸入表單!$D$263)+(COUNTIF(輸入表單!$A$308:$A$347,(data!$B$2+ROW(A1))&$P$2)*輸入表單!$D$306)+(COUNTIF(輸入表單!$A$351:$A$390,(data!$B$2+ROW(A1))&$P$2)*輸入表單!$D$349)+(COUNTIF(輸入表單!$A$394:$A$433,(data!$B$2+ROW(A1))&$P$2)*輸入表單!$D$392)+(COUNTIF(輸入表單!$A$437:$A$476,(data!$B$2+ROW(A1))&$P$2)*輸入表單!$D$435)+(COUNTIF(輸入表單!$A$480:$A$519,(data!$B$2+ROW(A1))&$P$2)*輸入表單!$D$478)+(COUNTIF(輸入表單!$A$523:$A$562,(data!$B$2+ROW(A1))&$P$2)*輸入表單!$D$521)+(COUNTIF(輸入表單!$A$566:$A$605,(data!$B$2+ROW(A1))&$P$2)*輸入表單!$D$564)+(COUNTIF(輸入表單!$A$609:$A$648,(data!$B$2+ROW(A1))&$P$2)*輸入表單!$D$607)","v":0},{"$f":"VLOOKUP((data!$B$2+ROW(A1))&'輸出雙向細目表（1下適用）'!$R$2,data!$H$27:$I$86,2,FALSE)","v":""},{"$f":"(COUNTIF(輸入表單!$A$7:$A$46,(data!$B$2+ROW(A1))&$R$2)*輸入表單!$D$5)+(COUNTIF(輸入表單!$A$50:$A$89,(data!$B$2+ROW(A1))&$R$2)*輸入表單!$D$48)+(COUNTIF(輸入表單!$A$93:$A$132,(data!$B$2+ROW(A1))&$R$2)*輸入表單!$D$91)+(COUNTIF(輸入表單!$A$136:$A$175,(data!$B$2+ROW(A1))&$R$2)*輸入表單!$D$134)+(COUNTIF(輸入表單!$A$179:$A$218,(data!$B$2+ROW(A1))&$R$2)*輸入表單!$D$177)+(COUNTIF(輸入表單!$A$222:$A$261,(data!$B$2+ROW(A1))&$R$2)*輸入表單!$D$220)+(COUNTIF(輸入表單!$A$265:$A$304,(data!$B$2+ROW(A1))&$R$2)*輸入表單!$D$263)+(COUNTIF(輸入表單!$A$308:$A$347,(data!$B$2+ROW(A1))&$R$2)*輸入表單!$D$306)+(COUNTIF(輸入表單!$A$351:$A$390,(data!$B$2+ROW(A1))&$R$2)*輸入表單!$D$349)+(COUNTIF(輸入表單!$A$394:$A$433,(data!$B$2+ROW(A1))&$R$2)*輸入表單!$D$392)+(COUNTIF(輸入表單!$A$437:$A$476,(data!$B$2+ROW(A1))&$R$2)*輸入表單!$D$435)+(COUNTIF(輸入表單!$A$480:$A$519,(data!$B$2+ROW(A1))&$R$2)*輸入表單!$D$478)+(COUNTIF(輸入表單!$A$523:$A$562,(data!$B$2+ROW(A1))&$R$2)*輸入表單!$D$521)+(COUNTIF(輸入表單!$A$566:$A$605,(data!$B$2+ROW(A1))&$R$2)*輸入表單!$D$564)+(COUNTIF(輸入表單!$A$609:$A$648,(data!$B$2+ROW(A1))&$R$2)*輸入表單!$D$607)","v":0},{"$f":"VLOOKUP((data!$B$2+ROW(A1))&'輸出雙向細目表（1下適用）'!$T$2,data!$H$27:$I$86,2,FALSE)","v":""},{"$f":"(COUNTIF(輸入表單!$A$7:$A$46,(data!$B$2+ROW(A1))&$T$2)*輸入表單!$D$5)+(COUNTIF(輸入表單!$A$50:$A$89,(data!$B$2+ROW(A1))&$T$2)*輸入表單!$D$48)+(COUNTIF(輸入表單!$A$93:$A$132,(data!$B$2+ROW(A1))&$T$2)*輸入表單!$D$91)+(COUNTIF(輸入表單!$A$136:$A$175,(data!$B$2+ROW(A1))&$T$2)*輸入表單!$D$134)+(COUNTIF(輸入表單!$A$179:$A$218,(data!$B$2+ROW(A1))&$T$2)*輸入表單!$D$177)+(COUNTIF(輸入表單!$A$222:$A$261,(data!$B$2+ROW(A1))&$T$2)*輸入表單!$D$220)+(COUNTIF(輸入表單!$A$265:$A$304,(data!$B$2+ROW(A1))&$T$2)*輸入表單!$D$263)+(COUNTIF(輸入表單!$A$308:$A$347,(data!$B$2+ROW(A1))&$T$2)*輸入表單!$D$306)+(COUNTIF(輸入表單!$A$351:$A$390,(data!$B$2+ROW(A1))&$T$2)*輸入表單!$D$349)+(COUNTIF(輸入表單!$A$394:$A$433,(data!$B$2+ROW(A1))&$T$2)*輸入表單!$D$392)+(COUNTIF(輸入表單!$A$437:$A$476,(data!$B$2+ROW(A1))&$T$2)*輸入表單!$D$435)+(COUNTIF(輸入表單!$A$480:$A$519,(data!$B$2+ROW(A1))&$T$2)*輸入表單!$D$478)+(COUNTIF(輸入表單!$A$523:$A$562,(data!$B$2+ROW(A1))&$T$2)*輸入表單!$D$521)+(COUNTIF(輸入表單!$A$566:$A$605,(data!$B$2+ROW(A1))&$T$2)*輸入表單!$D$564)+(COUNTIF(輸入表單!$A$609:$A$648,(data!$B$2+ROW(A1))&$T$2)*輸入表單!$D$607)","v":0},0]
[{"$f":"IF(data!$B$3<data!$B$2+(ROW(A2)),\"\",CONCATENATE(輸入表單!$D$1,輸入表單!$D$2,data!$B$2+(ROW(A2))))","v":""},{"$f":"IF(A6=\"\",\"\",VLOOKUP(A6,data!$C$2:$D$310,2,FALSE))","v":""},{"$f":"IF(A6=\"\",\"\",VLOOKUP(A6,data!$C$2:$E$300,3,FALSE))","v":""},{"$f":"IF(A6=\"\",\"\",VLOOKUP(A6,data!$C$2:$F$300,4,FALSE))","v":""},"",{"$f":"((COUNTIF(輸入表單!$D$7:$D$46,(data!$B$2+ROW(A2)))*輸入表單!$D$5)+(COUNTIF(輸入表單!$D$50:$D$89,(data!$B$2+ROW(A2)))*輸入表單!$D$48)+(COUNTIF(輸入表單!$D$93:$D$132,(data!$B$2+ROW(A2)))*輸入表單!$D$91)+(COUNTIF(輸入表單!$D$136:$D$175,(data!$B$2+ROW(A2)))*輸入表單!$D$134)+(COUNTIF(輸入表單!$D$179:$D$218,(data!$B$2+ROW(A2)))*輸入表單!$D$177)+(COUNTIF(輸入表單!$D$222:$D$261,(data!$B$2+ROW(A2)))*輸入表單!$D$220)+(COUNTIF(輸入表單!$D$265:$D$304,(data!$B$2+ROW(A2)))*輸入表單!$D$263)+(COUNTIF(輸入表單!$D$308:$D$347,(data!$B$2+ROW(A2)))*輸入表單!$D$306)+(COUNTIF(輸入表單!$D$351:$D$390,(data!$B$2+ROW(A2)))*輸入表單!$D$349)+(COUNTIF(輸入表單!$D$394:$D$433,(data!$B$2+ROW(A2)))*輸入表單!$D$392)+(COUNTIF(輸入表單!$D$437:$D$476,(data!$B$2+ROW(A2)))*輸入表單!$D$435)+(COUNTIF(輸入表單!$D$480:$D$519,(data!$B$2+ROW(A2)))*輸入表單!$D$478)+(COUNTIF(輸入表單!$D$523:$D$562,(data!$B$2+ROW(A2)))*輸入表單!$D$521)+(COUNTIF(輸入表單!$D$566:$D$605,(data!$B$2+ROW(A2)))*輸入表單!$D$564)+(COUNTIF(輸入表單!$D$609:$D$648,(data!$B$2+ROW(A2)))*輸入表單!$D$607))/$V$14","v":{"$error":"#DIV/0!"}},null,null,"",{"$f":"VLOOKUP((data!$B$2+ROW(A2))&'輸出雙向細目表（1下適用）'!$J$2,data!$H$27:$I$86,2,FALSE)","v":""},{"$f":"(COUNTIF(輸入表單!$A$7:$A$46,(data!$B$2+ROW(A2))&$J$2)*輸入表單!$D$5)+(COUNTIF(輸入表單!$A$50:$A$89,(data!$B$2+ROW(A2))&$J$2)*輸入表單!$D$48)+(COUNTIF(輸入表單!$A$93:$A$132,(data!$B$2+ROW(A2))&$J$2)*輸入表單!$D$91)+(COUNTIF(輸入表單!$A$136:$A$175,(data!$B$2+ROW(A2))&$J$2)*輸入表單!$D$134)+(COUNTIF(輸入表單!$A$179:$A$218,(data!$B$2+ROW(A2))&$J$2)*輸入表單!$D$177)+(COUNTIF(輸入表單!$A$222:$A$261,(data!$B$2+ROW(A2))&$J$2)*輸入表單!$D$220)+(COUNTIF(輸入表單!$A$265:$A$304,(data!$B$2+ROW(A2))&$J$2)*輸入表單!$D$263)+(COUNTIF(輸入表單!$A$308:$A$347,(data!$B$2+ROW(A2))&$J$2)*輸入表單!$D$306)+(COUNTIF(輸入表單!$A$351:$A$390,(data!$B$2+ROW(A2))&$J$2)*輸入表單!$D$349)+(COUNTIF(輸入表單!$A$394:$A$433,(data!$B$2+ROW(A2))&$J$2)*輸入表單!$D$392)+(COUNTIF(輸入表單!$A$437:$A$476,(data!$B$2+ROW(A2))&$J$2)*輸入表單!$D$435)+(COUNTIF(輸入表單!$A$480:$A$519,(data!$B$2+ROW(A2))&$J$2)*輸入表單!$D$478)+(COUNTIF(輸入表單!$A$523:$A$562,(data!$B$2+ROW(A2))&$J$2)*輸入表單!$D$521)+(COUNTIF(輸入表單!$A$566:$A$605,(data!$B$2+ROW(A2))&$J$2)*輸入表單!$D$564)+(COUNTIF(輸入表單!$A$609:$A$648,(data!$B$2+ROW(A2))&$J$2)*輸入表單!$D$607)","v":0},{"$f":"VLOOKUP((data!$B$2+ROW(A2))&'輸出雙向細目表（1下適用）'!$L$2,data!$H$27:$I$86,2,FALSE)","v":""},{"$f":"(COUNTIF(輸入表單!$A$7:$A$46,(data!$B$2+ROW(A2))&$L$2)*輸入表單!$D$5)+(COUNTIF(輸入表單!$A$50:$A$89,(data!$B$2+ROW(A2))&$L$2)*輸入表單!$D$48)+(COUNTIF(輸入表單!$A$93:$A$132,(data!$B$2+ROW(A2))&$L$2)*輸入表單!$D$91)+(COUNTIF(輸入表單!$A$136:$A$175,(data!$B$2+ROW(A2))&$L$2)*輸入表單!$D$134)+(COUNTIF(輸入表單!$A$179:$A$218,(data!$B$2+ROW(A2))&$L$2)*輸入表單!$D$177)+(COUNTIF(輸入表單!$A$222:$A$261,(data!$B$2+ROW(A2))&$L$2)*輸入表單!$D$220)+(COUNTIF(輸入表單!$A$265:$A$304,(data!$B$2+ROW(A2))&$L$2)*輸入表單!$D$263)+(COUNTIF(輸入表單!$A$308:$A$347,(data!$B$2+ROW(A2))&$L$2)*輸入表單!$D$306)+(COUNTIF(輸入表單!$A$351:$A$390,(data!$B$2+ROW(A2))&$L$2)*輸入表單!$D$349)+(COUNTIF(輸入表單!$A$394:$A$433,(data!$B$2+ROW(A2))&$L$2)*輸入表單!$D$392)+(COUNTIF(輸入表單!$A$437:$A$476,(data!$B$2+ROW(A2))&$L$2)*輸入表單!$D$435)+(COUNTIF(輸入表單!$A$480:$A$519,(data!$B$2+ROW(A2))&$L$2)*輸入表單!$D$478)+(COUNTIF(輸入表單!$A$523:$A$562,(data!$B$2+ROW(A2))&$L$2)*輸入表單!$D$521)+(COUNTIF(輸入表單!$A$566:$A$605,(data!$B$2+ROW(A2))&$L$2)*輸入表單!$D$564)+(COUNTIF(輸入表單!$A$609:$A$648,(data!$B$2+ROW(A2))&$L$2)*輸入表單!$D$607)","v":0},{"$f":"VLOOKUP((data!$B$2+ROW(A2))&'輸出雙向細目表（1下適用）'!$N$2,data!$H$27:$I$86,2,FALSE)","v":""},{"$f":"(COUNTIF(輸入表單!$A$7:$A$46,(data!$B$2+ROW(A2))&$N$2)*輸入表單!$D$5)+(COUNTIF(輸入表單!$A$50:$A$89,(data!$B$2+ROW(A2))&$N$2)*輸入表單!$D$48)+(COUNTIF(輸入表單!$A$93:$A$132,(data!$B$2+ROW(A2))&$N$2)*輸入表單!$D$91)+(COUNTIF(輸入表單!$A$136:$A$175,(data!$B$2+ROW(A2))&$N$2)*輸入表單!$D$134)+(COUNTIF(輸入表單!$A$179:$A$218,(data!$B$2+ROW(A2))&$N$2)*輸入表單!$D$177)+(COUNTIF(輸入表單!$A$222:$A$261,(data!$B$2+ROW(A2))&$N$2)*輸入表單!$D$220)+(COUNTIF(輸入表單!$A$265:$A$304,(data!$B$2+ROW(A2))&$N$2)*輸入表單!$D$263)+(COUNTIF(輸入表單!$A$308:$A$347,(data!$B$2+ROW(A2))&$N$2)*輸入表單!$D$306)+(COUNTIF(輸入表單!$A$351:$A$390,(data!$B$2+ROW(A2))&$N$2)*輸入表單!$D$349)+(COUNTIF(輸入表單!$A$394:$A$433,(data!$B$2+ROW(A2))&$N$2)*輸入表單!$D$392)+(COUNTIF(輸入表單!$A$437:$A$476,(data!$B$2+ROW(A2))&$N$2)*輸入表單!$D$435)+(COUNTIF(輸入表單!$A$480:$A$519,(data!$B$2+ROW(A2))&$N$2)*輸入表單!$D$478)+(COUNTIF(輸入表單!$A$523:$A$562,(data!$B$2+ROW(A2))&$N$2)*輸入表單!$D$521)+(COUNTIF(輸入表單!$A$566:$A$605,(data!$B$2+ROW(A2))&$N$2)*輸入表單!$D$564)+(COUNTIF(輸入表單!$A$609:$A$648,(data!$B$2+ROW(A2))&$N$2)*輸入表單!$D$607)","v":0},{"$f":"VLOOKUP((data!$B$2+ROW(A2))&'輸出雙向細目表（1下適用）'!$P$2,data!$H$27:$I$86,2,FALSE)","v":""},{"$f":"(COUNTIF(輸入表單!$A$7:$A$46,(data!$B$2+ROW(A2))&$P$2)*輸入表單!$D$5)+(COUNTIF(輸入表單!$A$50:$A$89,(data!$B$2+ROW(A2))&$P$2)*輸入表單!$D$48)+(COUNTIF(輸入表單!$A$93:$A$132,(data!$B$2+ROW(A2))&$P$2)*輸入表單!$D$91)+(COUNTIF(輸入表單!$A$136:$A$175,(data!$B$2+ROW(A2))&$P$2)*輸入表單!$D$134)+(COUNTIF(輸入表單!$A$179:$A$218,(data!$B$2+ROW(A2))&$P$2)*輸入表單!$D$177)+(COUNTIF(輸入表單!$A$222:$A$261,(data!$B$2+ROW(A2))&$P$2)*輸入表單!$D$220)+(COUNTIF(輸入表單!$A$265:$A$304,(data!$B$2+ROW(A2))&$P$2)*輸入表單!$D$263)+(COUNTIF(輸入表單!$A$308:$A$347,(data!$B$2+ROW(A2))&$P$2)*輸入表單!$D$306)+(COUNTIF(輸入表單!$A$351:$A$390,(data!$B$2+ROW(A2))&$P$2)*輸入表單!$D$349)+(COUNTIF(輸入表單!$A$394:$A$433,(data!$B$2+ROW(A2))&$P$2)*輸入表單!$D$392)+(COUNTIF(輸入表單!$A$437:$A$476,(data!$B$2+ROW(A2))&$P$2)*輸入表單!$D$435)+(COUNTIF(輸入表單!$A$480:$A$519,(data!$B$2+ROW(A2))&$P$2)*輸入表單!$D$478)+(COUNTIF(輸入表單!$A$523:$A$562,(data!$B$2+ROW(A2))&$P$2)*輸入表單!$D$521)+(COUNTIF(輸入表單!$A$566:$A$605,(data!$B$2+ROW(A2))&$P$2)*輸入表單!$D$564)+(COUNTIF(輸入表單!$A$609:$A$648,(data!$B$2+ROW(A2))&$P$2)*輸入表單!$D$607)","v":0},{"$f":"VLOOKUP((data!$B$2+ROW(A2))&'輸出雙向細目表（1下適用）'!$R$2,data!$H$27:$I$86,2,FALSE)","v":""},{"$f":"(COUNTIF(輸入表單!$A$7:$A$46,(data!$B$2+ROW(A2))&$R$2)*輸入表單!$D$5)+(COUNTIF(輸入表單!$A$50:$A$89,(data!$B$2+ROW(A2))&$R$2)*輸入表單!$D$48)+(COUNTIF(輸入表單!$A$93:$A$132,(data!$B$2+ROW(A2))&$R$2)*輸入表單!$D$91)+(COUNTIF(輸入表單!$A$136:$A$175,(data!$B$2+ROW(A2))&$R$2)*輸入表單!$D$134)+(COUNTIF(輸入表單!$A$179:$A$218,(data!$B$2+ROW(A2))&$R$2)*輸入表單!$D$177)+(COUNTIF(輸入表單!$A$222:$A$261,(data!$B$2+ROW(A2))&$R$2)*輸入表單!$D$220)+(COUNTIF(輸入表單!$A$265:$A$304,(data!$B$2+ROW(A2))&$R$2)*輸入表單!$D$263)+(COUNTIF(輸入表單!$A$308:$A$347,(data!$B$2+ROW(A2))&$R$2)*輸入表單!$D$306)+(COUNTIF(輸入表單!$A$351:$A$390,(data!$B$2+ROW(A2))&$R$2)*輸入表單!$D$349)+(COUNTIF(輸入表單!$A$394:$A$433,(data!$B$2+ROW(A2))&$R$2)*輸入表單!$D$392)+(COUNTIF(輸入表單!$A$437:$A$476,(data!$B$2+ROW(A2))&$R$2)*輸入表單!$D$435)+(COUNTIF(輸入表單!$A$480:$A$519,(data!$B$2+ROW(A2))&$R$2)*輸入表單!$D$478)+(COUNTIF(輸入表單!$A$523:$A$562,(data!$B$2+ROW(A2))&$R$2)*輸入表單!$D$521)+(COUNTIF(輸入表單!$A$566:$A$605,(data!$B$2+ROW(A2))&$R$2)*輸入表單!$D$564)+(COUNTIF(輸入表單!$A$609:$A$648,(data!$B$2+ROW(A2))&$R$2)*輸入表單!$D$607)","v":0},{"$f":"VLOOKUP((data!$B$2+ROW(A2))&'輸出雙向細目表（1下適用）'!$T$2,data!$H$27:$I$86,2,FALSE)","v":""},{"$f":"(COUNTIF(輸入表單!$A$7:$A$46,(data!$B$2+ROW(A2))&$T$2)*輸入表單!$D$5)+(COUNTIF(輸入表單!$A$50:$A$89,(data!$B$2+ROW(A2))&$T$2)*輸入表單!$D$48)+(COUNTIF(輸入表單!$A$93:$A$132,(data!$B$2+ROW(A2))&$T$2)*輸入表單!$D$91)+(COUNTIF(輸入表單!$A$136:$A$175,(data!$B$2+ROW(A2))&$T$2)*輸入表單!$D$134)+(COUNTIF(輸入表單!$A$179:$A$218,(data!$B$2+ROW(A2))&$T$2)*輸入表單!$D$177)+(COUNTIF(輸入表單!$A$222:$A$261,(data!$B$2+ROW(A2))&$T$2)*輸入表單!$D$220)+(COUNTIF(輸入表單!$A$265:$A$304,(data!$B$2+ROW(A2))&$T$2)*輸入表單!$D$263)+(COUNTIF(輸入表單!$A$308:$A$347,(data!$B$2+ROW(A2))&$T$2)*輸入表單!$D$306)+(COUNTIF(輸入表單!$A$351:$A$390,(data!$B$2+ROW(A2))&$T$2)*輸入表單!$D$349)+(COUNTIF(輸入表單!$A$394:$A$433,(data!$B$2+ROW(A2))&$T$2)*輸入表單!$D$392)+(COUNTIF(輸入表單!$A$437:$A$476,(data!$B$2+ROW(A2))&$T$2)*輸入表單!$D$435)+(COUNTIF(輸入表單!$A$480:$A$519,(data!$B$2+ROW(A2))&$T$2)*輸入表單!$D$478)+(COUNTIF(輸入表單!$A$523:$A$562,(data!$B$2+ROW(A2))&$T$2)*輸入表單!$D$521)+(COUNTIF(輸入表單!$A$566:$A$605,(data!$B$2+ROW(A2))&$T$2)*輸入表單!$D$564)+(COUNTIF(輸入表單!$A$609:$A$648,(data!$B$2+ROW(A2))&$T$2)*輸入表單!$D$607)","v":0},0]
[{"$f":"IF(data!$B$3<data!$B$2+(ROW(A3)),\"\",CONCATENATE(輸入表單!$D$1,輸入表單!$D$2,data!$B$2+(ROW(A3))))","v":""},{"$f":"IF(A7=\"\",\"\",VLOOKUP(A7,data!$C$2:$D$310,2,FALSE))","v":""},{"$f":"IF(A7=\"\",\"\",VLOOKUP(A7,data!$C$2:$E$300,3,FALSE))","v":""},{"$f":"IF(A7=\"\",\"\",VLOOKUP(A7,data!$C$2:$F$300,4,FALSE))","v":""},"",{"$f":"((COUNTIF(輸入表單!$D$7:$D$46,(data!$B$2+ROW(A3)))*輸入表單!$D$5)+(COUNTIF(輸入表單!$D$50:$D$89,(data!$B$2+ROW(A3)))*輸入表單!$D$48)+(COUNTIF(輸入表單!$D$93:$D$132,(data!$B$2+ROW(A3)))*輸入表單!$D$91)+(COUNTIF(輸入表單!$D$136:$D$175,(data!$B$2+ROW(A3)))*輸入表單!$D$134)+(COUNTIF(輸入表單!$D$179:$D$218,(data!$B$2+ROW(A3)))*輸入表單!$D$177)+(COUNTIF(輸入表單!$D$222:$D$261,(data!$B$2+ROW(A3)))*輸入表單!$D$220)+(COUNTIF(輸入表單!$D$265:$D$304,(data!$B$2+ROW(A3)))*輸入表單!$D$263)+(COUNTIF(輸入表單!$D$308:$D$347,(data!$B$2+ROW(A3)))*輸入表單!$D$306)+(COUNTIF(輸入表單!$D$351:$D$390,(data!$B$2+ROW(A3)))*輸入表單!$D$349)+(COUNTIF(輸入表單!$D$394:$D$433,(data!$B$2+ROW(A3)))*輸入表單!$D$392)+(COUNTIF(輸入表單!$D$437:$D$476,(data!$B$2+ROW(A3)))*輸入表單!$D$435)+(COUNTIF(輸入表單!$D$480:$D$519,(data!$B$2+ROW(A3)))*輸入表單!$D$478)+(COUNTIF(輸入表單!$D$523:$D$562,(data!$B$2+ROW(A3)))*輸入表單!$D$521)+(COUNTIF(輸入表單!$D$566:$D$605,(data!$B$2+ROW(A3)))*輸入表單!$D$564)+(COUNTIF(輸入表單!$D$609:$D$648,(data!$B$2+ROW(A3)))*輸入表單!$D$607))/$V$14","v":{"$error":"#DIV/0!"}},null,null,"",{"$f":"VLOOKUP((data!$B$2+ROW(A3))&'輸出雙向細目表（1下適用）'!$J$2,data!$H$27:$I$86,2,FALSE)","v":""},{"$f":"(COUNTIF(輸入表單!$A$7:$A$46,(data!$B$2+ROW(A3))&$J$2)*輸入表單!$D$5)+(COUNTIF(輸入表單!$A$50:$A$89,(data!$B$2+ROW(A3))&$J$2)*輸入表單!$D$48)+(COUNTIF(輸入表單!$A$93:$A$132,(data!$B$2+ROW(A3))&$J$2)*輸入表單!$D$91)+(COUNTIF(輸入表單!$A$136:$A$175,(data!$B$2+ROW(A3))&$J$2)*輸入表單!$D$134)+(COUNTIF(輸入表單!$A$179:$A$218,(data!$B$2+ROW(A3))&$J$2)*輸入表單!$D$177)+(COUNTIF(輸入表單!$A$222:$A$261,(data!$B$2+ROW(A3))&$J$2)*輸入表單!$D$220)+(COUNTIF(輸入表單!$A$265:$A$304,(data!$B$2+ROW(A3))&$J$2)*輸入表單!$D$263)+(COUNTIF(輸入表單!$A$308:$A$347,(data!$B$2+ROW(A3))&$J$2)*輸入表單!$D$306)+(COUNTIF(輸入表單!$A$351:$A$390,(data!$B$2+ROW(A3))&$J$2)*輸入表單!$D$349)+(COUNTIF(輸入表單!$A$394:$A$433,(data!$B$2+ROW(A3))&$J$2)*輸入表單!$D$392)+(COUNTIF(輸入表單!$A$437:$A$476,(data!$B$2+ROW(A3))&$J$2)*輸入表單!$D$435)+(COUNTIF(輸入表單!$A$480:$A$519,(data!$B$2+ROW(A3))&$J$2)*輸入表單!$D$478)+(COUNTIF(輸入表單!$A$523:$A$562,(data!$B$2+ROW(A3))&$J$2)*輸入表單!$D$521)+(COUNTIF(輸入表單!$A$566:$A$605,(data!$B$2+ROW(A3))&$J$2)*輸入表單!$D$564)+(COUNTIF(輸入表單!$A$609:$A$648,(data!$B$2+ROW(A3))&$J$2)*輸入表單!$D$607)","v":0},{"$f":"VLOOKUP((data!$B$2+ROW(A3))&'輸出雙向細目表（1下適用）'!$L$2,data!$H$27:$I$86,2,FALSE)","v":""},{"$f":"(COUNTIF(輸入表單!$A$7:$A$46,(data!$B$2+ROW(A3))&$L$2)*輸入表單!$D$5)+(COUNTIF(輸入表單!$A$50:$A$89,(data!$B$2+ROW(A3))&$L$2)*輸入表單!$D$48)+(COUNTIF(輸入表單!$A$93:$A$132,(data!$B$2+ROW(A3))&$L$2)*輸入表單!$D$91)+(COUNTIF(輸入表單!$A$136:$A$175,(data!$B$2+ROW(A3))&$L$2)*輸入表單!$D$134)+(COUNTIF(輸入表單!$A$179:$A$218,(data!$B$2+ROW(A3))&$L$2)*輸入表單!$D$177)+(COUNTIF(輸入表單!$A$222:$A$261,(data!$B$2+ROW(A3))&$L$2)*輸入表單!$D$220)+(COUNTIF(輸入表單!$A$265:$A$304,(data!$B$2+ROW(A3))&$L$2)*輸入表單!$D$263)+(COUNTIF(輸入表單!$A$308:$A$347,(data!$B$2+ROW(A3))&$L$2)*輸入表單!$D$306)+(COUNTIF(輸入表單!$A$351:$A$390,(data!$B$2+ROW(A3))&$L$2)*輸入表單!$D$349)+(COUNTIF(輸入表單!$A$394:$A$433,(data!$B$2+ROW(A3))&$L$2)*輸入表單!$D$392)+(COUNTIF(輸入表單!$A$437:$A$476,(data!$B$2+ROW(A3))&$L$2)*輸入表單!$D$435)+(COUNTIF(輸入表單!$A$480:$A$519,(data!$B$2+ROW(A3))&$L$2)*輸入表單!$D$478)+(COUNTIF(輸入表單!$A$523:$A$562,(data!$B$2+ROW(A3))&$L$2)*輸入表單!$D$521)+(COUNTIF(輸入表單!$A$566:$A$605,(data!$B$2+ROW(A3))&$L$2)*輸入表單!$D$564)+(COUNTIF(輸入表單!$A$609:$A$648,(data!$B$2+ROW(A3))&$L$2)*輸入表單!$D$607)","v":0},{"$f":"VLOOKUP((data!$B$2+ROW(A3))&'輸出雙向細目表（1下適用）'!$N$2,data!$H$27:$I$86,2,FALSE)","v":""},{"$f":"(COUNTIF(輸入表單!$A$7:$A$46,(data!$B$2+ROW(A3))&$N$2)*輸入表單!$D$5)+(COUNTIF(輸入表單!$A$50:$A$89,(data!$B$2+ROW(A3))&$N$2)*輸入表單!$D$48)+(COUNTIF(輸入表單!$A$93:$A$132,(data!$B$2+ROW(A3))&$N$2)*輸入表單!$D$91)+(COUNTIF(輸入表單!$A$136:$A$175,(data!$B$2+ROW(A3))&$N$2)*輸入表單!$D$134)+(COUNTIF(輸入表單!$A$179:$A$218,(data!$B$2+ROW(A3))&$N$2)*輸入表單!$D$177)+(COUNTIF(輸入表單!$A$222:$A$261,(data!$B$2+ROW(A3))&$N$2)*輸入表單!$D$220)+(COUNTIF(輸入表單!$A$265:$A$304,(data!$B$2+ROW(A3))&$N$2)*輸入表單!$D$263)+(COUNTIF(輸入表單!$A$308:$A$347,(data!$B$2+ROW(A3))&$N$2)*輸入表單!$D$306)+(COUNTIF(輸入表單!$A$351:$A$390,(data!$B$2+ROW(A3))&$N$2)*輸入表單!$D$349)+(COUNTIF(輸入表單!$A$394:$A$433,(data!$B$2+ROW(A3))&$N$2)*輸入表單!$D$392)+(COUNTIF(輸入表單!$A$437:$A$476,(data!$B$2+ROW(A3))&$N$2)*輸入表單!$D$435)+(COUNTIF(輸入表單!$A$480:$A$519,(data!$B$2+ROW(A3))&$N$2)*輸入表單!$D$478)+(COUNTIF(輸入表單!$A$523:$A$562,(data!$B$2+ROW(A3))&$N$2)*輸入表單!$D$521)+(COUNTIF(輸入表單!$A$566:$A$605,(data!$B$2+ROW(A3))&$N$2)*輸入表單!$D$564)+(COUNTIF(輸入表單!$A$609:$A$648,(data!$B$2+ROW(A3))&$N$2)*輸入表單!$D$607)","v":0},{"$f":"VLOOKUP((data!$B$2+ROW(A3))&'輸出雙向細目表（1下適用）'!$P$2,data!$H$27:$I$86,2,FALSE)","v":""},{"$f":"(COUNTIF(輸入表單!$A$7:$A$46,(data!$B$2+ROW(A3))&$P$2)*輸入表單!$D$5)+(COUNTIF(輸入表單!$A$50:$A$89,(data!$B$2+ROW(A3))&$P$2)*輸入表單!$D$48)+(COUNTIF(輸入表單!$A$93:$A$132,(data!$B$2+ROW(A3))&$P$2)*輸入表單!$D$91)+(COUNTIF(輸入表單!$A$136:$A$175,(data!$B$2+ROW(A3))&$P$2)*輸入表單!$D$134)+(COUNTIF(輸入表單!$A$179:$A$218,(data!$B$2+ROW(A3))&$P$2)*輸入表單!$D$177)+(COUNTIF(輸入表單!$A$222:$A$261,(data!$B$2+ROW(A3))&$P$2)*輸入表單!$D$220)+(COUNTIF(輸入表單!$A$265:$A$304,(data!$B$2+ROW(A3))&$P$2)*輸入表單!$D$263)+(COUNTIF(輸入表單!$A$308:$A$347,(data!$B$2+ROW(A3))&$P$2)*輸入表單!$D$306)+(COUNTIF(輸入表單!$A$351:$A$390,(data!$B$2+ROW(A3))&$P$2)*輸入表單!$D$349)+(COUNTIF(輸入表單!$A$394:$A$433,(data!$B$2+ROW(A3))&$P$2)*輸入表單!$D$392)+(COUNTIF(輸入表單!$A$437:$A$476,(data!$B$2+ROW(A3))&$P$2)*輸入表單!$D$435)+(COUNTIF(輸入表單!$A$480:$A$519,(data!$B$2+ROW(A3))&$P$2)*輸入表單!$D$478)+(COUNTIF(輸入表單!$A$523:$A$562,(data!$B$2+ROW(A3))&$P$2)*輸入表單!$D$521)+(COUNTIF(輸入表單!$A$566:$A$605,(data!$B$2+ROW(A3))&$P$2)*輸入表單!$D$564)+(COUNTIF(輸入表單!$A$609:$A$648,(data!$B$2+ROW(A3))&$P$2)*輸入表單!$D$607)","v":0},{"$f":"VLOOKUP((data!$B$2+ROW(A3))&'輸出雙向細目表（1下適用）'!$R$2,data!$H$27:$I$86,2,FALSE)","v":""},{"$f":"(COUNTIF(輸入表單!$A$7:$A$46,(data!$B$2+ROW(A3))&$R$2)*輸入表單!$D$5)+(COUNTIF(輸入表單!$A$50:$A$89,(data!$B$2+ROW(A3))&$R$2)*輸入表單!$D$48)+(COUNTIF(輸入表單!$A$93:$A$132,(data!$B$2+ROW(A3))&$R$2)*輸入表單!$D$91)+(COUNTIF(輸入表單!$A$136:$A$175,(data!$B$2+ROW(A3))&$R$2)*輸入表單!$D$134)+(COUNTIF(輸入表單!$A$179:$A$218,(data!$B$2+ROW(A3))&$R$2)*輸入表單!$D$177)+(COUNTIF(輸入表單!$A$222:$A$261,(data!$B$2+ROW(A3))&$R$2)*輸入表單!$D$220)+(COUNTIF(輸入表單!$A$265:$A$304,(data!$B$2+ROW(A3))&$R$2)*輸入表單!$D$263)+(COUNTIF(輸入表單!$A$308:$A$347,(data!$B$2+ROW(A3))&$R$2)*輸入表單!$D$306)+(COUNTIF(輸入表單!$A$351:$A$390,(data!$B$2+ROW(A3))&$R$2)*輸入表單!$D$349)+(COUNTIF(輸入表單!$A$394:$A$433,(data!$B$2+ROW(A3))&$R$2)*輸入表單!$D$392)+(COUNTIF(輸入表單!$A$437:$A$476,(data!$B$2+ROW(A3))&$R$2)*輸入表單!$D$435)+(COUNTIF(輸入表單!$A$480:$A$519,(data!$B$2+ROW(A3))&$R$2)*輸入表單!$D$478)+(COUNTIF(輸入表單!$A$523:$A$562,(data!$B$2+ROW(A3))&$R$2)*輸入表單!$D$521)+(COUNTIF(輸入表單!$A$566:$A$605,(data!$B$2+ROW(A3))&$R$2)*輸入表單!$D$564)+(COUNTIF(輸入表單!$A$609:$A$648,(data!$B$2+ROW(A3))&$R$2)*輸入表單!$D$607)","v":0},{"$f":"VLOOKUP((data!$B$2+ROW(A3))&'輸出雙向細目表（1下適用）'!$T$2,data!$H$27:$I$86,2,FALSE)","v":""},{"$f":"(COUNTIF(輸入表單!$A$7:$A$46,(data!$B$2+ROW(A3))&$T$2)*輸入表單!$D$5)+(COUNTIF(輸入表單!$A$50:$A$89,(data!$B$2+ROW(A3))&$T$2)*輸入表單!$D$48)+(COUNTIF(輸入表單!$A$93:$A$132,(data!$B$2+ROW(A3))&$T$2)*輸入表單!$D$91)+(COUNTIF(輸入表單!$A$136:$A$175,(data!$B$2+ROW(A3))&$T$2)*輸入表單!$D$134)+(COUNTIF(輸入表單!$A$179:$A$218,(data!$B$2+ROW(A3))&$T$2)*輸入表單!$D$177)+(COUNTIF(輸入表單!$A$222:$A$261,(data!$B$2+ROW(A3))&$T$2)*輸入表單!$D$220)+(COUNTIF(輸入表單!$A$265:$A$304,(data!$B$2+ROW(A3))&$T$2)*輸入表單!$D$263)+(COUNTIF(輸入表單!$A$308:$A$347,(data!$B$2+ROW(A3))&$T$2)*輸入表單!$D$306)+(COUNTIF(輸入表單!$A$351:$A$390,(data!$B$2+ROW(A3))&$T$2)*輸入表單!$D$349)+(COUNTIF(輸入表單!$A$394:$A$433,(data!$B$2+ROW(A3))&$T$2)*輸入表單!$D$392)+(COUNTIF(輸入表單!$A$437:$A$476,(data!$B$2+ROW(A3))&$T$2)*輸入表單!$D$435)+(COUNTIF(輸入表單!$A$480:$A$519,(data!$B$2+ROW(A3))&$T$2)*輸入表單!$D$478)+(COUNTIF(輸入表單!$A$523:$A$562,(data!$B$2+ROW(A3))&$T$2)*輸入表單!$D$521)+(COUNTIF(輸入表單!$A$566:$A$605,(data!$B$2+ROW(A3))&$T$2)*輸入表單!$D$564)+(COUNTIF(輸入表單!$A$609:$A$648,(data!$B$2+ROW(A3))&$T$2)*輸入表單!$D$607)","v":0},0]
[{"$f":"IF(data!$B$3<data!$B$2+(ROW(A4)),\"\",CONCATENATE(輸入表單!$D$1,輸入表單!$D$2,data!$B$2+(ROW(A4))))","v":""},{"$f":"IF(A8=\"\",\"\",VLOOKUP(A8,data!$C$2:$D$310,2,FALSE))","v":""},{"$f":"IF(A8=\"\",\"\",VLOOKUP(A8,data!$C$2:$E$300,3,FALSE))","v":""},{"$f":"IF(A8=\"\",\"\",VLOOKUP(A8,data!$C$2:$F$300,4,FALSE))","v":""},"",{"$f":"((COUNTIF(輸入表單!$D$7:$D$46,(data!$B$2+ROW(A4)))*輸入表單!$D$5)+(COUNTIF(輸入表單!$D$50:$D$89,(data!$B$2+ROW(A4)))*輸入表單!$D$48)+(COUNTIF(輸入表單!$D$93:$D$132,(data!$B$2+ROW(A4)))*輸入表單!$D$91)+(COUNTIF(輸入表單!$D$136:$D$175,(data!$B$2+ROW(A4)))*輸入表單!$D$134)+(COUNTIF(輸入表單!$D$179:$D$218,(data!$B$2+ROW(A4)))*輸入表單!$D$177)+(COUNTIF(輸入表單!$D$222:$D$261,(data!$B$2+ROW(A4)))*輸入表單!$D$220)+(COUNTIF(輸入表單!$D$265:$D$304,(data!$B$2+ROW(A4)))*輸入表單!$D$263)+(COUNTIF(輸入表單!$D$308:$D$347,(data!$B$2+ROW(A4)))*輸入表單!$D$306)+(COUNTIF(輸入表單!$D$351:$D$390,(data!$B$2+ROW(A4)))*輸入表單!$D$349)+(COUNTIF(輸入表單!$D$394:$D$433,(data!$B$2+ROW(A4)))*輸入表單!$D$392)+(COUNTIF(輸入表單!$D$437:$D$476,(data!$B$2+ROW(A4)))*輸入表單!$D$435)+(COUNTIF(輸入表單!$D$480:$D$519,(data!$B$2+ROW(A4)))*輸入表單!$D$478)+(COUNTIF(輸入表單!$D$523:$D$562,(data!$B$2+ROW(A4)))*輸入表單!$D$521)+(COUNTIF(輸入表單!$D$566:$D$605,(data!$B$2+ROW(A4)))*輸入表單!$D$564)+(COUNTIF(輸入表單!$D$609:$D$648,(data!$B$2+ROW(A4)))*輸入表單!$D$607))/$V$14","v":{"$error":"#DIV/0!"}},null,null,"",{"$f":"VLOOKUP((data!$B$2+ROW(A4))&'輸出雙向細目表（1下適用）'!$J$2,data!$H$27:$I$86,2,FALSE)","v":""},{"$f":"(COUNTIF(輸入表單!$A$7:$A$46,(data!$B$2+ROW(A4))&$J$2)*輸入表單!$D$5)+(COUNTIF(輸入表單!$A$50:$A$89,(data!$B$2+ROW(A4))&$J$2)*輸入表單!$D$48)+(COUNTIF(輸入表單!$A$93:$A$132,(data!$B$2+ROW(A4))&$J$2)*輸入表單!$D$91)+(COUNTIF(輸入表單!$A$136:$A$175,(data!$B$2+ROW(A4))&$J$2)*輸入表單!$D$134)+(COUNTIF(輸入表單!$A$179:$A$218,(data!$B$2+ROW(A4))&$J$2)*輸入表單!$D$177)+(COUNTIF(輸入表單!$A$222:$A$261,(data!$B$2+ROW(A4))&$J$2)*輸入表單!$D$220)+(COUNTIF(輸入表單!$A$265:$A$304,(data!$B$2+ROW(A4))&$J$2)*輸入表單!$D$263)+(COUNTIF(輸入表單!$A$308:$A$347,(data!$B$2+ROW(A4))&$J$2)*輸入表單!$D$306)+(COUNTIF(輸入表單!$A$351:$A$390,(data!$B$2+ROW(A4))&$J$2)*輸入表單!$D$349)+(COUNTIF(輸入表單!$A$394:$A$433,(data!$B$2+ROW(A4))&$J$2)*輸入表單!$D$392)+(COUNTIF(輸入表單!$A$437:$A$476,(data!$B$2+ROW(A4))&$J$2)*輸入表單!$D$435)+(COUNTIF(輸入表單!$A$480:$A$519,(data!$B$2+ROW(A4))&$J$2)*輸入表單!$D$478)+(COUNTIF(輸入表單!$A$523:$A$562,(data!$B$2+ROW(A4))&$J$2)*輸入表單!$D$521)+(COUNTIF(輸入表單!$A$566:$A$605,(data!$B$2+ROW(A4))&$J$2)*輸入表單!$D$564)+(COUNTIF(輸入表單!$A$609:$A$648,(data!$B$2+ROW(A4))&$J$2)*輸入表單!$D$607)","v":0},{"$f":"VLOOKUP((data!$B$2+ROW(A4))&'輸出雙向細目表（1下適用）'!$L$2,data!$H$27:$I$86,2,FALSE)","v":""},{"$f":"(COUNTIF(輸入表單!$A$7:$A$46,(data!$B$2+ROW(A4))&$L$2)*輸入表單!$D$5)+(COUNTIF(輸入表單!$A$50:$A$89,(data!$B$2+ROW(A4))&$L$2)*輸入表單!$D$48)+(COUNTIF(輸入表單!$A$93:$A$132,(data!$B$2+ROW(A4))&$L$2)*輸入表單!$D$91)+(COUNTIF(輸入表單!$A$136:$A$175,(data!$B$2+ROW(A4))&$L$2)*輸入表單!$D$134)+(COUNTIF(輸入表單!$A$179:$A$218,(data!$B$2+ROW(A4))&$L$2)*輸入表單!$D$177)+(COUNTIF(輸入表單!$A$222:$A$261,(data!$B$2+ROW(A4))&$L$2)*輸入表單!$D$220)+(COUNTIF(輸入表單!$A$265:$A$304,(data!$B$2+ROW(A4))&$L$2)*輸入表單!$D$263)+(COUNTIF(輸入表單!$A$308:$A$347,(data!$B$2+ROW(A4))&$L$2)*輸入表單!$D$306)+(COUNTIF(輸入表單!$A$351:$A$390,(data!$B$2+ROW(A4))&$L$2)*輸入表單!$D$349)+(COUNTIF(輸入表單!$A$394:$A$433,(data!$B$2+ROW(A4))&$L$2)*輸入表單!$D$392)+(COUNTIF(輸入表單!$A$437:$A$476,(data!$B$2+ROW(A4))&$L$2)*輸入表單!$D$435)+(COUNTIF(輸入表單!$A$480:$A$519,(data!$B$2+ROW(A4))&$L$2)*輸入表單!$D$478)+(COUNTIF(輸入表單!$A$523:$A$562,(data!$B$2+ROW(A4))&$L$2)*輸入表單!$D$521)+(COUNTIF(輸入表單!$A$566:$A$605,(data!$B$2+ROW(A4))&$L$2)*輸入表單!$D$564)+(COUNTIF(輸入表單!$A$609:$A$648,(data!$B$2+ROW(A4))&$L$2)*輸入表單!$D$607)","v":0},{"$f":"VLOOKUP((data!$B$2+ROW(A4))&'輸出雙向細目表（1下適用）'!$N$2,data!$H$27:$I$86,2,FALSE)","v":""},{"$f":"(COUNTIF(輸入表單!$A$7:$A$46,(data!$B$2+ROW(A4))&$N$2)*輸入表單!$D$5)+(COUNTIF(輸入表單!$A$50:$A$89,(data!$B$2+ROW(A4))&$N$2)*輸入表單!$D$48)+(COUNTIF(輸入表單!$A$93:$A$132,(data!$B$2+ROW(A4))&$N$2)*輸入表單!$D$91)+(COUNTIF(輸入表單!$A$136:$A$175,(data!$B$2+ROW(A4))&$N$2)*輸入表單!$D$134)+(COUNTIF(輸入表單!$A$179:$A$218,(data!$B$2+ROW(A4))&$N$2)*輸入表單!$D$177)+(COUNTIF(輸入表單!$A$222:$A$261,(data!$B$2+ROW(A4))&$N$2)*輸入表單!$D$220)+(COUNTIF(輸入表單!$A$265:$A$304,(data!$B$2+ROW(A4))&$N$2)*輸入表單!$D$263)+(COUNTIF(輸入表單!$A$308:$A$347,(data!$B$2+ROW(A4))&$N$2)*輸入表單!$D$306)+(COUNTIF(輸入表單!$A$351:$A$390,(data!$B$2+ROW(A4))&$N$2)*輸入表單!$D$349)+(COUNTIF(輸入表單!$A$394:$A$433,(data!$B$2+ROW(A4))&$N$2)*輸入表單!$D$392)+(COUNTIF(輸入表單!$A$437:$A$476,(data!$B$2+ROW(A4))&$N$2)*輸入表單!$D$435)+(COUNTIF(輸入表單!$A$480:$A$519,(data!$B$2+ROW(A4))&$N$2)*輸入表單!$D$478)+(COUNTIF(輸入表單!$A$523:$A$562,(data!$B$2+ROW(A4))&$N$2)*輸入表單!$D$521)+(COUNTIF(輸入表單!$A$566:$A$605,(data!$B$2+ROW(A4))&$N$2)*輸入表單!$D$564)+(COUNTIF(輸入表單!$A$609:$A$648,(data!$B$2+ROW(A4))&$N$2)*輸入表單!$D$607)","v":0},{"$f":"VLOOKUP((data!$B$2+ROW(A4))&'輸出雙向細目表（1下適用）'!$P$2,data!$H$27:$I$86,2,FALSE)","v":""},{"$f":"(COUNTIF(輸入表單!$A$7:$A$46,(data!$B$2+ROW(A4))&$P$2)*輸入表單!$D$5)+(COUNTIF(輸入表單!$A$50:$A$89,(data!$B$2+ROW(A4))&$P$2)*輸入表單!$D$48)+(COUNTIF(輸入表單!$A$93:$A$132,(data!$B$2+ROW(A4))&$P$2)*輸入表單!$D$91)+(COUNTIF(輸入表單!$A$136:$A$175,(data!$B$2+ROW(A4))&$P$2)*輸入表單!$D$134)+(COUNTIF(輸入表單!$A$179:$A$218,(data!$B$2+ROW(A4))&$P$2)*輸入表單!$D$177)+(COUNTIF(輸入表單!$A$222:$A$261,(data!$B$2+ROW(A4))&$P$2)*輸入表單!$D$220)+(COUNTIF(輸入表單!$A$265:$A$304,(data!$B$2+ROW(A4))&$P$2)*輸入表單!$D$263)+(COUNTIF(輸入表單!$A$308:$A$347,(data!$B$2+ROW(A4))&$P$2)*輸入表單!$D$306)+(COUNTIF(輸入表單!$A$351:$A$390,(data!$B$2+ROW(A4))&$P$2)*輸入表單!$D$349)+(COUNTIF(輸入表單!$A$394:$A$433,(data!$B$2+ROW(A4))&$P$2)*輸入表單!$D$392)+(COUNTIF(輸入表單!$A$437:$A$476,(data!$B$2+ROW(A4))&$P$2)*輸入表單!$D$435)+(COUNTIF(輸入表單!$A$480:$A$519,(data!$B$2+ROW(A4))&$P$2)*輸入表單!$D$478)+(COUNTIF(輸入表單!$A$523:$A$562,(data!$B$2+ROW(A4))&$P$2)*輸入表單!$D$521)+(COUNTIF(輸入表單!$A$566:$A$605,(data!$B$2+ROW(A4))&$P$2)*輸入表單!$D$564)+(COUNTIF(輸入表單!$A$609:$A$648,(data!$B$2+ROW(A4))&$P$2)*輸入表單!$D$607)","v":0},{"$f":"VLOOKUP((data!$B$2+ROW(A4))&'輸出雙向細目表（1下適用）'!$R$2,data!$H$27:$I$86,2,FALSE)","v":""},{"$f":"(COUNTIF(輸入表單!$A$7:$A$46,(data!$B$2+ROW(A4))&$R$2)*輸入表單!$D$5)+(COUNTIF(輸入表單!$A$50:$A$89,(data!$B$2+ROW(A4))&$R$2)*輸入表單!$D$48)+(COUNTIF(輸入表單!$A$93:$A$132,(data!$B$2+ROW(A4))&$R$2)*輸入表單!$D$91)+(COUNTIF(輸入表單!$A$136:$A$175,(data!$B$2+ROW(A4))&$R$2)*輸入表單!$D$134)+(COUNTIF(輸入表單!$A$179:$A$218,(data!$B$2+ROW(A4))&$R$2)*輸入表單!$D$177)+(COUNTIF(輸入表單!$A$222:$A$261,(data!$B$2+ROW(A4))&$R$2)*輸入表單!$D$220)+(COUNTIF(輸入表單!$A$265:$A$304,(data!$B$2+ROW(A4))&$R$2)*輸入表單!$D$263)+(COUNTIF(輸入表單!$A$308:$A$347,(data!$B$2+ROW(A4))&$R$2)*輸入表單!$D$306)+(COUNTIF(輸入表單!$A$351:$A$390,(data!$B$2+ROW(A4))&$R$2)*輸入表單!$D$349)+(COUNTIF(輸入表單!$A$394:$A$433,(data!$B$2+ROW(A4))&$R$2)*輸入表單!$D$392)+(COUNTIF(輸入表單!$A$437:$A$476,(data!$B$2+ROW(A4))&$R$2)*輸入表單!$D$435)+(COUNTIF(輸入表單!$A$480:$A$519,(data!$B$2+ROW(A4))&$R$2)*輸入表單!$D$478)+(COUNTIF(輸入表單!$A$523:$A$562,(data!$B$2+ROW(A4))&$R$2)*輸入表單!$D$521)+(COUNTIF(輸入表單!$A$566:$A$605,(data!$B$2+ROW(A4))&$R$2)*輸入表單!$D$564)+(COUNTIF(輸入表單!$A$609:$A$648,(data!$B$2+ROW(A4))&$R$2)*輸入表單!$D$607)","v":0},{"$f":"VLOOKUP((data!$B$2+ROW(A4))&'輸出雙向細目表（1下適用）'!$T$2,data!$H$27:$I$86,2,FALSE)","v":""},{"$f":"(COUNTIF(輸入表單!$A$7:$A$46,(data!$B$2+ROW(A4))&$T$2)*輸入表單!$D$5)+(COUNTIF(輸入表單!$A$50:$A$89,(data!$B$2+ROW(A4))&$T$2)*輸入表單!$D$48)+(COUNTIF(輸入表單!$A$93:$A$132,(data!$B$2+ROW(A4))&$T$2)*輸入表單!$D$91)+(COUNTIF(輸入表單!$A$136:$A$175,(data!$B$2+ROW(A4))&$T$2)*輸入表單!$D$134)+(COUNTIF(輸入表單!$A$179:$A$218,(data!$B$2+ROW(A4))&$T$2)*輸入表單!$D$177)+(COUNTIF(輸入表單!$A$222:$A$261,(data!$B$2+ROW(A4))&$T$2)*輸入表單!$D$220)+(COUNTIF(輸入表單!$A$265:$A$304,(data!$B$2+ROW(A4))&$T$2)*輸入表單!$D$263)+(COUNTIF(輸入表單!$A$308:$A$347,(data!$B$2+ROW(A4))&$T$2)*輸入表單!$D$306)+(COUNTIF(輸入表單!$A$351:$A$390,(data!$B$2+ROW(A4))&$T$2)*輸入表單!$D$349)+(COUNTIF(輸入表單!$A$394:$A$433,(data!$B$2+ROW(A4))&$T$2)*輸入表單!$D$392)+(COUNTIF(輸入表單!$A$437:$A$476,(data!$B$2+ROW(A4))&$T$2)*輸入表單!$D$435)+(COUNTIF(輸入表單!$A$480:$A$519,(data!$B$2+ROW(A4))&$T$2)*輸入表單!$D$478)+(COUNTIF(輸入表單!$A$523:$A$562,(data!$B$2+ROW(A4))&$T$2)*輸入表單!$D$521)+(COUNTIF(輸入表單!$A$566:$A$605,(data!$B$2+ROW(A4))&$T$2)*輸入表單!$D$564)+(COUNTIF(輸入表單!$A$609:$A$648,(data!$B$2+ROW(A4))&$T$2)*輸入表單!$D$607)","v":0},0]
[{"$f":"IF(data!$B$3<data!$B$2+(ROW(A5)),\"\",CONCATENATE(輸入表單!$D$1,輸入表單!$D$2,data!$B$2+(ROW(A5))))","v":""},{"$f":"IF(A9=\"\",\"\",VLOOKUP(A9,data!$C$2:$D$310,2,FALSE))","v":""},{"$f":"IF(A9=\"\",\"\",VLOOKUP(A9,data!$C$2:$E$300,3,FALSE))","v":""},{"$f":"IF(A9=\"\",\"\",VLOOKUP(A9,data!$C$2:$F$300,4,FALSE))","v":""},"",{"$f":"((COUNTIF(輸入表單!$D$7:$D$46,(data!$B$2+ROW(A5)))*輸入表單!$D$5)+(COUNTIF(輸入表單!$D$50:$D$89,(data!$B$2+ROW(A5)))*輸入表單!$D$48)+(COUNTIF(輸入表單!$D$93:$D$132,(data!$B$2+ROW(A5)))*輸入表單!$D$91)+(COUNTIF(輸入表單!$D$136:$D$175,(data!$B$2+ROW(A5)))*輸入表單!$D$134)+(COUNTIF(輸入表單!$D$179:$D$218,(data!$B$2+ROW(A5)))*輸入表單!$D$177)+(COUNTIF(輸入表單!$D$222:$D$261,(data!$B$2+ROW(A5)))*輸入表單!$D$220)+(COUNTIF(輸入表單!$D$265:$D$304,(data!$B$2+ROW(A5)))*輸入表單!$D$263)+(COUNTIF(輸入表單!$D$308:$D$347,(data!$B$2+ROW(A5)))*輸入表單!$D$306)+(COUNTIF(輸入表單!$D$351:$D$390,(data!$B$2+ROW(A5)))*輸入表單!$D$349)+(COUNTIF(輸入表單!$D$394:$D$433,(data!$B$2+ROW(A5)))*輸入表單!$D$392)+(COUNTIF(輸入表單!$D$437:$D$476,(data!$B$2+ROW(A5)))*輸入表單!$D$435)+(COUNTIF(輸入表單!$D$480:$D$519,(data!$B$2+ROW(A5)))*輸入表單!$D$478)+(COUNTIF(輸入表單!$D$523:$D$562,(data!$B$2+ROW(A5)))*輸入表單!$D$521)+(COUNTIF(輸入表單!$D$566:$D$605,(data!$B$2+ROW(A5)))*輸入表單!$D$564)+(COUNTIF(輸入表單!$D$609:$D$648,(data!$B$2+ROW(A5)))*輸入表單!$D$607))/$V$14","v":{"$error":"#DIV/0!"}},null,null,"",{"$f":"VLOOKUP((data!$B$2+ROW(A5))&'輸出雙向細目表（1下適用）'!$J$2,data!$H$27:$I$86,2,FALSE)","v":""},{"$f":"(COUNTIF(輸入表單!$A$7:$A$46,(data!$B$2+ROW(A5))&$J$2)*輸入表單!$D$5)+(COUNTIF(輸入表單!$A$50:$A$89,(data!$B$2+ROW(A5))&$J$2)*輸入表單!$D$48)+(COUNTIF(輸入表單!$A$93:$A$132,(data!$B$2+ROW(A5))&$J$2)*輸入表單!$D$91)+(COUNTIF(輸入表單!$A$136:$A$175,(data!$B$2+ROW(A5))&$J$2)*輸入表單!$D$134)+(COUNTIF(輸入表單!$A$179:$A$218,(data!$B$2+ROW(A5))&$J$2)*輸入表單!$D$177)+(COUNTIF(輸入表單!$A$222:$A$261,(data!$B$2+ROW(A5))&$J$2)*輸入表單!$D$220)+(COUNTIF(輸入表單!$A$265:$A$304,(data!$B$2+ROW(A5))&$J$2)*輸入表單!$D$263)+(COUNTIF(輸入表單!$A$308:$A$347,(data!$B$2+ROW(A5))&$J$2)*輸入表單!$D$306)+(COUNTIF(輸入表單!$A$351:$A$390,(data!$B$2+ROW(A5))&$J$2)*輸入表單!$D$349)+(COUNTIF(輸入表單!$A$394:$A$433,(data!$B$2+ROW(A5))&$J$2)*輸入表單!$D$392)+(COUNTIF(輸入表單!$A$437:$A$476,(data!$B$2+ROW(A5))&$J$2)*輸入表單!$D$435)+(COUNTIF(輸入表單!$A$480:$A$519,(data!$B$2+ROW(A5))&$J$2)*輸入表單!$D$478)+(COUNTIF(輸入表單!$A$523:$A$562,(data!$B$2+ROW(A5))&$J$2)*輸入表單!$D$521)+(COUNTIF(輸入表單!$A$566:$A$605,(data!$B$2+ROW(A5))&$J$2)*輸入表單!$D$564)+(COUNTIF(輸入表單!$A$609:$A$648,(data!$B$2+ROW(A5))&$J$2)*輸入表單!$D$607)","v":0},{"$f":"VLOOKUP((data!$B$2+ROW(A5))&'輸出雙向細目表（1下適用）'!$L$2,data!$H$27:$I$86,2,FALSE)","v":""},{"$f":"(COUNTIF(輸入表單!$A$7:$A$46,(data!$B$2+ROW(A5))&$L$2)*輸入表單!$D$5)+(COUNTIF(輸入表單!$A$50:$A$89,(data!$B$2+ROW(A5))&$L$2)*輸入表單!$D$48)+(COUNTIF(輸入表單!$A$93:$A$132,(data!$B$2+ROW(A5))&$L$2)*輸入表單!$D$91)+(COUNTIF(輸入表單!$A$136:$A$175,(data!$B$2+ROW(A5))&$L$2)*輸入表單!$D$134)+(COUNTIF(輸入表單!$A$179:$A$218,(data!$B$2+ROW(A5))&$L$2)*輸入表單!$D$177)+(COUNTIF(輸入表單!$A$222:$A$261,(data!$B$2+ROW(A5))&$L$2)*輸入表單!$D$220)+(COUNTIF(輸入表單!$A$265:$A$304,(data!$B$2+ROW(A5))&$L$2)*輸入表單!$D$263)+(COUNTIF(輸入表單!$A$308:$A$347,(data!$B$2+ROW(A5))&$L$2)*輸入表單!$D$306)+(COUNTIF(輸入表單!$A$351:$A$390,(data!$B$2+ROW(A5))&$L$2)*輸入表單!$D$349)+(COUNTIF(輸入表單!$A$394:$A$433,(data!$B$2+ROW(A5))&$L$2)*輸入表單!$D$392)+(COUNTIF(輸入表單!$A$437:$A$476,(data!$B$2+ROW(A5))&$L$2)*輸入表單!$D$435)+(COUNTIF(輸入表單!$A$480:$A$519,(data!$B$2+ROW(A5))&$L$2)*輸入表單!$D$478)+(COUNTIF(輸入表單!$A$523:$A$562,(data!$B$2+ROW(A5))&$L$2)*輸入表單!$D$521)+(COUNTIF(輸入表單!$A$566:$A$605,(data!$B$2+ROW(A5))&$L$2)*輸入表單!$D$564)+(COUNTIF(輸入表單!$A$609:$A$648,(data!$B$2+ROW(A5))&$L$2)*輸入表單!$D$607)","v":0},{"$f":"VLOOKUP((data!$B$2+ROW(A5))&'輸出雙向細目表（1下適用）'!$N$2,data!$H$27:$I$86,2,FALSE)","v":""},{"$f":"(COUNTIF(輸入表單!$A$7:$A$46,(data!$B$2+ROW(A5))&$N$2)*輸入表單!$D$5)+(COUNTIF(輸入表單!$A$50:$A$89,(data!$B$2+ROW(A5))&$N$2)*輸入表單!$D$48)+(COUNTIF(輸入表單!$A$93:$A$132,(data!$B$2+ROW(A5))&$N$2)*輸入表單!$D$91)+(COUNTIF(輸入表單!$A$136:$A$175,(data!$B$2+ROW(A5))&$N$2)*輸入表單!$D$134)+(COUNTIF(輸入表單!$A$179:$A$218,(data!$B$2+ROW(A5))&$N$2)*輸入表單!$D$177)+(COUNTIF(輸入表單!$A$222:$A$261,(data!$B$2+ROW(A5))&$N$2)*輸入表單!$D$220)+(COUNTIF(輸入表單!$A$265:$A$304,(data!$B$2+ROW(A5))&$N$2)*輸入表單!$D$263)+(COUNTIF(輸入表單!$A$308:$A$347,(data!$B$2+ROW(A5))&$N$2)*輸入表單!$D$306)+(COUNTIF(輸入表單!$A$351:$A$390,(data!$B$2+ROW(A5))&$N$2)*輸入表單!$D$349)+(COUNTIF(輸入表單!$A$394:$A$433,(data!$B$2+ROW(A5))&$N$2)*輸入表單!$D$392)+(COUNTIF(輸入表單!$A$437:$A$476,(data!$B$2+ROW(A5))&$N$2)*輸入表單!$D$435)+(COUNTIF(輸入表單!$A$480:$A$519,(data!$B$2+ROW(A5))&$N$2)*輸入表單!$D$478)+(COUNTIF(輸入表單!$A$523:$A$562,(data!$B$2+ROW(A5))&$N$2)*輸入表單!$D$521)+(COUNTIF(輸入表單!$A$566:$A$605,(data!$B$2+ROW(A5))&$N$2)*輸入表單!$D$564)+(COUNTIF(輸入表單!$A$609:$A$648,(data!$B$2+ROW(A5))&$N$2)*輸入表單!$D$607)","v":0},{"$f":"VLOOKUP((data!$B$2+ROW(A5))&'輸出雙向細目表（1下適用）'!$P$2,data!$H$27:$I$86,2,FALSE)","v":""},{"$f":"(COUNTIF(輸入表單!$A$7:$A$46,(data!$B$2+ROW(A5))&$P$2)*輸入表單!$D$5)+(COUNTIF(輸入表單!$A$50:$A$89,(data!$B$2+ROW(A5))&$P$2)*輸入表單!$D$48)+(COUNTIF(輸入表單!$A$93:$A$132,(data!$B$2+ROW(A5))&$P$2)*輸入表單!$D$91)+(COUNTIF(輸入表單!$A$136:$A$175,(data!$B$2+ROW(A5))&$P$2)*輸入表單!$D$134)+(COUNTIF(輸入表單!$A$179:$A$218,(data!$B$2+ROW(A5))&$P$2)*輸入表單!$D$177)+(COUNTIF(輸入表單!$A$222:$A$261,(data!$B$2+ROW(A5))&$P$2)*輸入表單!$D$220)+(COUNTIF(輸入表單!$A$265:$A$304,(data!$B$2+ROW(A5))&$P$2)*輸入表單!$D$263)+(COUNTIF(輸入表單!$A$308:$A$347,(data!$B$2+ROW(A5))&$P$2)*輸入表單!$D$306)+(COUNTIF(輸入表單!$A$351:$A$390,(data!$B$2+ROW(A5))&$P$2)*輸入表單!$D$349)+(COUNTIF(輸入表單!$A$394:$A$433,(data!$B$2+ROW(A5))&$P$2)*輸入表單!$D$392)+(COUNTIF(輸入表單!$A$437:$A$476,(data!$B$2+ROW(A5))&$P$2)*輸入表單!$D$435)+(COUNTIF(輸入表單!$A$480:$A$519,(data!$B$2+ROW(A5))&$P$2)*輸入表單!$D$478)+(COUNTIF(輸入表單!$A$523:$A$562,(data!$B$2+ROW(A5))&$P$2)*輸入表單!$D$521)+(COUNTIF(輸入表單!$A$566:$A$605,(data!$B$2+ROW(A5))&$P$2)*輸入表單!$D$564)+(COUNTIF(輸入表單!$A$609:$A$648,(data!$B$2+ROW(A5))&$P$2)*輸入表單!$D$607)","v":0},{"$f":"VLOOKUP((data!$B$2+ROW(A5))&'輸出雙向細目表（1下適用）'!$R$2,data!$H$27:$I$86,2,FALSE)","v":""},{"$f":"(COUNTIF(輸入表單!$A$7:$A$46,(data!$B$2+ROW(A5))&$R$2)*輸入表單!$D$5)+(COUNTIF(輸入表單!$A$50:$A$89,(data!$B$2+ROW(A5))&$R$2)*輸入表單!$D$48)+(COUNTIF(輸入表單!$A$93:$A$132,(data!$B$2+ROW(A5))&$R$2)*輸入表單!$D$91)+(COUNTIF(輸入表單!$A$136:$A$175,(data!$B$2+ROW(A5))&$R$2)*輸入表單!$D$134)+(COUNTIF(輸入表單!$A$179:$A$218,(data!$B$2+ROW(A5))&$R$2)*輸入表單!$D$177)+(COUNTIF(輸入表單!$A$222:$A$261,(data!$B$2+ROW(A5))&$R$2)*輸入表單!$D$220)+(COUNTIF(輸入表單!$A$265:$A$304,(data!$B$2+ROW(A5))&$R$2)*輸入表單!$D$263)+(COUNTIF(輸入表單!$A$308:$A$347,(data!$B$2+ROW(A5))&$R$2)*輸入表單!$D$306)+(COUNTIF(輸入表單!$A$351:$A$390,(data!$B$2+ROW(A5))&$R$2)*輸入表單!$D$349)+(COUNTIF(輸入表單!$A$394:$A$433,(data!$B$2+ROW(A5))&$R$2)*輸入表單!$D$392)+(COUNTIF(輸入表單!$A$437:$A$476,(data!$B$2+ROW(A5))&$R$2)*輸入表單!$D$435)+(COUNTIF(輸入表單!$A$480:$A$519,(data!$B$2+ROW(A5))&$R$2)*輸入表單!$D$478)+(COUNTIF(輸入表單!$A$523:$A$562,(data!$B$2+ROW(A5))&$R$2)*輸入表單!$D$521)+(COUNTIF(輸入表單!$A$566:$A$605,(data!$B$2+ROW(A5))&$R$2)*輸入表單!$D$564)+(COUNTIF(輸入表單!$A$609:$A$648,(data!$B$2+ROW(A5))&$R$2)*輸入表單!$D$607)","v":0},{"$f":"VLOOKUP((data!$B$2+ROW(A5))&'輸出雙向細目表（1下適用）'!$T$2,data!$H$27:$I$86,2,FALSE)","v":""},{"$f":"(COUNTIF(輸入表單!$A$7:$A$46,(data!$B$2+ROW(A5))&$T$2)*輸入表單!$D$5)+(COUNTIF(輸入表單!$A$50:$A$89,(data!$B$2+ROW(A5))&$T$2)*輸入表單!$D$48)+(COUNTIF(輸入表單!$A$93:$A$132,(data!$B$2+ROW(A5))&$T$2)*輸入表單!$D$91)+(COUNTIF(輸入表單!$A$136:$A$175,(data!$B$2+ROW(A5))&$T$2)*輸入表單!$D$134)+(COUNTIF(輸入表單!$A$179:$A$218,(data!$B$2+ROW(A5))&$T$2)*輸入表單!$D$177)+(COUNTIF(輸入表單!$A$222:$A$261,(data!$B$2+ROW(A5))&$T$2)*輸入表單!$D$220)+(COUNTIF(輸入表單!$A$265:$A$304,(data!$B$2+ROW(A5))&$T$2)*輸入表單!$D$263)+(COUNTIF(輸入表單!$A$308:$A$347,(data!$B$2+ROW(A5))&$T$2)*輸入表單!$D$306)+(COUNTIF(輸入表單!$A$351:$A$390,(data!$B$2+ROW(A5))&$T$2)*輸入表單!$D$349)+(COUNTIF(輸入表單!$A$394:$A$433,(data!$B$2+ROW(A5))&$T$2)*輸入表單!$D$392)+(COUNTIF(輸入表單!$A$437:$A$476,(data!$B$2+ROW(A5))&$T$2)*輸入表單!$D$435)+(COUNTIF(輸入表單!$A$480:$A$519,(data!$B$2+ROW(A5))&$T$2)*輸入表單!$D$478)+(COUNTIF(輸入表單!$A$523:$A$562,(data!$B$2+ROW(A5))&$T$2)*輸入表單!$D$521)+(COUNTIF(輸入表單!$A$566:$A$605,(data!$B$2+ROW(A5))&$T$2)*輸入表單!$D$564)+(COUNTIF(輸入表單!$A$609:$A$648,(data!$B$2+ROW(A5))&$T$2)*輸入表單!$D$607)","v":0},0]
[{"$f":"IF(data!$B$3<data!$B$2+(ROW(A6)),\"\",CONCATENATE(輸入表單!$D$1,輸入表單!$D$2,data!$B$2+(ROW(A6))))","v":""},{"$f":"IF(A10=\"\",\"\",VLOOKUP(A10,data!$C$2:$D$310,2,FALSE))","v":""},{"$f":"IF(A10=\"\",\"\",VLOOKUP(A10,data!$C$2:$E$300,3,FALSE))","v":""},{"$f":"IF(A10=\"\",\"\",VLOOKUP(A10,data!$C$2:$F$300,4,FALSE))","v":""},"",{"$f":"((COUNTIF(輸入表單!$D$7:$D$46,(data!$B$2+ROW(A6)))*輸入表單!$D$5)+(COUNTIF(輸入表單!$D$50:$D$89,(data!$B$2+ROW(A6)))*輸入表單!$D$48)+(COUNTIF(輸入表單!$D$93:$D$132,(data!$B$2+ROW(A6)))*輸入表單!$D$91)+(COUNTIF(輸入表單!$D$136:$D$175,(data!$B$2+ROW(A6)))*輸入表單!$D$134)+(COUNTIF(輸入表單!$D$179:$D$218,(data!$B$2+ROW(A6)))*輸入表單!$D$177)+(COUNTIF(輸入表單!$D$222:$D$261,(data!$B$2+ROW(A6)))*輸入表單!$D$220)+(COUNTIF(輸入表單!$D$265:$D$304,(data!$B$2+ROW(A6)))*輸入表單!$D$263)+(COUNTIF(輸入表單!$D$308:$D$347,(data!$B$2+ROW(A6)))*輸入表單!$D$306)+(COUNTIF(輸入表單!$D$351:$D$390,(data!$B$2+ROW(A6)))*輸入表單!$D$349)+(COUNTIF(輸入表單!$D$394:$D$433,(data!$B$2+ROW(A6)))*輸入表單!$D$392)+(COUNTIF(輸入表單!$D$437:$D$476,(data!$B$2+ROW(A6)))*輸入表單!$D$435)+(COUNTIF(輸入表單!$D$480:$D$519,(data!$B$2+ROW(A6)))*輸入表單!$D$478)+(COUNTIF(輸入表單!$D$523:$D$562,(data!$B$2+ROW(A6)))*輸入表單!$D$521)+(COUNTIF(輸入表單!$D$566:$D$605,(data!$B$2+ROW(A6)))*輸入表單!$D$564)+(COUNTIF(輸入表單!$D$609:$D$648,(data!$B$2+ROW(A6)))*輸入表單!$D$607))/$V$14","v":{"$error":"#DIV/0!"}},null,null,"",{"$f":"VLOOKUP((data!$B$2+ROW(A6))&'輸出雙向細目表（1下適用）'!$J$2,data!$H$27:$I$86,2,FALSE)","v":""},{"$f":"(COUNTIF(輸入表單!$A$7:$A$46,(data!$B$2+ROW(A6))&$J$2)*輸入表單!$D$5)+(COUNTIF(輸入表單!$A$50:$A$89,(data!$B$2+ROW(A6))&$J$2)*輸入表單!$D$48)+(COUNTIF(輸入表單!$A$93:$A$132,(data!$B$2+ROW(A6))&$J$2)*輸入表單!$D$91)+(COUNTIF(輸入表單!$A$136:$A$175,(data!$B$2+ROW(A6))&$J$2)*輸入表單!$D$134)+(COUNTIF(輸入表單!$A$179:$A$218,(data!$B$2+ROW(A6))&$J$2)*輸入表單!$D$177)+(COUNTIF(輸入表單!$A$222:$A$261,(data!$B$2+ROW(A6))&$J$2)*輸入表單!$D$220)+(COUNTIF(輸入表單!$A$265:$A$304,(data!$B$2+ROW(A6))&$J$2)*輸入表單!$D$263)+(COUNTIF(輸入表單!$A$308:$A$347,(data!$B$2+ROW(A6))&$J$2)*輸入表單!$D$306)+(COUNTIF(輸入表單!$A$351:$A$390,(data!$B$2+ROW(A6))&$J$2)*輸入表單!$D$349)+(COUNTIF(輸入表單!$A$394:$A$433,(data!$B$2+ROW(A6))&$J$2)*輸入表單!$D$392)+(COUNTIF(輸入表單!$A$437:$A$476,(data!$B$2+ROW(A6))&$J$2)*輸入表單!$D$435)+(COUNTIF(輸入表單!$A$480:$A$519,(data!$B$2+ROW(A6))&$J$2)*輸入表單!$D$478)+(COUNTIF(輸入表單!$A$523:$A$562,(data!$B$2+ROW(A6))&$J$2)*輸入表單!$D$521)+(COUNTIF(輸入表單!$A$566:$A$605,(data!$B$2+ROW(A6))&$J$2)*輸入表單!$D$564)+(COUNTIF(輸入表單!$A$609:$A$648,(data!$B$2+ROW(A6))&$J$2)*輸入表單!$D$607)","v":0},{"$f":"VLOOKUP((data!$B$2+ROW(A6))&'輸出雙向細目表（1下適用）'!$L$2,data!$H$27:$I$86,2,FALSE)","v":""},{"$f":"(COUNTIF(輸入表單!$A$7:$A$46,(data!$B$2+ROW(A6))&$L$2)*輸入表單!$D$5)+(COUNTIF(輸入表單!$A$50:$A$89,(data!$B$2+ROW(A6))&$L$2)*輸入表單!$D$48)+(COUNTIF(輸入表單!$A$93:$A$132,(data!$B$2+ROW(A6))&$L$2)*輸入表單!$D$91)+(COUNTIF(輸入表單!$A$136:$A$175,(data!$B$2+ROW(A6))&$L$2)*輸入表單!$D$134)+(COUNTIF(輸入表單!$A$179:$A$218,(data!$B$2+ROW(A6))&$L$2)*輸入表單!$D$177)+(COUNTIF(輸入表單!$A$222:$A$261,(data!$B$2+ROW(A6))&$L$2)*輸入表單!$D$220)+(COUNTIF(輸入表單!$A$265:$A$304,(data!$B$2+ROW(A6))&$L$2)*輸入表單!$D$263)+(COUNTIF(輸入表單!$A$308:$A$347,(data!$B$2+ROW(A6))&$L$2)*輸入表單!$D$306)+(COUNTIF(輸入表單!$A$351:$A$390,(data!$B$2+ROW(A6))&$L$2)*輸入表單!$D$349)+(COUNTIF(輸入表單!$A$394:$A$433,(data!$B$2+ROW(A6))&$L$2)*輸入表單!$D$392)+(COUNTIF(輸入表單!$A$437:$A$476,(data!$B$2+ROW(A6))&$L$2)*輸入表單!$D$435)+(COUNTIF(輸入表單!$A$480:$A$519,(data!$B$2+ROW(A6))&$L$2)*輸入表單!$D$478)+(COUNTIF(輸入表單!$A$523:$A$562,(data!$B$2+ROW(A6))&$L$2)*輸入表單!$D$521)+(COUNTIF(輸入表單!$A$566:$A$605,(data!$B$2+ROW(A6))&$L$2)*輸入表單!$D$564)+(COUNTIF(輸入表單!$A$609:$A$648,(data!$B$2+ROW(A6))&$L$2)*輸入表單!$D$607)","v":0},{"$f":"VLOOKUP((data!$B$2+ROW(A6))&'輸出雙向細目表（1下適用）'!$N$2,data!$H$27:$I$86,2,FALSE)","v":""},{"$f":"(COUNTIF(輸入表單!$A$7:$A$46,(data!$B$2+ROW(A6))&$N$2)*輸入表單!$D$5)+(COUNTIF(輸入表單!$A$50:$A$89,(data!$B$2+ROW(A6))&$N$2)*輸入表單!$D$48)+(COUNTIF(輸入表單!$A$93:$A$132,(data!$B$2+ROW(A6))&$N$2)*輸入表單!$D$91)+(COUNTIF(輸入表單!$A$136:$A$175,(data!$B$2+ROW(A6))&$N$2)*輸入表單!$D$134)+(COUNTIF(輸入表單!$A$179:$A$218,(data!$B$2+ROW(A6))&$N$2)*輸入表單!$D$177)+(COUNTIF(輸入表單!$A$222:$A$261,(data!$B$2+ROW(A6))&$N$2)*輸入表單!$D$220)+(COUNTIF(輸入表單!$A$265:$A$304,(data!$B$2+ROW(A6))&$N$2)*輸入表單!$D$263)+(COUNTIF(輸入表單!$A$308:$A$347,(data!$B$2+ROW(A6))&$N$2)*輸入表單!$D$306)+(COUNTIF(輸入表單!$A$351:$A$390,(data!$B$2+ROW(A6))&$N$2)*輸入表單!$D$349)+(COUNTIF(輸入表單!$A$394:$A$433,(data!$B$2+ROW(A6))&$N$2)*輸入表單!$D$392)+(COUNTIF(輸入表單!$A$437:$A$476,(data!$B$2+ROW(A6))&$N$2)*輸入表單!$D$435)+(COUNTIF(輸入表單!$A$480:$A$519,(data!$B$2+ROW(A6))&$N$2)*輸入表單!$D$478)+(COUNTIF(輸入表單!$A$523:$A$562,(data!$B$2+ROW(A6))&$N$2)*輸入表單!$D$521)+(COUNTIF(輸入表單!$A$566:$A$605,(data!$B$2+ROW(A6))&$N$2)*輸入表單!$D$564)+(COUNTIF(輸入表單!$A$609:$A$648,(data!$B$2+ROW(A6))&$N$2)*輸入表單!$D$607)","v":0},{"$f":"VLOOKUP((data!$B$2+ROW(A6))&'輸出雙向細目表（1下適用）'!$P$2,data!$H$27:$I$86,2,FALSE)","v":""},{"$f":"(COUNTIF(輸入表單!$A$7:$A$46,(data!$B$2+ROW(A6))&$P$2)*輸入表單!$D$5)+(COUNTIF(輸入表單!$A$50:$A$89,(data!$B$2+ROW(A6))&$P$2)*輸入表單!$D$48)+(COUNTIF(輸入表單!$A$93:$A$132,(data!$B$2+ROW(A6))&$P$2)*輸入表單!$D$91)+(COUNTIF(輸入表單!$A$136:$A$175,(data!$B$2+ROW(A6))&$P$2)*輸入表單!$D$134)+(COUNTIF(輸入表單!$A$179:$A$218,(data!$B$2+ROW(A6))&$P$2)*輸入表單!$D$177)+(COUNTIF(輸入表單!$A$222:$A$261,(data!$B$2+ROW(A6))&$P$2)*輸入表單!$D$220)+(COUNTIF(輸入表單!$A$265:$A$304,(data!$B$2+ROW(A6))&$P$2)*輸入表單!$D$263)+(COUNTIF(輸入表單!$A$308:$A$347,(data!$B$2+ROW(A6))&$P$2)*輸入表單!$D$306)+(COUNTIF(輸入表單!$A$351:$A$390,(data!$B$2+ROW(A6))&$P$2)*輸入表單!$D$349)+(COUNTIF(輸入表單!$A$394:$A$433,(data!$B$2+ROW(A6))&$P$2)*輸入表單!$D$392)+(COUNTIF(輸入表單!$A$437:$A$476,(data!$B$2+ROW(A6))&$P$2)*輸入表單!$D$435)+(COUNTIF(輸入表單!$A$480:$A$519,(data!$B$2+ROW(A6))&$P$2)*輸入表單!$D$478)+(COUNTIF(輸入表單!$A$523:$A$562,(data!$B$2+ROW(A6))&$P$2)*輸入表單!$D$521)+(COUNTIF(輸入表單!$A$566:$A$605,(data!$B$2+ROW(A6))&$P$2)*輸入表單!$D$564)+(COUNTIF(輸入表單!$A$609:$A$648,(data!$B$2+ROW(A6))&$P$2)*輸入表單!$D$607)","v":0},{"$f":"VLOOKUP((data!$B$2+ROW(A6))&'輸出雙向細目表（1下適用）'!$R$2,data!$H$27:$I$86,2,FALSE)","v":""},{"$f":"(COUNTIF(輸入表單!$A$7:$A$46,(data!$B$2+ROW(A6))&$R$2)*輸入表單!$D$5)+(COUNTIF(輸入表單!$A$50:$A$89,(data!$B$2+ROW(A6))&$R$2)*輸入表單!$D$48)+(COUNTIF(輸入表單!$A$93:$A$132,(data!$B$2+ROW(A6))&$R$2)*輸入表單!$D$91)+(COUNTIF(輸入表單!$A$136:$A$175,(data!$B$2+ROW(A6))&$R$2)*輸入表單!$D$134)+(COUNTIF(輸入表單!$A$179:$A$218,(data!$B$2+ROW(A6))&$R$2)*輸入表單!$D$177)+(COUNTIF(輸入表單!$A$222:$A$261,(data!$B$2+ROW(A6))&$R$2)*輸入表單!$D$220)+(COUNTIF(輸入表單!$A$265:$A$304,(data!$B$2+ROW(A6))&$R$2)*輸入表單!$D$263)+(COUNTIF(輸入表單!$A$308:$A$347,(data!$B$2+ROW(A6))&$R$2)*輸入表單!$D$306)+(COUNTIF(輸入表單!$A$351:$A$390,(data!$B$2+ROW(A6))&$R$2)*輸入表單!$D$349)+(COUNTIF(輸入表單!$A$394:$A$433,(data!$B$2+ROW(A6))&$R$2)*輸入表單!$D$392)+(COUNTIF(輸入表單!$A$437:$A$476,(data!$B$2+ROW(A6))&$R$2)*輸入表單!$D$435)+(COUNTIF(輸入表單!$A$480:$A$519,(data!$B$2+ROW(A6))&$R$2)*輸入表單!$D$478)+(COUNTIF(輸入表單!$A$523:$A$562,(data!$B$2+ROW(A6))&$R$2)*輸入表單!$D$521)+(COUNTIF(輸入表單!$A$566:$A$605,(data!$B$2+ROW(A6))&$R$2)*輸入表單!$D$564)+(COUNTIF(輸入表單!$A$609:$A$648,(data!$B$2+ROW(A6))&$R$2)*輸入表單!$D$607)","v":0},{"$f":"VLOOKUP((data!$B$2+ROW(A6))&'輸出雙向細目表（1下適用）'!$T$2,data!$H$27:$I$86,2,FALSE)","v":""},{"$f":"(COUNTIF(輸入表單!$A$7:$A$46,(data!$B$2+ROW(A6))&$T$2)*輸入表單!$D$5)+(COUNTIF(輸入表單!$A$50:$A$89,(data!$B$2+ROW(A6))&$T$2)*輸入表單!$D$48)+(COUNTIF(輸入表單!$A$93:$A$132,(data!$B$2+ROW(A6))&$T$2)*輸入表單!$D$91)+(COUNTIF(輸入表單!$A$136:$A$175,(data!$B$2+ROW(A6))&$T$2)*輸入表單!$D$134)+(COUNTIF(輸入表單!$A$179:$A$218,(data!$B$2+ROW(A6))&$T$2)*輸入表單!$D$177)+(COUNTIF(輸入表單!$A$222:$A$261,(data!$B$2+ROW(A6))&$T$2)*輸入表單!$D$220)+(COUNTIF(輸入表單!$A$265:$A$304,(data!$B$2+ROW(A6))&$T$2)*輸入表單!$D$263)+(COUNTIF(輸入表單!$A$308:$A$347,(data!$B$2+ROW(A6))&$T$2)*輸入表單!$D$306)+(COUNTIF(輸入表單!$A$351:$A$390,(data!$B$2+ROW(A6))&$T$2)*輸入表單!$D$349)+(COUNTIF(輸入表單!$A$394:$A$433,(data!$B$2+ROW(A6))&$T$2)*輸入表單!$D$392)+(COUNTIF(輸入表單!$A$437:$A$476,(data!$B$2+ROW(A6))&$T$2)*輸入表單!$D$435)+(COUNTIF(輸入表單!$A$480:$A$519,(data!$B$2+ROW(A6))&$T$2)*輸入表單!$D$478)+(COUNTIF(輸入表單!$A$523:$A$562,(data!$B$2+ROW(A6))&$T$2)*輸入表單!$D$521)+(COUNTIF(輸入表單!$A$566:$A$605,(data!$B$2+ROW(A6))&$T$2)*輸入表單!$D$564)+(COUNTIF(輸入表單!$A$609:$A$648,(data!$B$2+ROW(A6))&$T$2)*輸入表單!$D$607)","v":0},0]
[{"$f":"IF(data!$B$3<data!$B$2+(ROW(A7)),\"\",CONCATENATE(輸入表單!$D$1,輸入表單!$D$2,data!$B$2+(ROW(A7))))","v":""},{"$f":"IF(A11=\"\",\"\",VLOOKUP(A11,data!$C$2:$D$310,2,FALSE))","v":""},{"$f":"IF(A11=\"\",\"\",VLOOKUP(A11,data!$C$2:$E$300,3,FALSE))","v":""},{"$f":"IF(A11=\"\",\"\",VLOOKUP(A11,data!$C$2:$F$300,4,FALSE))","v":""},"",{"$f":"((COUNTIF(輸入表單!$D$7:$D$46,(data!$B$2+ROW(A7)))*輸入表單!$D$5)+(COUNTIF(輸入表單!$D$50:$D$89,(data!$B$2+ROW(A7)))*輸入表單!$D$48)+(COUNTIF(輸入表單!$D$93:$D$132,(data!$B$2+ROW(A7)))*輸入表單!$D$91)+(COUNTIF(輸入表單!$D$136:$D$175,(data!$B$2+ROW(A7)))*輸入表單!$D$134)+(COUNTIF(輸入表單!$D$179:$D$218,(data!$B$2+ROW(A7)))*輸入表單!$D$177)+(COUNTIF(輸入表單!$D$222:$D$261,(data!$B$2+ROW(A7)))*輸入表單!$D$220)+(COUNTIF(輸入表單!$D$265:$D$304,(data!$B$2+ROW(A7)))*輸入表單!$D$263)+(COUNTIF(輸入表單!$D$308:$D$347,(data!$B$2+ROW(A7)))*輸入表單!$D$306)+(COUNTIF(輸入表單!$D$351:$D$390,(data!$B$2+ROW(A7)))*輸入表單!$D$349)+(COUNTIF(輸入表單!$D$394:$D$433,(data!$B$2+ROW(A7)))*輸入表單!$D$392)+(COUNTIF(輸入表單!$D$437:$D$476,(data!$B$2+ROW(A7)))*輸入表單!$D$435)+(COUNTIF(輸入表單!$D$480:$D$519,(data!$B$2+ROW(A7)))*輸入表單!$D$478)+(COUNTIF(輸入表單!$D$523:$D$562,(data!$B$2+ROW(A7)))*輸入表單!$D$521)+(COUNTIF(輸入表單!$D$566:$D$605,(data!$B$2+ROW(A7)))*輸入表單!$D$564)+(COUNTIF(輸入表單!$D$609:$D$648,(data!$B$2+ROW(A7)))*輸入表單!$D$607))/$V$14","v":{"$error":"#DIV/0!"}},null,null,"",{"$f":"VLOOKUP((data!$B$2+ROW(A7))&'輸出雙向細目表（1下適用）'!$J$2,data!$H$27:$I$86,2,FALSE)","v":""},{"$f":"(COUNTIF(輸入表單!$A$7:$A$46,(data!$B$2+ROW(A7))&$J$2)*輸入表單!$D$5)+(COUNTIF(輸入表單!$A$50:$A$89,(data!$B$2+ROW(A7))&$J$2)*輸入表單!$D$48)+(COUNTIF(輸入表單!$A$93:$A$132,(data!$B$2+ROW(A7))&$J$2)*輸入表單!$D$91)+(COUNTIF(輸入表單!$A$136:$A$175,(data!$B$2+ROW(A7))&$J$2)*輸入表單!$D$134)+(COUNTIF(輸入表單!$A$179:$A$218,(data!$B$2+ROW(A7))&$J$2)*輸入表單!$D$177)+(COUNTIF(輸入表單!$A$222:$A$261,(data!$B$2+ROW(A7))&$J$2)*輸入表單!$D$220)+(COUNTIF(輸入表單!$A$265:$A$304,(data!$B$2+ROW(A7))&$J$2)*輸入表單!$D$263)+(COUNTIF(輸入表單!$A$308:$A$347,(data!$B$2+ROW(A7))&$J$2)*輸入表單!$D$306)+(COUNTIF(輸入表單!$A$351:$A$390,(data!$B$2+ROW(A7))&$J$2)*輸入表單!$D$349)+(COUNTIF(輸入表單!$A$394:$A$433,(data!$B$2+ROW(A7))&$J$2)*輸入表單!$D$392)+(COUNTIF(輸入表單!$A$437:$A$476,(data!$B$2+ROW(A7))&$J$2)*輸入表單!$D$435)+(COUNTIF(輸入表單!$A$480:$A$519,(data!$B$2+ROW(A7))&$J$2)*輸入表單!$D$478)+(COUNTIF(輸入表單!$A$523:$A$562,(data!$B$2+ROW(A7))&$J$2)*輸入表單!$D$521)+(COUNTIF(輸入表單!$A$566:$A$605,(data!$B$2+ROW(A7))&$J$2)*輸入表單!$D$564)+(COUNTIF(輸入表單!$A$609:$A$648,(data!$B$2+ROW(A7))&$J$2)*輸入表單!$D$607)","v":0},{"$f":"VLOOKUP((data!$B$2+ROW(A7))&'輸出雙向細目表（1下適用）'!$L$2,data!$H$27:$I$86,2,FALSE)","v":""},{"$f":"(COUNTIF(輸入表單!$A$7:$A$46,(data!$B$2+ROW(A7))&$L$2)*輸入表單!$D$5)+(COUNTIF(輸入表單!$A$50:$A$89,(data!$B$2+ROW(A7))&$L$2)*輸入表單!$D$48)+(COUNTIF(輸入表單!$A$93:$A$132,(data!$B$2+ROW(A7))&$L$2)*輸入表單!$D$91)+(COUNTIF(輸入表單!$A$136:$A$175,(data!$B$2+ROW(A7))&$L$2)*輸入表單!$D$134)+(COUNTIF(輸入表單!$A$179:$A$218,(data!$B$2+ROW(A7))&$L$2)*輸入表單!$D$177)+(COUNTIF(輸入表單!$A$222:$A$261,(data!$B$2+ROW(A7))&$L$2)*輸入表單!$D$220)+(COUNTIF(輸入表單!$A$265:$A$304,(data!$B$2+ROW(A7))&$L$2)*輸入表單!$D$263)+(COUNTIF(輸入表單!$A$308:$A$347,(data!$B$2+ROW(A7))&$L$2)*輸入表單!$D$306)+(COUNTIF(輸入表單!$A$351:$A$390,(data!$B$2+ROW(A7))&$L$2)*輸入表單!$D$349)+(COUNTIF(輸入表單!$A$394:$A$433,(data!$B$2+ROW(A7))&$L$2)*輸入表單!$D$392)+(COUNTIF(輸入表單!$A$437:$A$476,(data!$B$2+ROW(A7))&$L$2)*輸入表單!$D$435)+(COUNTIF(輸入表單!$A$480:$A$519,(data!$B$2+ROW(A7))&$L$2)*輸入表單!$D$478)+(COUNTIF(輸入表單!$A$523:$A$562,(data!$B$2+ROW(A7))&$L$2)*輸入表單!$D$521)+(COUNTIF(輸入表單!$A$566:$A$605,(data!$B$2+ROW(A7))&$L$2)*輸入表單!$D$564)+(COUNTIF(輸入表單!$A$609:$A$648,(data!$B$2+ROW(A7))&$L$2)*輸入表單!$D$607)","v":0},{"$f":"VLOOKUP((data!$B$2+ROW(A7))&'輸出雙向細目表（1下適用）'!$N$2,data!$H$27:$I$86,2,FALSE)","v":""},{"$f":"(COUNTIF(輸入表單!$A$7:$A$46,(data!$B$2+ROW(A7))&$N$2)*輸入表單!$D$5)+(COUNTIF(輸入表單!$A$50:$A$89,(data!$B$2+ROW(A7))&$N$2)*輸入表單!$D$48)+(COUNTIF(輸入表單!$A$93:$A$132,(data!$B$2+ROW(A7))&$N$2)*輸入表單!$D$91)+(COUNTIF(輸入表單!$A$136:$A$175,(data!$B$2+ROW(A7))&$N$2)*輸入表單!$D$134)+(COUNTIF(輸入表單!$A$179:$A$218,(data!$B$2+ROW(A7))&$N$2)*輸入表單!$D$177)+(COUNTIF(輸入表單!$A$222:$A$261,(data!$B$2+ROW(A7))&$N$2)*輸入表單!$D$220)+(COUNTIF(輸入表單!$A$265:$A$304,(data!$B$2+ROW(A7))&$N$2)*輸入表單!$D$263)+(COUNTIF(輸入表單!$A$308:$A$347,(data!$B$2+ROW(A7))&$N$2)*輸入表單!$D$306)+(COUNTIF(輸入表單!$A$351:$A$390,(data!$B$2+ROW(A7))&$N$2)*輸入表單!$D$349)+(COUNTIF(輸入表單!$A$394:$A$433,(data!$B$2+ROW(A7))&$N$2)*輸入表單!$D$392)+(COUNTIF(輸入表單!$A$437:$A$476,(data!$B$2+ROW(A7))&$N$2)*輸入表單!$D$435)+(COUNTIF(輸入表單!$A$480:$A$519,(data!$B$2+ROW(A7))&$N$2)*輸入表單!$D$478)+(COUNTIF(輸入表單!$A$523:$A$562,(data!$B$2+ROW(A7))&$N$2)*輸入表單!$D$521)+(COUNTIF(輸入表單!$A$566:$A$605,(data!$B$2+ROW(A7))&$N$2)*輸入表單!$D$564)+(COUNTIF(輸入表單!$A$609:$A$648,(data!$B$2+ROW(A7))&$N$2)*輸入表單!$D$607)","v":0},{"$f":"VLOOKUP((data!$B$2+ROW(A7))&'輸出雙向細目表（1下適用）'!$P$2,data!$H$27:$I$86,2,FALSE)","v":""},{"$f":"(COUNTIF(輸入表單!$A$7:$A$46,(data!$B$2+ROW(A7))&$P$2)*輸入表單!$D$5)+(COUNTIF(輸入表單!$A$50:$A$89,(data!$B$2+ROW(A7))&$P$2)*輸入表單!$D$48)+(COUNTIF(輸入表單!$A$93:$A$132,(data!$B$2+ROW(A7))&$P$2)*輸入表單!$D$91)+(COUNTIF(輸入表單!$A$136:$A$175,(data!$B$2+ROW(A7))&$P$2)*輸入表單!$D$134)+(COUNTIF(輸入表單!$A$179:$A$218,(data!$B$2+ROW(A7))&$P$2)*輸入表單!$D$177)+(COUNTIF(輸入表單!$A$222:$A$261,(data!$B$2+ROW(A7))&$P$2)*輸入表單!$D$220)+(COUNTIF(輸入表單!$A$265:$A$304,(data!$B$2+ROW(A7))&$P$2)*輸入表單!$D$263)+(COUNTIF(輸入表單!$A$308:$A$347,(data!$B$2+ROW(A7))&$P$2)*輸入表單!$D$306)+(COUNTIF(輸入表單!$A$351:$A$390,(data!$B$2+ROW(A7))&$P$2)*輸入表單!$D$349)+(COUNTIF(輸入表單!$A$394:$A$433,(data!$B$2+ROW(A7))&$P$2)*輸入表單!$D$392)+(COUNTIF(輸入表單!$A$437:$A$476,(data!$B$2+ROW(A7))&$P$2)*輸入表單!$D$435)+(COUNTIF(輸入表單!$A$480:$A$519,(data!$B$2+ROW(A7))&$P$2)*輸入表單!$D$478)+(COUNTIF(輸入表單!$A$523:$A$562,(data!$B$2+ROW(A7))&$P$2)*輸入表單!$D$521)+(COUNTIF(輸入表單!$A$566:$A$605,(data!$B$2+ROW(A7))&$P$2)*輸入表單!$D$564)+(COUNTIF(輸入表單!$A$609:$A$648,(data!$B$2+ROW(A7))&$P$2)*輸入表單!$D$607)","v":0},{"$f":"VLOOKUP((data!$B$2+ROW(A7))&'輸出雙向細目表（1下適用）'!$R$2,data!$H$27:$I$86,2,FALSE)","v":""},{"$f":"(COUNTIF(輸入表單!$A$7:$A$46,(data!$B$2+ROW(A7))&$R$2)*輸入表單!$D$5)+(COUNTIF(輸入表單!$A$50:$A$89,(data!$B$2+ROW(A7))&$R$2)*輸入表單!$D$48)+(COUNTIF(輸入表單!$A$93:$A$132,(data!$B$2+ROW(A7))&$R$2)*輸入表單!$D$91)+(COUNTIF(輸入表單!$A$136:$A$175,(data!$B$2+ROW(A7))&$R$2)*輸入表單!$D$134)+(COUNTIF(輸入表單!$A$179:$A$218,(data!$B$2+ROW(A7))&$R$2)*輸入表單!$D$177)+(COUNTIF(輸入表單!$A$222:$A$261,(data!$B$2+ROW(A7))&$R$2)*輸入表單!$D$220)+(COUNTIF(輸入表單!$A$265:$A$304,(data!$B$2+ROW(A7))&$R$2)*輸入表單!$D$263)+(COUNTIF(輸入表單!$A$308:$A$347,(data!$B$2+ROW(A7))&$R$2)*輸入表單!$D$306)+(COUNTIF(輸入表單!$A$351:$A$390,(data!$B$2+ROW(A7))&$R$2)*輸入表單!$D$349)+(COUNTIF(輸入表單!$A$394:$A$433,(data!$B$2+ROW(A7))&$R$2)*輸入表單!$D$392)+(COUNTIF(輸入表單!$A$437:$A$476,(data!$B$2+ROW(A7))&$R$2)*輸入表單!$D$435)+(COUNTIF(輸入表單!$A$480:$A$519,(data!$B$2+ROW(A7))&$R$2)*輸入表單!$D$478)+(COUNTIF(輸入表單!$A$523:$A$562,(data!$B$2+ROW(A7))&$R$2)*輸入表單!$D$521)+(COUNTIF(輸入表單!$A$566:$A$605,(data!$B$2+ROW(A7))&$R$2)*輸入表單!$D$564)+(COUNTIF(輸入表單!$A$609:$A$648,(data!$B$2+ROW(A7))&$R$2)*輸入表單!$D$607)","v":0},{"$f":"VLOOKUP((data!$B$2+ROW(A7))&'輸出雙向細目表（1下適用）'!$T$2,data!$H$27:$I$86,2,FALSE)","v":""},{"$f":"(COUNTIF(輸入表單!$A$7:$A$46,(data!$B$2+ROW(A7))&$T$2)*輸入表單!$D$5)+(COUNTIF(輸入表單!$A$50:$A$89,(data!$B$2+ROW(A7))&$T$2)*輸入表單!$D$48)+(COUNTIF(輸入表單!$A$93:$A$132,(data!$B$2+ROW(A7))&$T$2)*輸入表單!$D$91)+(COUNTIF(輸入表單!$A$136:$A$175,(data!$B$2+ROW(A7))&$T$2)*輸入表單!$D$134)+(COUNTIF(輸入表單!$A$179:$A$218,(data!$B$2+ROW(A7))&$T$2)*輸入表單!$D$177)+(COUNTIF(輸入表單!$A$222:$A$261,(data!$B$2+ROW(A7))&$T$2)*輸入表單!$D$220)+(COUNTIF(輸入表單!$A$265:$A$304,(data!$B$2+ROW(A7))&$T$2)*輸入表單!$D$263)+(COUNTIF(輸入表單!$A$308:$A$347,(data!$B$2+ROW(A7))&$T$2)*輸入表單!$D$306)+(COUNTIF(輸入表單!$A$351:$A$390,(data!$B$2+ROW(A7))&$T$2)*輸入表單!$D$349)+(COUNTIF(輸入表單!$A$394:$A$433,(data!$B$2+ROW(A7))&$T$2)*輸入表單!$D$392)+(COUNTIF(輸入表單!$A$437:$A$476,(data!$B$2+ROW(A7))&$T$2)*輸入表單!$D$435)+(COUNTIF(輸入表單!$A$480:$A$519,(data!$B$2+ROW(A7))&$T$2)*輸入表單!$D$478)+(COUNTIF(輸入表單!$A$523:$A$562,(data!$B$2+ROW(A7))&$T$2)*輸入表單!$D$521)+(COUNTIF(輸入表單!$A$566:$A$605,(data!$B$2+ROW(A7))&$T$2)*輸入表單!$D$564)+(COUNTIF(輸入表單!$A$609:$A$648,(data!$B$2+ROW(A7))&$T$2)*輸入表單!$D$607)","v":0},0]
[{"$f":"IF(data!$B$3<data!$B$2+(ROW(A8)),\"\",CONCATENATE(輸入表單!$D$1,輸入表單!$D$2,data!$B$2+(ROW(A8))))","v":""},{"$f":"IF(A12=\"\",\"\",VLOOKUP(A12,data!$C$2:$D$310,2,FALSE))","v":""},{"$f":"IF(A12=\"\",\"\",VLOOKUP(A12,data!$C$2:$E$300,3,FALSE))","v":""},{"$f":"IF(A12=\"\",\"\",VLOOKUP(A12,data!$C$2:$F$300,4,FALSE))","v":""},"",{"$f":"((COUNTIF(輸入表單!$D$7:$D$46,(data!$B$2+ROW(A8)))*輸入表單!$D$5)+(COUNTIF(輸入表單!$D$50:$D$89,(data!$B$2+ROW(A8)))*輸入表單!$D$48)+(COUNTIF(輸入表單!$D$93:$D$132,(data!$B$2+ROW(A8)))*輸入表單!$D$91)+(COUNTIF(輸入表單!$D$136:$D$175,(data!$B$2+ROW(A8)))*輸入表單!$D$134)+(COUNTIF(輸入表單!$D$179:$D$218,(data!$B$2+ROW(A8)))*輸入表單!$D$177)+(COUNTIF(輸入表單!$D$222:$D$261,(data!$B$2+ROW(A8)))*輸入表單!$D$220)+(COUNTIF(輸入表單!$D$265:$D$304,(data!$B$2+ROW(A8)))*輸入表單!$D$263)+(COUNTIF(輸入表單!$D$308:$D$347,(data!$B$2+ROW(A8)))*輸入表單!$D$306)+(COUNTIF(輸入表單!$D$351:$D$390,(data!$B$2+ROW(A8)))*輸入表單!$D$349)+(COUNTIF(輸入表單!$D$394:$D$433,(data!$B$2+ROW(A8)))*輸入表單!$D$392)+(COUNTIF(輸入表單!$D$437:$D$476,(data!$B$2+ROW(A8)))*輸入表單!$D$435)+(COUNTIF(輸入表單!$D$480:$D$519,(data!$B$2+ROW(A8)))*輸入表單!$D$478)+(COUNTIF(輸入表單!$D$523:$D$562,(data!$B$2+ROW(A8)))*輸入表單!$D$521)+(COUNTIF(輸入表單!$D$566:$D$605,(data!$B$2+ROW(A8)))*輸入表單!$D$564)+(COUNTIF(輸入表單!$D$609:$D$648,(data!$B$2+ROW(A8)))*輸入表單!$D$607))/$V$14","v":{"$error":"#DIV/0!"}},null,null,"",{"$f":"VLOOKUP((data!$B$2+ROW(A8))&'輸出雙向細目表（1下適用）'!$J$2,data!$H$27:$I$86,2,FALSE)","v":""},{"$f":"(COUNTIF(輸入表單!$A$7:$A$46,(data!$B$2+ROW(A8))&$J$2)*輸入表單!$D$5)+(COUNTIF(輸入表單!$A$50:$A$89,(data!$B$2+ROW(A8))&$J$2)*輸入表單!$D$48)+(COUNTIF(輸入表單!$A$93:$A$132,(data!$B$2+ROW(A8))&$J$2)*輸入表單!$D$91)+(COUNTIF(輸入表單!$A$136:$A$175,(data!$B$2+ROW(A8))&$J$2)*輸入表單!$D$134)+(COUNTIF(輸入表單!$A$179:$A$218,(data!$B$2+ROW(A8))&$J$2)*輸入表單!$D$177)+(COUNTIF(輸入表單!$A$222:$A$261,(data!$B$2+ROW(A8))&$J$2)*輸入表單!$D$220)+(COUNTIF(輸入表單!$A$265:$A$304,(data!$B$2+ROW(A8))&$J$2)*輸入表單!$D$263)+(COUNTIF(輸入表單!$A$308:$A$347,(data!$B$2+ROW(A8))&$J$2)*輸入表單!$D$306)+(COUNTIF(輸入表單!$A$351:$A$390,(data!$B$2+ROW(A8))&$J$2)*輸入表單!$D$349)+(COUNTIF(輸入表單!$A$394:$A$433,(data!$B$2+ROW(A8))&$J$2)*輸入表單!$D$392)+(COUNTIF(輸入表單!$A$437:$A$476,(data!$B$2+ROW(A8))&$J$2)*輸入表單!$D$435)+(COUNTIF(輸入表單!$A$480:$A$519,(data!$B$2+ROW(A8))&$J$2)*輸入表單!$D$478)+(COUNTIF(輸入表單!$A$523:$A$562,(data!$B$2+ROW(A8))&$J$2)*輸入表單!$D$521)+(COUNTIF(輸入表單!$A$566:$A$605,(data!$B$2+ROW(A8))&$J$2)*輸入表單!$D$564)+(COUNTIF(輸入表單!$A$609:$A$648,(data!$B$2+ROW(A8))&$J$2)*輸入表單!$D$607)","v":0},{"$f":"VLOOKUP((data!$B$2+ROW(A8))&'輸出雙向細目表（1下適用）'!$L$2,data!$H$27:$I$86,2,FALSE)","v":""},{"$f":"(COUNTIF(輸入表單!$A$7:$A$46,(data!$B$2+ROW(A8))&$L$2)*輸入表單!$D$5)+(COUNTIF(輸入表單!$A$50:$A$89,(data!$B$2+ROW(A8))&$L$2)*輸入表單!$D$48)+(COUNTIF(輸入表單!$A$93:$A$132,(data!$B$2+ROW(A8))&$L$2)*輸入表單!$D$91)+(COUNTIF(輸入表單!$A$136:$A$175,(data!$B$2+ROW(A8))&$L$2)*輸入表單!$D$134)+(COUNTIF(輸入表單!$A$179:$A$218,(data!$B$2+ROW(A8))&$L$2)*輸入表單!$D$177)+(COUNTIF(輸入表單!$A$222:$A$261,(data!$B$2+ROW(A8))&$L$2)*輸入表單!$D$220)+(COUNTIF(輸入表單!$A$265:$A$304,(data!$B$2+ROW(A8))&$L$2)*輸入表單!$D$263)+(COUNTIF(輸入表單!$A$308:$A$347,(data!$B$2+ROW(A8))&$L$2)*輸入表單!$D$306)+(COUNTIF(輸入表單!$A$351:$A$390,(data!$B$2+ROW(A8))&$L$2)*輸入表單!$D$349)+(COUNTIF(輸入表單!$A$394:$A$433,(data!$B$2+ROW(A8))&$L$2)*輸入表單!$D$392)+(COUNTIF(輸入表單!$A$437:$A$476,(data!$B$2+ROW(A8))&$L$2)*輸入表單!$D$435)+(COUNTIF(輸入表單!$A$480:$A$519,(data!$B$2+ROW(A8))&$L$2)*輸入表單!$D$478)+(COUNTIF(輸入表單!$A$523:$A$562,(data!$B$2+ROW(A8))&$L$2)*輸入表單!$D$521)+(COUNTIF(輸入表單!$A$566:$A$605,(data!$B$2+ROW(A8))&$L$2)*輸入表單!$D$564)+(COUNTIF(輸入表單!$A$609:$A$648,(data!$B$2+ROW(A8))&$L$2)*輸入表單!$D$607)","v":0},{"$f":"VLOOKUP((data!$B$2+ROW(A8))&'輸出雙向細目表（1下適用）'!$N$2,data!$H$27:$I$86,2,FALSE)","v":""},{"$f":"(COUNTIF(輸入表單!$A$7:$A$46,(data!$B$2+ROW(A8))&$N$2)*輸入表單!$D$5)+(COUNTIF(輸入表單!$A$50:$A$89,(data!$B$2+ROW(A8))&$N$2)*輸入表單!$D$48)+(COUNTIF(輸入表單!$A$93:$A$132,(data!$B$2+ROW(A8))&$N$2)*輸入表單!$D$91)+(COUNTIF(輸入表單!$A$136:$A$175,(data!$B$2+ROW(A8))&$N$2)*輸入表單!$D$134)+(COUNTIF(輸入表單!$A$179:$A$218,(data!$B$2+ROW(A8))&$N$2)*輸入表單!$D$177)+(COUNTIF(輸入表單!$A$222:$A$261,(data!$B$2+ROW(A8))&$N$2)*輸入表單!$D$220)+(COUNTIF(輸入表單!$A$265:$A$304,(data!$B$2+ROW(A8))&$N$2)*輸入表單!$D$263)+(COUNTIF(輸入表單!$A$308:$A$347,(data!$B$2+ROW(A8))&$N$2)*輸入表單!$D$306)+(COUNTIF(輸入表單!$A$351:$A$390,(data!$B$2+ROW(A8))&$N$2)*輸入表單!$D$349)+(COUNTIF(輸入表單!$A$394:$A$433,(data!$B$2+ROW(A8))&$N$2)*輸入表單!$D$392)+(COUNTIF(輸入表單!$A$437:$A$476,(data!$B$2+ROW(A8))&$N$2)*輸入表單!$D$435)+(COUNTIF(輸入表單!$A$480:$A$519,(data!$B$2+ROW(A8))&$N$2)*輸入表單!$D$478)+(COUNTIF(輸入表單!$A$523:$A$562,(data!$B$2+ROW(A8))&$N$2)*輸入表單!$D$521)+(COUNTIF(輸入表單!$A$566:$A$605,(data!$B$2+ROW(A8))&$N$2)*輸入表單!$D$564)+(COUNTIF(輸入表單!$A$609:$A$648,(data!$B$2+ROW(A8))&$N$2)*輸入表單!$D$607)","v":0},{"$f":"VLOOKUP((data!$B$2+ROW(A8))&'輸出雙向細目表（1下適用）'!$P$2,data!$H$27:$I$86,2,FALSE)","v":""},{"$f":"(COUNTIF(輸入表單!$A$7:$A$46,(data!$B$2+ROW(A8))&$P$2)*輸入表單!$D$5)+(COUNTIF(輸入表單!$A$50:$A$89,(data!$B$2+ROW(A8))&$P$2)*輸入表單!$D$48)+(COUNTIF(輸入表單!$A$93:$A$132,(data!$B$2+ROW(A8))&$P$2)*輸入表單!$D$91)+(COUNTIF(輸入表單!$A$136:$A$175,(data!$B$2+ROW(A8))&$P$2)*輸入表單!$D$134)+(COUNTIF(輸入表單!$A$179:$A$218,(data!$B$2+ROW(A8))&$P$2)*輸入表單!$D$177)+(COUNTIF(輸入表單!$A$222:$A$261,(data!$B$2+ROW(A8))&$P$2)*輸入表單!$D$220)+(COUNTIF(輸入表單!$A$265:$A$304,(data!$B$2+ROW(A8))&$P$2)*輸入表單!$D$263)+(COUNTIF(輸入表單!$A$308:$A$347,(data!$B$2+ROW(A8))&$P$2)*輸入表單!$D$306)+(COUNTIF(輸入表單!$A$351:$A$390,(data!$B$2+ROW(A8))&$P$2)*輸入表單!$D$349)+(COUNTIF(輸入表單!$A$394:$A$433,(data!$B$2+ROW(A8))&$P$2)*輸入表單!$D$392)+(COUNTIF(輸入表單!$A$437:$A$476,(data!$B$2+ROW(A8))&$P$2)*輸入表單!$D$435)+(COUNTIF(輸入表單!$A$480:$A$519,(data!$B$2+ROW(A8))&$P$2)*輸入表單!$D$478)+(COUNTIF(輸入表單!$A$523:$A$562,(data!$B$2+ROW(A8))&$P$2)*輸入表單!$D$521)+(COUNTIF(輸入表單!$A$566:$A$605,(data!$B$2+ROW(A8))&$P$2)*輸入表單!$D$564)+(COUNTIF(輸入表單!$A$609:$A$648,(data!$B$2+ROW(A8))&$P$2)*輸入表單!$D$607)","v":0},{"$f":"VLOOKUP((data!$B$2+ROW(A8))&'輸出雙向細目表（1下適用）'!$R$2,data!$H$27:$I$86,2,FALSE)","v":""},{"$f":"(COUNTIF(輸入表單!$A$7:$A$46,(data!$B$2+ROW(A8))&$R$2)*輸入表單!$D$5)+(COUNTIF(輸入表單!$A$50:$A$89,(data!$B$2+ROW(A8))&$R$2)*輸入表單!$D$48)+(COUNTIF(輸入表單!$A$93:$A$132,(data!$B$2+ROW(A8))&$R$2)*輸入表單!$D$91)+(COUNTIF(輸入表單!$A$136:$A$175,(data!$B$2+ROW(A8))&$R$2)*輸入表單!$D$134)+(COUNTIF(輸入表單!$A$179:$A$218,(data!$B$2+ROW(A8))&$R$2)*輸入表單!$D$177)+(COUNTIF(輸入表單!$A$222:$A$261,(data!$B$2+ROW(A8))&$R$2)*輸入表單!$D$220)+(COUNTIF(輸入表單!$A$265:$A$304,(data!$B$2+ROW(A8))&$R$2)*輸入表單!$D$263)+(COUNTIF(輸入表單!$A$308:$A$347,(data!$B$2+ROW(A8))&$R$2)*輸入表單!$D$306)+(COUNTIF(輸入表單!$A$351:$A$390,(data!$B$2+ROW(A8))&$R$2)*輸入表單!$D$349)+(COUNTIF(輸入表單!$A$394:$A$433,(data!$B$2+ROW(A8))&$R$2)*輸入表單!$D$392)+(COUNTIF(輸入表單!$A$437:$A$476,(data!$B$2+ROW(A8))&$R$2)*輸入表單!$D$435)+(COUNTIF(輸入表單!$A$480:$A$519,(data!$B$2+ROW(A8))&$R$2)*輸入表單!$D$478)+(COUNTIF(輸入表單!$A$523:$A$562,(data!$B$2+ROW(A8))&$R$2)*輸入表單!$D$521)+(COUNTIF(輸入表單!$A$566:$A$605,(data!$B$2+ROW(A8))&$R$2)*輸入表單!$D$564)+(COUNTIF(輸入表單!$A$609:$A$648,(data!$B$2+ROW(A8))&$R$2)*輸入表單!$D$607)","v":0},{"$f":"VLOOKUP((data!$B$2+ROW(A8))&'輸出雙向細目表（1下適用）'!$T$2,data!$H$27:$I$86,2,FALSE)","v":""},{"$f":"(COUNTIF(輸入表單!$A$7:$A$46,(data!$B$2+ROW(A8))&$T$2)*輸入表單!$D$5)+(COUNTIF(輸入表單!$A$50:$A$89,(data!$B$2+ROW(A8))&$T$2)*輸入表單!$D$48)+(COUNTIF(輸入表單!$A$93:$A$132,(data!$B$2+ROW(A8))&$T$2)*輸入表單!$D$91)+(COUNTIF(輸入表單!$A$136:$A$175,(data!$B$2+ROW(A8))&$T$2)*輸入表單!$D$134)+(COUNTIF(輸入表單!$A$179:$A$218,(data!$B$2+ROW(A8))&$T$2)*輸入表單!$D$177)+(COUNTIF(輸入表單!$A$222:$A$261,(data!$B$2+ROW(A8))&$T$2)*輸入表單!$D$220)+(COUNTIF(輸入表單!$A$265:$A$304,(data!$B$2+ROW(A8))&$T$2)*輸入表單!$D$263)+(COUNTIF(輸入表單!$A$308:$A$347,(data!$B$2+ROW(A8))&$T$2)*輸入表單!$D$306)+(COUNTIF(輸入表單!$A$351:$A$390,(data!$B$2+ROW(A8))&$T$2)*輸入表單!$D$349)+(COUNTIF(輸入表單!$A$394:$A$433,(data!$B$2+ROW(A8))&$T$2)*輸入表單!$D$392)+(COUNTIF(輸入表單!$A$437:$A$476,(data!$B$2+ROW(A8))&$T$2)*輸入表單!$D$435)+(COUNTIF(輸入表單!$A$480:$A$519,(data!$B$2+ROW(A8))&$T$2)*輸入表單!$D$478)+(COUNTIF(輸入表單!$A$523:$A$562,(data!$B$2+ROW(A8))&$T$2)*輸入表單!$D$521)+(COUNTIF(輸入表單!$A$566:$A$605,(data!$B$2+ROW(A8))&$T$2)*輸入表單!$D$564)+(COUNTIF(輸入表單!$A$609:$A$648,(data!$B$2+ROW(A8))&$T$2)*輸入表單!$D$607)","v":0},0]
[{"$f":"IF(data!$B$3<data!$B$2+(ROW(A9)),\"\",CONCATENATE(輸入表單!$D$1,輸入表單!$D$2,data!$B$2+(ROW(A9))))","v":""},{"$f":"IF(A13=\"\",\"\",VLOOKUP(A13,data!$C$2:$D$310,2,FALSE))","v":""},{"$f":"IF(A13=\"\",\"\",VLOOKUP(A13,data!$C$2:$E$300,3,FALSE))","v":""},{"$f":"IF(A13=\"\",\"\",VLOOKUP(A13,data!$C$2:$F$300,4,FALSE))","v":""},"",{"$f":"((COUNTIF(輸入表單!$D$7:$D$46,(data!$B$2+ROW(A9)))*輸入表單!$D$5)+(COUNTIF(輸入表單!$D$50:$D$89,(data!$B$2+ROW(A9)))*輸入表單!$D$48)+(COUNTIF(輸入表單!$D$93:$D$132,(data!$B$2+ROW(A9)))*輸入表單!$D$91)+(COUNTIF(輸入表單!$D$136:$D$175,(data!$B$2+ROW(A9)))*輸入表單!$D$134)+(COUNTIF(輸入表單!$D$179:$D$218,(data!$B$2+ROW(A9)))*輸入表單!$D$177)+(COUNTIF(輸入表單!$D$222:$D$261,(data!$B$2+ROW(A9)))*輸入表單!$D$220)+(COUNTIF(輸入表單!$D$265:$D$304,(data!$B$2+ROW(A9)))*輸入表單!$D$263)+(COUNTIF(輸入表單!$D$308:$D$347,(data!$B$2+ROW(A9)))*輸入表單!$D$306)+(COUNTIF(輸入表單!$D$351:$D$390,(data!$B$2+ROW(A9)))*輸入表單!$D$349)+(COUNTIF(輸入表單!$D$394:$D$433,(data!$B$2+ROW(A9)))*輸入表單!$D$392)+(COUNTIF(輸入表單!$D$437:$D$476,(data!$B$2+ROW(A9)))*輸入表單!$D$435)+(COUNTIF(輸入表單!$D$480:$D$519,(data!$B$2+ROW(A9)))*輸入表單!$D$478)+(COUNTIF(輸入表單!$D$523:$D$562,(data!$B$2+ROW(A9)))*輸入表單!$D$521)+(COUNTIF(輸入表單!$D$566:$D$605,(data!$B$2+ROW(A9)))*輸入表單!$D$564)+(COUNTIF(輸入表單!$D$609:$D$648,(data!$B$2+ROW(A9)))*輸入表單!$D$607))/$V$14","v":{"$error":"#DIV/0!"}},null,null,"",{"$f":"VLOOKUP((data!$B$2+ROW(A9))&'輸出雙向細目表（1下適用）'!$J$2,data!$H$27:$I$86,2,FALSE)","v":""},{"$f":"(COUNTIF(輸入表單!$A$7:$A$46,(data!$B$2+ROW(A9))&$J$2)*輸入表單!$D$5)+(COUNTIF(輸入表單!$A$50:$A$89,(data!$B$2+ROW(A9))&$J$2)*輸入表單!$D$48)+(COUNTIF(輸入表單!$A$93:$A$132,(data!$B$2+ROW(A9))&$J$2)*輸入表單!$D$91)+(COUNTIF(輸入表單!$A$136:$A$175,(data!$B$2+ROW(A9))&$J$2)*輸入表單!$D$134)+(COUNTIF(輸入表單!$A$179:$A$218,(data!$B$2+ROW(A9))&$J$2)*輸入表單!$D$177)+(COUNTIF(輸入表單!$A$222:$A$261,(data!$B$2+ROW(A9))&$J$2)*輸入表單!$D$220)+(COUNTIF(輸入表單!$A$265:$A$304,(data!$B$2+ROW(A9))&$J$2)*輸入表單!$D$263)+(COUNTIF(輸入表單!$A$308:$A$347,(data!$B$2+ROW(A9))&$J$2)*輸入表單!$D$306)+(COUNTIF(輸入表單!$A$351:$A$390,(data!$B$2+ROW(A9))&$J$2)*輸入表單!$D$349)+(COUNTIF(輸入表單!$A$394:$A$433,(data!$B$2+ROW(A9))&$J$2)*輸入表單!$D$392)+(COUNTIF(輸入表單!$A$437:$A$476,(data!$B$2+ROW(A9))&$J$2)*輸入表單!$D$435)+(COUNTIF(輸入表單!$A$480:$A$519,(data!$B$2+ROW(A9))&$J$2)*輸入表單!$D$478)+(COUNTIF(輸入表單!$A$523:$A$562,(data!$B$2+ROW(A9))&$J$2)*輸入表單!$D$521)+(COUNTIF(輸入表單!$A$566:$A$605,(data!$B$2+ROW(A9))&$J$2)*輸入表單!$D$564)+(COUNTIF(輸入表單!$A$609:$A$648,(data!$B$2+ROW(A9))&$J$2)*輸入表單!$D$607)","v":0},{"$f":"VLOOKUP((data!$B$2+ROW(A9))&'輸出雙向細目表（1下適用）'!$L$2,data!$H$27:$I$86,2,FALSE)","v":""},{"$f":"(COUNTIF(輸入表單!$A$7:$A$46,(data!$B$2+ROW(A9))&$L$2)*輸入表單!$D$5)+(COUNTIF(輸入表單!$A$50:$A$89,(data!$B$2+ROW(A9))&$L$2)*輸入表單!$D$48)+(COUNTIF(輸入表單!$A$93:$A$132,(data!$B$2+ROW(A9))&$L$2)*輸入表單!$D$91)+(COUNTIF(輸入表單!$A$136:$A$175,(data!$B$2+ROW(A9))&$L$2)*輸入表單!$D$134)+(COUNTIF(輸入表單!$A$179:$A$218,(data!$B$2+ROW(A9))&$L$2)*輸入表單!$D$177)+(COUNTIF(輸入表單!$A$222:$A$261,(data!$B$2+ROW(A9))&$L$2)*輸入表單!$D$220)+(COUNTIF(輸入表單!$A$265:$A$304,(data!$B$2+ROW(A9))&$L$2)*輸入表單!$D$263)+(COUNTIF(輸入表單!$A$308:$A$347,(data!$B$2+ROW(A9))&$L$2)*輸入表單!$D$306)+(COUNTIF(輸入表單!$A$351:$A$390,(data!$B$2+ROW(A9))&$L$2)*輸入表單!$D$349)+(COUNTIF(輸入表單!$A$394:$A$433,(data!$B$2+ROW(A9))&$L$2)*輸入表單!$D$392)+(COUNTIF(輸入表單!$A$437:$A$476,(data!$B$2+ROW(A9))&$L$2)*輸入表單!$D$435)+(COUNTIF(輸入表單!$A$480:$A$519,(data!$B$2+ROW(A9))&$L$2)*輸入表單!$D$478)+(COUNTIF(輸入表單!$A$523:$A$562,(data!$B$2+ROW(A9))&$L$2)*輸入表單!$D$521)+(COUNTIF(輸入表單!$A$566:$A$605,(data!$B$2+ROW(A9))&$L$2)*輸入表單!$D$564)+(COUNTIF(輸入表單!$A$609:$A$648,(data!$B$2+ROW(A9))&$L$2)*輸入表單!$D$607)","v":0},{"$f":"VLOOKUP((data!$B$2+ROW(A9))&'輸出雙向細目表（1下適用）'!$N$2,data!$H$27:$I$86,2,FALSE)","v":""},{"$f":"(COUNTIF(輸入表單!$A$7:$A$46,(data!$B$2+ROW(A9))&$N$2)*輸入表單!$D$5)+(COUNTIF(輸入表單!$A$50:$A$89,(data!$B$2+ROW(A9))&$N$2)*輸入表單!$D$48)+(COUNTIF(輸入表單!$A$93:$A$132,(data!$B$2+ROW(A9))&$N$2)*輸入表單!$D$91)+(COUNTIF(輸入表單!$A$136:$A$175,(data!$B$2+ROW(A9))&$N$2)*輸入表單!$D$134)+(COUNTIF(輸入表單!$A$179:$A$218,(data!$B$2+ROW(A9))&$N$2)*輸入表單!$D$177)+(COUNTIF(輸入表單!$A$222:$A$261,(data!$B$2+ROW(A9))&$N$2)*輸入表單!$D$220)+(COUNTIF(輸入表單!$A$265:$A$304,(data!$B$2+ROW(A9))&$N$2)*輸入表單!$D$263)+(COUNTIF(輸入表單!$A$308:$A$347,(data!$B$2+ROW(A9))&$N$2)*輸入表單!$D$306)+(COUNTIF(輸入表單!$A$351:$A$390,(data!$B$2+ROW(A9))&$N$2)*輸入表單!$D$349)+(COUNTIF(輸入表單!$A$394:$A$433,(data!$B$2+ROW(A9))&$N$2)*輸入表單!$D$392)+(COUNTIF(輸入表單!$A$437:$A$476,(data!$B$2+ROW(A9))&$N$2)*輸入表單!$D$435)+(COUNTIF(輸入表單!$A$480:$A$519,(data!$B$2+ROW(A9))&$N$2)*輸入表單!$D$478)+(COUNTIF(輸入表單!$A$523:$A$562,(data!$B$2+ROW(A9))&$N$2)*輸入表單!$D$521)+(COUNTIF(輸入表單!$A$566:$A$605,(data!$B$2+ROW(A9))&$N$2)*輸入表單!$D$564)+(COUNTIF(輸入表單!$A$609:$A$648,(data!$B$2+ROW(A9))&$N$2)*輸入表單!$D$607)","v":0},{"$f":"VLOOKUP((data!$B$2+ROW(A9))&'輸出雙向細目表（1下適用）'!$P$2,data!$H$27:$I$86,2,FALSE)","v":""},{"$f":"(COUNTIF(輸入表單!$A$7:$A$46,(data!$B$2+ROW(A9))&$P$2)*輸入表單!$D$5)+(COUNTIF(輸入表單!$A$50:$A$89,(data!$B$2+ROW(A9))&$P$2)*輸入表單!$D$48)+(COUNTIF(輸入表單!$A$93:$A$132,(data!$B$2+ROW(A9))&$P$2)*輸入表單!$D$91)+(COUNTIF(輸入表單!$A$136:$A$175,(data!$B$2+ROW(A9))&$P$2)*輸入表單!$D$134)+(COUNTIF(輸入表單!$A$179:$A$218,(data!$B$2+ROW(A9))&$P$2)*輸入表單!$D$177)+(COUNTIF(輸入表單!$A$222:$A$261,(data!$B$2+ROW(A9))&$P$2)*輸入表單!$D$220)+(COUNTIF(輸入表單!$A$265:$A$304,(data!$B$2+ROW(A9))&$P$2)*輸入表單!$D$263)+(COUNTIF(輸入表單!$A$308:$A$347,(data!$B$2+ROW(A9))&$P$2)*輸入表單!$D$306)+(COUNTIF(輸入表單!$A$351:$A$390,(data!$B$2+ROW(A9))&$P$2)*輸入表單!$D$349)+(COUNTIF(輸入表單!$A$394:$A$433,(data!$B$2+ROW(A9))&$P$2)*輸入表單!$D$392)+(COUNTIF(輸入表單!$A$437:$A$476,(data!$B$2+ROW(A9))&$P$2)*輸入表單!$D$435)+(COUNTIF(輸入表單!$A$480:$A$519,(data!$B$2+ROW(A9))&$P$2)*輸入表單!$D$478)+(COUNTIF(輸入表單!$A$523:$A$562,(data!$B$2+ROW(A9))&$P$2)*輸入表單!$D$521)+(COUNTIF(輸入表單!$A$566:$A$605,(data!$B$2+ROW(A9))&$P$2)*輸入表單!$D$564)+(COUNTIF(輸入表單!$A$609:$A$648,(data!$B$2+ROW(A9))&$P$2)*輸入表單!$D$607)","v":0},{"$f":"VLOOKUP((data!$B$2+ROW(A9))&'輸出雙向細目表（1下適用）'!$R$2,data!$H$27:$I$86,2,FALSE)","v":""},{"$f":"(COUNTIF(輸入表單!$A$7:$A$46,(data!$B$2+ROW(A9))&$R$2)*輸入表單!$D$5)+(COUNTIF(輸入表單!$A$50:$A$89,(data!$B$2+ROW(A9))&$R$2)*輸入表單!$D$48)+(COUNTIF(輸入表單!$A$93:$A$132,(data!$B$2+ROW(A9))&$R$2)*輸入表單!$D$91)+(COUNTIF(輸入表單!$A$136:$A$175,(data!$B$2+ROW(A9))&$R$2)*輸入表單!$D$134)+(COUNTIF(輸入表單!$A$179:$A$218,(data!$B$2+ROW(A9))&$R$2)*輸入表單!$D$177)+(COUNTIF(輸入表單!$A$222:$A$261,(data!$B$2+ROW(A9))&$R$2)*輸入表單!$D$220)+(COUNTIF(輸入表單!$A$265:$A$304,(data!$B$2+ROW(A9))&$R$2)*輸入表單!$D$263)+(COUNTIF(輸入表單!$A$308:$A$347,(data!$B$2+ROW(A9))&$R$2)*輸入表單!$D$306)+(COUNTIF(輸入表單!$A$351:$A$390,(data!$B$2+ROW(A9))&$R$2)*輸入表單!$D$349)+(COUNTIF(輸入表單!$A$394:$A$433,(data!$B$2+ROW(A9))&$R$2)*輸入表單!$D$392)+(COUNTIF(輸入表單!$A$437:$A$476,(data!$B$2+ROW(A9))&$R$2)*輸入表單!$D$435)+(COUNTIF(輸入表單!$A$480:$A$519,(data!$B$2+ROW(A9))&$R$2)*輸入表單!$D$478)+(COUNTIF(輸入表單!$A$523:$A$562,(data!$B$2+ROW(A9))&$R$2)*輸入表單!$D$521)+(COUNTIF(輸入表單!$A$566:$A$605,(data!$B$2+ROW(A9))&$R$2)*輸入表單!$D$564)+(COUNTIF(輸入表單!$A$609:$A$648,(data!$B$2+ROW(A9))&$R$2)*輸入表單!$D$607)","v":0},{"$f":"VLOOKUP((data!$B$2+ROW(A9))&'輸出雙向細目表（1下適用）'!$T$2,data!$H$27:$I$86,2,FALSE)","v":""},{"$f":"(COUNTIF(輸入表單!$A$7:$A$46,(data!$B$2+ROW(A9))&$T$2)*輸入表單!$D$5)+(COUNTIF(輸入表單!$A$50:$A$89,(data!$B$2+ROW(A9))&$T$2)*輸入表單!$D$48)+(COUNTIF(輸入表單!$A$93:$A$132,(data!$B$2+ROW(A9))&$T$2)*輸入表單!$D$91)+(COUNTIF(輸入表單!$A$136:$A$175,(data!$B$2+ROW(A9))&$T$2)*輸入表單!$D$134)+(COUNTIF(輸入表單!$A$179:$A$218,(data!$B$2+ROW(A9))&$T$2)*輸入表單!$D$177)+(COUNTIF(輸入表單!$A$222:$A$261,(data!$B$2+ROW(A9))&$T$2)*輸入表單!$D$220)+(COUNTIF(輸入表單!$A$265:$A$304,(data!$B$2+ROW(A9))&$T$2)*輸入表單!$D$263)+(COUNTIF(輸入表單!$A$308:$A$347,(data!$B$2+ROW(A9))&$T$2)*輸入表單!$D$306)+(COUNTIF(輸入表單!$A$351:$A$390,(data!$B$2+ROW(A9))&$T$2)*輸入表單!$D$349)+(COUNTIF(輸入表單!$A$394:$A$433,(data!$B$2+ROW(A9))&$T$2)*輸入表單!$D$392)+(COUNTIF(輸入表單!$A$437:$A$476,(data!$B$2+ROW(A9))&$T$2)*輸入表單!$D$435)+(COUNTIF(輸入表單!$A$480:$A$519,(data!$B$2+ROW(A9))&$T$2)*輸入表單!$D$478)+(COUNTIF(輸入表單!$A$523:$A$562,(data!$B$2+ROW(A9))&$T$2)*輸入表單!$D$521)+(COUNTIF(輸入表單!$A$566:$A$605,(data!$B$2+ROW(A9))&$T$2)*輸入表單!$D$564)+(COUNTIF(輸入表單!$A$609:$A$648,(data!$B$2+ROW(A9))&$T$2)*輸入表單!$D$607)","v":0},0]
[null,null,"合計",{"$f":"SUM(D4:D13)","v":0},1,{"$f":"SUM(F4:F13)","v":{"$error":"#DIV/0!"}},null,null,null,{"$f":"SUM(K4:K13)","v":0},null,{"$f":"SUM(M4:M13)","v":0},null,{"$f":"SUM(O4:O13)","v":0},null,{"$f":"SUM(Q4:Q13)","v":0},null,{"$f":"SUM(S4:S13)","v":0},null,{"$f":"SUM(U4:U13)","v":0},null,{"$f":"SUM(V4:V13)","v":0}]
[]
[{"$nulls":8},"本試題已經審題老師閱卷完畢且通過審查。",{"$nulls":6},"審題教師簽章："]

{"sheet":"data","index":3,"n_rows":223,"n_cols":68,"rows_kept":223,"cut":false,"hidden":true,"merged":[]}
["單元分析",null,"分項","單元",null,"節數",null,null,"查詢項",2,3,4,5,6,7,8,9,10]
["min",{"$f":"MIN(輸入表單!D7:D46,輸入表單!D50:D89,輸入表單!D93:D132,輸入表單!D136:D175,輸入表單!D179:D218,輸入表單!D222:D261,輸入表單!D265:D304,輸入表單!D308:D347,輸入表單!D351:D390,輸入表單!D394:D433,輸入表單!D437:D476,輸入表單!D480:D519,輸入表單!D523:D562,輸入表單!D566:D605,輸入表單!D609:D648)","v":1},"1數學1","1.50以內的數",null,null,null,"出現次數",{"$f":"B2&'輸出雙向細目表（1下適用）'!$J$2","v":"1記憶"},{"$f":"($B$2+1)&'輸出雙向細目表（1下適用）'!$J$2","v":"2記憶"},{"$f":"($B$2+J1)&'輸出雙向細目表（1下適用）'!$J$2","v":"3記憶"},{"$f":"($B$2+K1)&'輸出雙向細目表（1下適用）'!$J$2","v":"4記憶"},{"$f":"($B$2+L1)&'輸出雙向細目表（1下適用）'!$J$2","v":"5記憶"},{"$f":"($B$2+M1)&'輸出雙向細目表（1下適用）'!$J$2","v":"6記憶"},{"$f":"($B$2+N1)&'輸出雙向細目表（1下適用）'!$J$2","v":"7記憶"},{"$f":"($B$2+O1)&'輸出雙向細目表（1下適用）'!$J$2","v":"8記憶"},{"$f":"($B$2+P1)&'輸出雙向細目表（1下適用）'!$J$2","v":"9記憶"},{"$f":"($B$2+Q1)&'輸出雙向細目表（1下適用）'!$J$2","v":"10記憶"},{"$f":"B2&'輸出雙向細目表（1下適用）'!$L$2","v":"1了解"},{"$f":"($B$2+1)&'輸出雙向細目表（1下適用）'!$L$2","v":"2了解"},{"$f":"($B$2+J1)&'輸出雙向細目表（1下適用）'!$L$2","v":"3了解"},{"$f":"($B$2+K1)&'輸出雙向細目表（1下適用）'!$L$2","v":"4了解"},{"$f":"($B$2+L1)&'輸出雙向細目表（1下適用）'!$L$2","v":"5了解"},{"$f":"($B$2+M1)&'輸出雙向細目表（1下適用）'!$L$2","v":"6了解"},{"$f":"($B$2+N1)&'輸出雙向細目表（1下適用）'!$L$2","v":"7了解"},{"$f":"($B$2+O1)&'輸出雙向細目表（1下適用）'!$L$2","v":"8了解"},{"$f":"($B$2+P1)&'輸出雙向細目表（1下適用）'!$L$2","v":"9了解"},{"$f":"($B$2+Q1)&'輸出雙向細目表（1下適用）'!$L$2","v":"10了解"},{"$f":"$B$2&'輸出雙向細目表（1下適用）'!$N$2","v":"1應用"},{"$f":"($B$2+1)&'輸出雙向細目表（1下適用）'!$N$2","v":"2應用"},{"$f":"($B$2+J1)&'輸出雙向細目表（1下適用）'!$N$2","v":"3應用"},{"$f":"($B$2+K1)&'輸出雙向細目表（1下適用）'!$N$2","v":"4應用"},{"$f":"($B$2+L1)&'輸出雙向細目表（1下適用）'!$N$2","v":"5應用"},{"$f":"($B$2+M1)&'輸出雙向細目表（1下適用）'!$N$2","v":"6應用"},{"$f":"($B$2+N1)&'輸出雙向細目表（1下適用）'!$N$2","v":"7應用"},{"$f":"($B$2+O1)&'輸出雙向細目表（1下適用）'!$N$2","v":"8應用"},{"$f":"($B$2+P1)&'輸出雙向細目表（1下適用）'!$N$2","v":"9應用"},{"$f":"($B$2+Q1)&'輸出雙向細目表（1下適用）'!$N$2","v":"10應用"},{"$f":"$B$2&'輸出雙向細目表（1下適用）'!$P$2","v":"1高層次思考"},{"$f":"($B$2+1)&'輸出雙向細目表（1下適用）'!$P$2","v":"2高層次思考"},{"$f":"($B$2+J1)&'輸出雙向細目表（1下適用）'!$P$2","v":"3高層次思考"},{"$f":"($B$2+K1)&'輸出雙向細目表（1下適用）'!$P$2","v":"4高層次思考"},{"$f":"($B$2+L1)&'輸出雙向細目表（1下適用）'!$P$2","v":"5高層次思考"},{"$f":"($B$2+M1)&'輸出雙向細目表（1下適用）'!$P$2","v":"6高層次思考"},{"$f":"($B$2+N1)&'輸出雙向細目表（1下適用）'!$P$2","v":"7高層次思考"},{"$f":"($B$2+O1)&'輸出雙向細目表（1下適用）'!$P$2","v":"8高層次思考"},{"$f":"($B$2+P1)&'輸出雙向細目表（1下適用）'!$P$2","v":"9高層次思考"},{"$f":"($B$2+Q1)&'輸出雙向細目表（1下適用）'!$P$2","v":"10高層次思考"},{"$f":"$B$2&'輸出雙向細目表（1下適用）'!$R$2","v":"1評鑑"},{"$f":"($B$2+1)&'輸出雙向細目表（1下適用）'!$R$2","v":"2評鑑"},{"$f":"($B$2+J1)&'輸出雙向細目表（1下適用）'!$R$2","v":"3評鑑"},{"$f":"($B$2+K1)&'輸出雙向細目表（1下適用）'!$R$2","v":"4評鑑"},{"$f":"($B$2+L1)&'輸出雙向細目表（1下適用）'!$R$2","v":"5評鑑"},{"$f":"($B$2+M1)&'輸出雙向細目表（1下適用）'!$R$2","v":"6評鑑"},{"$f":"($B$2+N1)&'輸出雙向細目表（1下適用）'!$R$2","v":"7評鑑"},{"$f":"($B$2+O1)&'輸出雙向細目表（1下適用）'!$R$2","v":"8評鑑"},{"$f":"($B$2+P1)&'輸出雙向細目表（1下適用）'!$R$2","v":"9評鑑"},{"$f":"($B$2+Q1)&'輸出雙向細目表（1下適用）'!$R$2","v":"10評鑑"},{"$f":"$B$2&'輸出雙向細目表（1下適用）'!$T$2","v":"1創作"},{"$f":"($B$2+1)&'輸出雙向細目表（1下適用）'!$T$2","v":"2創作"},{"$f":"($B$2+J1)&'輸出雙向細目表（1下適用）'!$T$2","v":"3創作"},{"$f":"($B$2+K1)&'輸出雙向細目表（1下適用）'!$T$2","v":"4創作"},{"$f":"($B$2+L1)&'輸出雙向細目表（1下適用）'!$T$2","v":"5創作"},{"$f":"($B$2+M1)&'輸出雙向細目表（1下適用）'!$T$2","v":"6創作"},{"$f":"($B$2+N1)&'輸出雙向細目表（1下適用）'!$T$2","v":"7創作"},{"$f":"($B$2+O1)&'輸出雙向細目表（1下適用）'!$T$2","v":"8創作"},{"$f":"($B$2+P1)&'輸出雙向細目表（1下適用）'!$T$2","v":"9創作"},{"$f":"($B$2+Q1)&'輸出雙向細目表（1下適用）'!$T$2","v":"10創作"}]
["max",{"$f":"MAX(輸入表單!D7:D46,輸入表單!D50:D89,輸入表單!D93:D132,輸入表單!D136:D175,輸入表單!D179:D218,輸入表單!D222:D261,輸入表單!D265:D304,輸入表單!D308:D347,輸入表單!D351:D390,輸入表單!D394:D433,輸入表單!D437:D476,輸入表單!D480:D519,輸入表單!D523:D562,輸入表單!D566:D605,輸入表單!D609:D648)","v":2},"1數學2","2.18以內的加法",null,null,null,1,{"$f":"INDEX(輸入表單!$B:$B,SMALL(IF(輸入表單!$A$7:$A$648=I$2,ROW($A$7:$A$648),65536),ROW(1:1)))&\"\"","v":""},{"$f":"INDEX(輸入表單!$B:$B,SMALL(IF(輸入表單!$A$7:$A$648=J$2,ROW($A$7:$A$648),65536),ROW(1:1)))&\"\"","v":""},{"$f":"INDEX(輸入表單!$B:$B,SMALL(IF(輸入表單!$A$7:$A$648=K$2,ROW($A$7:$A$648),65536),ROW(1:1)))&\"\"","v":""},{"$f":"INDEX(輸入表單!$B:$B,SMALL(IF(輸入表單!$A$7:$A$648=L$2,ROW($A$7:$A$648),65536),ROW(1:1)))&\"\"","v":""},{"$f":"INDEX(輸入表單!$B:$B,SMALL(IF(輸入表單!$A$7:$A$648=M$2,ROW($A$7:$A$648),65536),ROW(1:1)))&\"\"","v":""},{"$f":"INDEX(輸入表單!$B:$B,SMALL(IF(輸入表單!$A$7:$A$648=N$2,ROW($A$7:$A$648),65536),ROW(1:1)))&\"\"","v":""},{"$f":"INDEX(輸入表單!$B:$B,SMALL(IF(輸入表單!$A$7:$A$648=O$2,ROW($A$7:$A$648),65536),ROW(1:1)))&\"\"","v":""},{"$f":"INDEX(輸入表單!$B:$B,SMALL(IF(輸入表單!$A$7:$A$648=P$2,ROW($A$7:$A$648),65536),ROW(1:1)))&\"\"","v":""},{"$f":"INDEX(輸入表單!$B:$B,SMALL(IF(輸入表單!$A$7:$A$648=Q$2,ROW($A$7:$A$648),65536),ROW(1:1)))&\"\"","v":""},{"$f":"INDEX(輸入表單!$B:$B,SMALL(IF(輸入表單!$A$7:$A$648=R$2,ROW($A$7:$A$648),65536),ROW(1:1)))&\"\"","v":""},{"$f":"INDEX(輸入表單!$B:$B,SMALL(IF(輸入表單!$A$7:$A$648=S$2,ROW($A$7:$A$648),65536),ROW(1:1)))&\"\"","v":""},{"$f":"INDEX(輸入表單!$B:$B,SMALL(IF(輸入表單!$A$7:$A$648=T$2,ROW($A$7:$A$648),65536),ROW(1:1)))&\"\"","v":""},{"$f":"INDEX(輸入表單!$B:$B,SMALL(IF(輸入表單!$A$7:$A$648=U$2,ROW($A$7:$A$648),65536),ROW(1:1)))&\"\"","v":""},{"$f":"INDEX(輸入表單!$B:$B,SMALL(IF(輸入表單!$A$7:$A$648=V$2,ROW($A$7:$A$648),65536),ROW(1:1)))&\"\"","v":""},{"$f":"INDEX(輸入表單!$B:$B,SMALL(IF(輸入表單!$A$7:$A$648=W$2,ROW($A$7:$A$648),65536),ROW(1:1)))&\"\"","v":""},{"$f":"INDEX(輸入表單!$B:$B,SMALL(IF(輸入表單!$A$7:$A$648=X$2,ROW($A$7:$A$648),65536),ROW(1:1)))&\"\"","v":""},{"$f":"INDEX(輸入表單!$B:$B,SMALL(IF(輸入表單!$A$7:$A$648=Y$2,ROW($A$7:$A$648),65536),ROW(1:1)))&\"\"","v":""},{"$f":"INDEX(輸入表單!$B:$B,SMALL(IF(輸入表單!$A$7:$A$648=Z$2,ROW($A$7:$A$648),65536),ROW(1:1)))&\"\"","v":""},{"$f":"INDEX(輸入表單!$B:$B,SMALL(IF(輸入表單!$A$7:$A$648=AA$2,ROW($A$7:$A$648),65536),ROW(1:1)))&\"\"","v":""},{"$f":"INDEX(輸入表單!$B:$B,SMALL(IF(輸入表單!$A$7:$A$648=AB$2,ROW($A$7:$A$648),65536),ROW(1:1)))&\"\"","v":""},{"$f":"INDEX(輸入表單!$B:$B,SMALL(IF(輸入表單!$A$7:$A$648=AC$2,ROW($A$7:$A$648),65536),ROW(1:1)))&\"\"","v":""},{"$f":"INDEX(輸入表單!$B:$B,SMALL(IF(輸入表單!$A$7:$A$648=AD$2,ROW($A$7:$A$648),65536),ROW(1:1)))&\"\"","v":""},{"$f":"INDEX(輸入表單!$B:$B,SMALL(IF(輸入表單!$A$7:$A$648=AE$2,ROW($A$7:$A$648),65536),ROW(1:1)))&\"\"","v":""},{"$f":"INDEX(輸入表單!$B:$B,SMALL(IF(輸入表單!$A$7:$A$648=AF$2,ROW($A$7:$A$648),65536),ROW(1:1)))&\"\"","v":""},{"$f":"INDEX(輸入表單!$B:$B,SMALL(IF(輸入表單!$A$7:$A$648=AG$2,ROW($A$7:$A$648),65536),ROW(1:1)))&\"\"","v":""},{"$f":"INDEX(輸入表單!$B:$B,SMALL(IF(輸入表單!$A$7:$A$648=AH$2,ROW($A$7:$A$648),65536),ROW(1:1)))&\"\"","v":""},{"$f":"INDEX(輸入表單!$B:$B,SMALL(IF(輸入表單!$A$7:$A$648=AI$2,ROW($A$7:$A$648),65536),ROW(1:1)))&\"\"","v":""},{"$f":"INDEX(輸入表單!$B:$B,SMALL(IF(輸入表單!$A$7:$A$648=AJ$2,ROW($A$7:$A$648),65536),ROW(1:1)))&\"\"","v":""},{"$f":"INDEX(輸入表單!$B:$B,SMALL(IF(輸入表單!$A$7:$A$648=AK$2,ROW($A$7:$A$648),65536),ROW(1:1)))&\"\"","v":""},{"$f":"INDEX(輸入表單!$B:$B,SMALL(IF(輸入表單!$A$7:$A$648=AL$2,ROW($A$7:$A$648),65536),ROW(1:1)))&\"\"","v":""},{"$f":"INDEX(輸入表單!$B:$B,SMALL(IF(輸入表單!$A$7:$A$648=AM$2,ROW($A$7:$A$648),65536),ROW(1:1)))&\"\"","v":""},{"$f":"INDEX(輸入表單!$B:$B,SMALL(IF(輸入表單!$A$7:$A$648=AN$2,ROW($A$7:$A$648),65536),ROW(1:1)))&\"\"","v":""},{"$f":"INDEX(輸入表單!$B:$B,SMALL(IF(輸入表單!$A$7:$A$648=AO$2,ROW($A$7:$A$648),65536),ROW(1:1)))&\"\"","v":""},{"$f":"INDEX(輸入表單!$B:$B,SMALL(IF(輸入表單!$A$7:$A$648=AP$2,ROW($A$7:$A$648),65536),ROW(1:1)))&\"\"","v":""},{"$f":"INDEX(輸入表單!$B:$B,SMALL(IF(輸入表單!$A$7:$A$648=AQ$2,ROW($A$7:$A$648),65536),ROW(1:1)))&\"\"","v":""},{"$f":"INDEX(輸入表單!$B:$B,SMALL(IF(輸入表單!$A$7:$A$648=AR$2,ROW($A$7:$A$648),65536),ROW(1:1)))&\"\"","v":""},{"$f":"INDEX(輸入表單!$B:$B,SMALL(IF(輸入表單!$A$7:$A$648=AS$2,ROW($A$7:$A$648),65536),ROW(1:1)))&\"\"","v":""},{"$f":"INDEX(輸入表單!$B:$B,SMALL(IF(輸入表單!$A$7:$A$648=AT$2,ROW($A$7:$A$648),65536),ROW(1:1)))&\"\"","v":""},{"$f":"INDEX(輸入表單!$B:$B,SMALL(IF(輸入表單!$A$7:$A$648=AU$2,ROW($A$7:$A$648),65536),ROW(1:1)))&\"\"","v":""},{"$f":"INDEX(輸入表單!$B:$B,SMALL(IF(輸入表單!$A$7:$A$648=AV$2,ROW($A$7:$A$648),65536),ROW(1:1)))&\"\"","v":""},{"$f":"INDEX(輸入表單!$B:$B,SMALL(IF(輸入表單!$A$7:$A$648=AW$2,ROW($A$7:$A$648),65536),ROW(1:1)))&\"\"","v":""},{"$f":"INDEX(輸入表單!$B:$B,SMALL(IF(輸入表單!$A$7:$A$648=AX$2,ROW($A$7:$A$648),65536),ROW(1:1)))&\"\"","v":""},{"$f":"INDEX(輸入表單!$B:$B,SMALL(IF(輸入表單!$A$7:$A$648=AY$2,ROW($A$7:$A$648),65536),ROW(1:1)))&\"\"","v":""},{"$f":"INDEX(輸入表單!$B:$B,SMALL(IF(輸入表單!$A$7:$A$648=AZ$2,ROW($A$7:$A$648),65536),ROW(1:1)))&\"\"","v":""},{"$f":"INDEX(輸入表單!$B:$B,SMALL(IF(輸入表單!$A$7:$A$648=BA$2,ROW($A$7:$A$648),65536),ROW(1:1)))&\"\"","v":""},{"$f":"INDEX(輸入表單!$B:$B,SMALL(IF(輸入表單!$A$7:$A$648=BB$2,ROW($A$7:$A$648),65536),ROW(1:1)))&\"\"","v":""},{"$f":"INDEX(輸入表單!$B:$B,SMALL(IF(輸入表單!$A$7:$A$648=BC$2,ROW($A$7:$A$648),65536),ROW(1:1)))&\"\"","v":""},{"$f":"INDEX(輸入表單!$B:$B,SMALL(IF(輸入表單!$A$7:$A$648=BD$2,ROW($A$7:$A$648),65536),ROW(1:1)))&\"\"","v":""},{"$f":"INDEX(輸入表單!$B:$B,SMALL(IF(輸入表單!$A$7:$A$648=BE$2,ROW($A$7:$A$648),65536),ROW(1:1)))&\"\"","v":""},{"$f":"INDEX(輸入表單!$B:$B,SMALL(IF(輸入表單!$A$7:$A$648=BF$2,ROW($A$7:$A$648),65536),ROW(1:1)))&\"\"","v":""},{"$f":"INDEX(輸入表單!$B:$B,SMALL(IF(輸入表單!$A$7:$A$648=BG$2,ROW($A$7:$A$648),65536),ROW(1:1)))&\"\"","v":""},{"$f":"INDEX(輸入表單!$B:$B,SMALL(IF(輸入表單!$A$7:$A$648=BH$2,ROW($A$7:$A$648),65536),ROW(1:1)))&\"\"","v":""},{"$f":"INDEX(輸入表單!$B:$B,SMALL(IF(輸入表單!$A$7:$A$648=BI$2,ROW($A$7:$A$648),65536),ROW(1:1)))&\"\"","v":""},{"$f":"INDEX(輸入表單!$B:$B,SMALL(IF(輸入表單!$A$7:$A$648=BJ$2,ROW($A$7:$A$648),65536),ROW(1:1)))&\"\"","v":""},{"$f":"INDEX(輸入表單!$B:$B,SMALL(IF(輸入表單!$A$7:$A$648=BK$2,ROW($A$7:$A$648),65536),ROW(1:1)))&\"\"","v":""},{"$f":"INDEX(輸入表單!$B:$B,SMALL(IF(輸入表單!$A$7:$A$648=BL$2,ROW($A$7:$A$648),65536),ROW(1:1)))&\"\"","v":""},{"$f":"INDEX(輸入表單!$B:$B,SMALL(IF(輸入表單!$A$7:$A$648=BM$2,ROW($A$7:$A$648),65536),ROW(1:1)))&\"\"","v":""},{"$f":"INDEX(輸入表單!$B:$B,SMALL(IF(輸入表單!$A$7:$A$648=BN$2,ROW($A$7:$A$648),65536),ROW(1:1)))&\"\"","v":""},{"$f":"INDEX(輸入表單!$B:$B,SMALL(IF(輸入表單!$A$7:$A$648=BO$2,ROW($A$7:$A$648),65536),ROW(1:1)))&\"\"","v":""},{"$f":"INDEX(輸入表單!$B:$B,SMALL(IF(輸入表單!$A$7:$A$648=BP$2,ROW($A$7:$A$648),65536),ROW(1:1)))&\"\"","v":""}]
[null,null,"1數學3","3.圓形與分類",null,null,null,2,{"$f":"INDEX(輸入表單!$B:$B,SMALL(IF(輸入表單!$A$7:$A$648=I$2,ROW($A$7:$A$648),65536),ROW(2:2)))&\"\"","v":""},{"$f":"INDEX(輸入表單!$B:$B,SMALL(IF(輸入表單!$A$7:$A$648=J$2,ROW($A$7:$A$648),65536),ROW(2:2)))&\"\"","v":""},{"$f":"INDEX(輸入表單!$B:$B,SMALL(IF(輸入表單!$A$7:$A$648=K$2,ROW($A$7:$A$648),65536),ROW(2:2)))&\"\"","v":""},{"$f":"INDEX(輸入表單!$B:$B,SMALL(IF(輸入表單!$A$7:$A$648=L$2,ROW($A$7:$A$648),65536),ROW(2:2)))&\"\"","v":""},{"$f":"INDEX(輸入表單!$B:$B,SMALL(IF(輸入表單!$A$7:$A$648=M$2,ROW($A$7:$A$648),65536),ROW(2:2)))&\"\"","v":""},{"$f":"INDEX(輸入表單!$B:$B,SMALL(IF(輸入表單!$A$7:$A$648=N$2,ROW($A$7:$A$648),65536),ROW(2:2)))&\"\"","v":""},{"$f":"INDEX(輸入表單!$B:$B,SMALL(IF(輸入表單!$A$7:$A$648=O$2,ROW($A$7:$A$648),65536),ROW(2:2)))&\"\"","v":""},{"$f":"INDEX(輸入表單!$B:$B,SMALL(IF(輸入表單!$A$7:$A$648=P$2,ROW($A$7:$A$648),65536),ROW(2:2)))&\"\"","v":""},{"$f":"INDEX(輸入表單!$B:$B,SMALL(IF(輸入表單!$A$7:$A$648=Q$2,ROW($A$7:$A$648),65536),ROW(2:2)))&\"\"","v":""},{"$f":"INDEX(輸入表單!$B:$B,SMALL(IF(輸入表單!$A$7:$A$648=R$2,ROW($A$7:$A$648),65536),ROW(2:2)))&\"\"","v":""},{"$f":"INDEX(輸入表單!$B:$B,SMALL(IF(輸入表單!$A$7:$A$648=S$2,ROW($A$7:$A$648),65536),ROW(2:2)))&\"\"","v":""},{"$f":"INDEX(輸入表單!$B:$B,SMALL(IF(輸入表單!$A$7:$A$648=T$2,ROW($A$7:$A$648),65536),ROW(2:2)))&\"\"","v":""},{"$f":"INDEX(輸入表單!$B:$B,SMALL(IF(輸入表單!$A$7:$A$648=U$2,ROW($A$7:$A$648),65536),ROW(2:2)))&\"\"","v":""},{"$f":"INDEX(輸入表單!$B:$B,SMALL(IF(輸入表單!$A$7:$A$648=V$2,ROW($A$7:$A$648),65536),ROW(2:2)))&\"\"","v":""},{"$f":"INDEX(輸入表單!$B:$B,SMALL(IF(輸入表單!$A$7:$A$648=W$2,ROW($A$7:$A$648),65536),ROW(2:2)))&\"\"","v":""},{"$f":"INDEX(輸入表單!$B:$B,SMALL(IF(輸入表單!$A$7:$A$648=X$2,ROW($A$7:$A$648),65536),ROW(2:2)))&\"\"","v":""},{"$f":"INDEX(輸入表單!$B:$B,SMALL(IF(輸入表單!$A$7:$A$648=Y$2,ROW($A$7:$A$648),65536),ROW(2:2)))&\"\"","v":""},{"$f":"INDEX(輸入表單!$B:$B,SMALL(IF(輸入表單!$A$7:$A$648=Z$2,ROW($A$7:$A$648),65536),ROW(2:2)))&\"\"","v":""},{"$f":"INDEX(輸入表單!$B:$B,SMALL(IF(輸入表單!$A$7:$A$648=AA$2,ROW($A$7:$A$648),65536),ROW(2:2)))&\"\"","v":""},{"$f":"INDEX(輸入表單!$B:$B,SMALL(IF(輸入表單!$A$7:$A$648=AB$2,ROW($A$7:$A$648),65536),ROW(2:2)))&\"\"","v":""},{"$f":"INDEX(輸入表單!$B:$B,SMALL(IF(輸入表單!$A$7:$A$648=AC$2,ROW($A$7:$A$648),65536),ROW(2:2)))&\"\"","v":""},{"$f":"INDEX(輸入表單!$B:$B,SMALL(IF(輸入表單!$A$7:$A$648=AD$2,ROW($A$7:$A$648),65536),ROW(2:2)))&\"\"","v":""},{"$f":"INDEX(輸入表單!$B:$B,SMALL(IF(輸入表單!$A$7:$A$648=AE$2,ROW($A$7:$A$648),65536),ROW(2:2)))&\"\"","v":""},{"$f":"INDEX(輸入表單!$B:$B,SMALL(IF(輸入表單!$A$7:$A$648=AF$2,ROW($A$7:$A$648),65536),ROW(2:2)))&\"\"","v":""},{"$f":"INDEX(輸入表單!$B:$B,SMALL(IF(輸入表單!$A$7:$A$648=AG$2,ROW($A$7:$A$648),65536),ROW(2:2)))&\"\"","v":""},{"$f":"INDEX(輸入表單!$B:$B,SMALL(IF(輸入表單!$A$7:$A$648=AH$2,ROW($A$7:$A$648),65536),ROW(2:2)))&\"\"","v":""},{"$f":"INDEX(輸入表單!$B:$B,SMALL(IF(輸入表單!$A$7:$A$648=AI$2,ROW($A$7:$A$648),65536),ROW(2:2)))&\"\"","v":""},{"$f":"INDEX(輸入表單!$B:$B,SMALL(IF(輸入表單!$A$7:$A$648=AJ$2,ROW($A$7:$A$648),65536),ROW(2:2)))&\"\"","v":""},{"$f":"INDEX(輸入表單!$B:$B,SMALL(IF(輸入表單!$A$7:$A$648=AK$2,ROW($A$7:$A$648),65536),ROW(2:2)))&\"\"","v":""},{"$f":"INDEX(輸入表單!$B:$B,SMALL(IF(輸入表單!$A$7:$A$648=AL$2,ROW($A$7:$A$648),65536),ROW(2:2)))&\"\"","v":""},{"$f":"INDEX(輸入表單!$B:$B,SMALL(IF(輸入表單!$A$7:$A$648=AM$2,ROW($A$7:$A$648),65536),ROW(2:2)))&\"\"","v":""},{"$f":"INDEX(輸入表單!$B:$B,SMALL(IF(輸入表單!$A$7:$A$648=AN$2,ROW($A$7:$A$648),65536),ROW(2:2)))&\"\"","v":""},{"$f":"INDEX(輸入表單!$B:$B,SMALL(IF(輸入表單!$A$7:$A$648=AO$2,ROW($A$7:$A$648),65536),ROW(2:2)))&\"\"","v":""},{"$f":"INDEX(輸入表單!$B:$B,SMALL(IF(輸入表單!$A$7:$A$648=AP$2,ROW($A$7:$A$648),65536),ROW(2:2)))&\"\"","v":""},{"$f":"INDEX(輸入表單!$B:$B,SMALL(IF(輸入表單!$A$7:$A$648=AQ$2,ROW($A$7:$A$648),65536),ROW(2:2)))&\"\"","v":""},{"$f":"INDEX(輸入表單!$B:$B,SMALL(IF(輸入表單!$A$7:$A$648=AR$2,ROW($A$7:$A$648),65536),ROW(2:2)))&\"\"","v":""},{"$f":"INDEX(輸入表單!$B:$B,SMALL(IF(輸入表單!$A$7:$A$648=AS$2,ROW($A$7:$A$648),65536),ROW(2:2)))&\"\"","v":""},{"$f":"INDEX(輸入表單!$B:$B,SMALL(IF(輸入表單!$A$7:$A$648=AT$2,ROW($A$7:$A$648),65536),ROW(2:2)))&\"\"","v":""},{"$f":"INDEX(輸入表單!$B:$B,SMALL(IF(輸入表單!$A$7:$A$648=AU$2,ROW($A$7:$A$648),65536),ROW(2:2)))&\"\"","v":""},{"$f":"INDEX(輸入表單!$B:$B,SMALL(IF(輸入表單!$A$7:$A$648=AV$2,ROW($A$7:$A$648),65536),ROW(2:2)))&\"\"","v":""},{"$f":"INDEX(輸入表單!$B:$B,SMALL(IF(輸入表單!$A$7:$A$648=AW$2,ROW($A$7:$A$648),65536),ROW(2:2)))&\"\"","v":""},{"$f":"INDEX(輸入表單!$B:$B,SMALL(IF(輸入表單!$A$7:$A$648=AX$2,ROW($A$7:$A$648),65536),ROW(2:2)))&\"\"","v":""},{"$f":"INDEX(輸入表單!$B:$B,SMALL(IF(輸入表單!$A$7:$A$648=AY$2,ROW($A$7:$A$648),65536),ROW(2:2)))&\"\"","v":""},{"$f":"INDEX(輸入表單!$B:$B,SMALL(IF(輸入表單!$A$7:$A$648=AZ$2,ROW($A$7:$A$648),65536),ROW(2:2)))&\"\"","v":""},{"$f":"INDEX(輸入表單!$B:$B,SMALL(IF(輸入表單!$A$7:$A$648=BA$2,ROW($A$7:$A$648),65536),ROW(2:2)))&\"\"","v":""},{"$f":"INDEX(輸入表單!$B:$B,SMALL(IF(輸入表單!$A$7:$A$648=BB$2,ROW($A$7:$A$648),65536),ROW(2:2)))&\"\"","v":""},{"$f":"INDEX(輸入表單!$B:$B,SMALL(IF(輸入表單!$A$7:$A$648=BC$2,ROW($A$7:$A$648),65536),ROW(2:2)))&\"\"","v":""},{"$f":"INDEX(輸入表單!$B:$B,SMALL(IF(輸入表單!$A$7:$A$648=BD$2,ROW($A$7:$A$648),65536),ROW(2:2)))&\"\"","v":""},{"$f":"INDEX(輸入表單!$B:$B,SMALL(IF(輸入表單!$A$7:$A$648=BE$2,ROW($A$7:$A$648),65536),ROW(2:2)))&\"\"","v":""},{"$f":"INDEX(輸入表單!$B:$B,SMALL(IF(輸入表單!$A$7:$A$648=BF$2,ROW($A$7:$A$648),65536),ROW(2:2)))&\"\"","v":""},{"$f":"INDEX(輸入表單!$B:$B,SMALL(IF(輸入表單!$A$7:$A$648=BG$2,ROW($A$7:$A$648),65536),ROW(2:2)))&\"\"","v":""},{"$f":"INDEX(輸入表單!$B:$B,SMALL(IF(輸入表單!$A$7:$A$648=BH$2,ROW($A$7:$A$648),65536),ROW(2:2)))&\"\"","v":""},{"$f":"INDEX(輸入表單!$B:$B,SMALL(IF(輸入表單!$A$7:$A$648=BI$2,ROW($A$7:$A$648),65536),ROW(2:2)))&\"\"","v":""},{"$f":"INDEX(輸入表單!$B:$B,SMALL(IF(輸入表單!$A$7:$A$648=BJ$2,ROW($A$7:$A$648),65536),ROW(2:2)))&\"\"","v":""},{"$f":"INDEX(輸入表單!$B:$B,SMALL(IF(輸入表單!$A$7:$A$648=BK$2,ROW($A$7:$A$648),65536),ROW(2:2)))&\"\"","v":""},{"$f":"INDEX(輸入表單!$B:$B,SMALL(IF(輸入表單!$A$7:$A$648=BL$2,ROW($A$7:$A$648),65536),ROW(2:2)))&\"\"","v":""},{"$f":"INDEX(輸入表單!$B:$B,SMALL(IF(輸入表單!$A$7:$A$648=BM$2,ROW($A$7:$A$648),65536),ROW(2:2)))&\"\"","v":""},{"$f":"INDEX(輸入表單!$B:$B,SMALL(IF(輸入表單!$A$7:$A$648=BN$2,ROW($A$7:$A$648),65536),ROW(2:2)))&\"\"","v":""},{"$f":"INDEX(輸入表單!$B:$B,SMALL(IF(輸入表單!$A$7:$A$648=BO$2,ROW($A$7:$A$648),65536),ROW(2:2)))&\"\"","v":""},{"$f":"INDEX(輸入表單!$B:$B,SMALL(IF(輸入表單!$A$7:$A$648=BP$2,ROW($A$7:$A$648),65536),ROW(2:2)))&\"\"","v":""}]
[null,null,"1數學4","4.18以內的減法",null,null,null,3,{"$f":"INDEX(輸入表單!$B:$B,SMALL(IF(輸入表單!$A$7:$A$648=I$2,ROW($A$7:$A$648),65536),ROW(3:3)))&\"\"","v":""},{"$f":"INDEX(輸入表單!$B:$B,SMALL(IF(輸入表單!$A$7:$A$648=J$2,ROW($A$7:$A$648),65536),ROW(3:3)))&\"\"","v":""},{"$f":"INDEX(輸入表單!$B:$B,SMALL(IF(輸入表單!$A$7:$A$648=K$2,ROW($A$7:$A$648),65536),ROW(3:3)))&\"\"","v":""},{"$f":"INDEX(輸入表單!$B:$B,SMALL(IF(輸入表單!$A$7:$A$648=L$2,ROW($A$7:$A$648),65536),ROW(3:3)))&\"\"","v":""},{"$f":"INDEX(輸入表單!$B:$B,SMALL(IF(輸入表單!$A$7:$A$648=M$2,ROW($A$7:$A$648),65536),ROW(3:3)))&\"\"","v":""},{"$f":"INDEX(輸入表單!$B:$B,SMALL(IF(輸入表單!$A$7:$A$648=N$2,ROW($A$7:$A$648),65536),ROW(3:3)))&\"\"","v":""},{"$f":"INDEX(輸入表單!$B:$B,SMALL(IF(輸入表單!$A$7:$A$648=O$2,ROW($A$7:$A$648),65536),ROW(3:3)))&\"\"","v":""},{"$f":"INDEX(輸入表單!$B:$B,SMALL(IF(輸入表單!$A$7:$A$648=P$2,ROW($A$7:$A$648),65536),ROW(3:3)))&\"\"","v":""},{"$f":"INDEX(輸入表單!$B:$B,SMALL(IF(輸入表單!$A$7:$A$648=Q$2,ROW($A$7:$A$648),65536),ROW(3:3)))&\"\"","v":""},{"$f":"INDEX(輸入表單!$B:$B,SMALL(IF(輸入表單!$A$7:$A$648=R$2,ROW($A$7:$A$648),65536),ROW(3:3)))&\"\"","v":""},{"$f":"INDEX(輸入表單!$B:$B,SMALL(IF(輸入表單!$A$7:$A$648=S$2,ROW($A$7:$A$648),65536),ROW(3:3)))&\"\"","v":""},{"$f":"INDEX(輸入表單!$B:$B,SMALL(IF(輸入表單!$A$7:$A$648=T$2,ROW($A$7:$A$648),65536),ROW(3:3)))&\"\"","v":""},{"$f":"INDEX(輸入表單!$B:$B,SMALL(IF(輸入表單!$A$7:$A$648=U$2,ROW($A$7:$A$648),65536),ROW(3:3)))&\"\"","v":""},{"$f":"INDEX(輸入表單!$B:$B,SMALL(IF(輸入表單!$A$7:$A$648=V$2,ROW($A$7:$A$648),65536),ROW(3:3)))&\"\"","v":""},{"$f":"INDEX(輸入表單!$B:$B,SMALL(IF(輸入表單!$A$7:$A$648=W$2,ROW($A$7:$A$648),65536),ROW(3:3)))&\"\"","v":""},{"$f":"INDEX(輸入表單!$B:$B,SMALL(IF(輸入表單!$A$7:$A$648=X$2,ROW($A$7:$A$648),65536),ROW(3:3)))&\"\"","v":""},{"$f":"INDEX(輸入表單!$B:$B,SMALL(IF(輸入表單!$A$7:$A$648=Y$2,ROW($A$7:$A$648),65536),ROW(3:3)))&\"\"","v":""},{"$f":"INDEX(輸入表單!$B:$B,SMALL(IF(輸入表單!$A$7:$A$648=Z$2,ROW($A$7:$A$648),65536),ROW(3:3)))&\"\"","v":""},{"$f":"INDEX(輸入表單!$B:$B,SMALL(IF(輸入表單!$A$7:$A$648=AA$2,ROW($A$7:$A$648),65536),ROW(3:3)))&\"\"","v":""},{"$f":"INDEX(輸入表單!$B:$B,SMALL(IF(輸入表單!$A$7:$A$648=AB$2,ROW($A$7:$A$648),65536),ROW(3:3)))&\"\"","v":""},{"$f":"INDEX(輸入表單!$B:$B,SMALL(IF(輸入表單!$A$7:$A$648=AC$2,ROW($A$7:$A$648),65536),ROW(3:3)))&\"\"","v":""},{"$f":"INDEX(輸入表單!$B:$B,SMALL(IF(輸入表單!$A$7:$A$648=AD$2,ROW($A$7:$A$648),65536),ROW(3:3)))&\"\"","v":""},{"$f":"INDEX(輸入表單!$B:$B,SMALL(IF(輸入表單!$A$7:$A$648=AE$2,ROW($A$7:$A$648),65536),ROW(3:3)))&\"\"","v":""},{"$f":"INDEX(輸入表單!$B:$B,SMALL(IF(輸入表單!$A$7:$A$648=AF$2,ROW($A$7:$A$648),65536),ROW(3:3)))&\"\"","v":""},{"$f":"INDEX(輸入表單!$B:$B,SMALL(IF(輸入表單!$A$7:$A$648=AG$2,ROW($A$7:$A$648),65536),ROW(3:3)))&\"\"","v":""},{"$f":"INDEX(輸入表單!$B:$B,SMALL(IF(輸入表單!$A$7:$A$648=AH$2,ROW($A$7:$A$648),65536),ROW(3:3)))&\"\"","v":""},{"$f":"INDEX(輸入表單!$B:$B,SMALL(IF(輸入表單!$A$7:$A$648=AI$2,ROW($A$7:$A$648),65536),ROW(3:3)))&\"\"","v":""},{"$f":"INDEX(輸入表單!$B:$B,SMALL(IF(輸入表單!$A$7:$A$648=AJ$2,ROW($A$7:$A$648),65536),ROW(3:3)))&\"\"","v":""},{"$f":"INDEX(輸入表單!$B:$B,SMALL(IF(輸入表單!$A$7:$A$648=AK$2,ROW($A$7:$A$648),65536),ROW(3:3)))&\"\"","v":""},{"$f":"INDEX(輸入表單!$B:$B,SMALL(IF(輸入表單!$A$7:$A$648=AL$2,ROW($A$7:$A$648),65536),ROW(3:3)))&\"\"","v":""},{"$f":"INDEX(輸入表單!$B:$B,SMALL(IF(輸入表單!$A$7:$A$648=AM$2,ROW($A$7:$A$648),65536),ROW(3:3)))&\"\"","v":""},{"$f":"INDEX(輸入表單!$B:$B,SMALL(IF(輸入表單!$A$7:$A$648=AN$2,ROW($A$7:$A$648),65536),ROW(3:3)))&\"\"","v":""},{"$f":"INDEX(輸入表單!$B:$B,SMALL(IF(輸入表單!$A$7:$A$648=AO$2,ROW($A$7:$A$648),65536),ROW(3:3)))&\"\"","v":""},{"$f":"INDEX(輸入表單!$B:$B,SMALL(IF(輸入表單!$A$7:$A$648=AP$2,ROW($A$7:$A$648),65536),ROW(3:3)))&\"\"","v":""},{"$f":"INDEX(輸入表單!$B:$B,SMALL(IF(輸入表單!$A$7:$A$648=AQ$2,ROW($A$7:$A$648),65536),ROW(3:3)))&\"\"","v":""},{"$f":"INDEX(輸入表單!$B:$B,SMALL(IF(輸入表單!$A$7:$A$648=AR$2,ROW($A$7:$A$648),65536),ROW(3:3)))&\"\"","v":""},{"$f":"INDEX(輸入表單!$B:$B,SMALL(IF(輸入表單!$A$7:$A$648=AS$2,ROW($A$7:$A$648),65536),ROW(3:3)))&\"\"","v":""},{"$f":"INDEX(輸入表單!$B:$B,SMALL(IF(輸入表單!$A$7:$A$648=AT$2,ROW($A$7:$A$648),65536),ROW(3:3)))&\"\"","v":""},{"$f":"INDEX(輸入表單!$B:$B,SMALL(IF(輸入表單!$A$7:$A$648=AU$2,ROW($A$7:$A$648),65536),ROW(3:3)))&\"\"","v":""},{"$f":"INDEX(輸入表單!$B:$B,SMALL(IF(輸入表單!$A$7:$A$648=AV$2,ROW($A$7:$A$648),65536),ROW(3:3)))&\"\"","v":""},{"$f":"INDEX(輸入表單!$B:$B,SMALL(IF(輸入表單!$A$7:$A$648=AW$2,ROW($A$7:$A$648),65536),ROW(3:3)))&\"\"","v":""},{"$f":"INDEX(輸入表單!$B:$B,SMALL(IF(輸入表單!$A$7:$A$648=AX$2,ROW($A$7:$A$648),65536),ROW(3:3)))&\"\"","v":""},{"$f":"INDEX(輸入表單!$B:$B,SMALL(IF(輸入表單!$A$7:$A$648=AY$2,ROW($A$7:$A$648),65536),ROW(3:3)))&\"\"","v":""},{"$f":"INDEX(輸入表單!$B:$B,SMALL(IF(輸入表單!$A$7:$A$648=AZ$2,ROW($A$7:$A$648),65536),ROW(3:3)))&\"\"","v":""},{"$f":"INDEX(輸入表單!$B:$B,SMALL(IF(輸入表單!$A$7:$A$648=BA$2,ROW($A$7:$A$648),65536),ROW(3:3)))&\"\"","v":""},{"$f":"INDEX(輸入表單!$B:$B,SMALL(IF(輸入表單!$A$7:$A$648=BB$2,ROW($A$7:$A$648),65536),ROW(3:3)))&\"\"","v":""},{"$f":"INDEX(輸入表單!$B:$B,SMALL(IF(輸入表單!$A$7:$A$648=BC$2,ROW($A$7:$A$648),65536),ROW(3:3)))&\"\"","v":""},{"$f":"INDEX(輸入表單!$B:$B,SMALL(IF(輸入表單!$A$7:$A$648=BD$2,ROW($A$7:$A$648),65536),ROW(3:3)))&\"\"","v":""},{"$f":"INDEX(輸入表單!$B:$B,SMALL(IF(輸入表單!$A$7:$A$648=BE$2,ROW($A$7:$A$648),65536),ROW(3:3)))&\"\"","v":""},{"$f":"INDEX(輸入表單!$B:$B,SMALL(IF(輸入表單!$A$7:$A$648=BF$2,ROW($A$7:$A$648),65536),ROW(3:3)))&\"\"","v":""},{"$f":"INDEX(輸入表單!$B:$B,SMALL(IF(輸入表單!$A$7:$A$648=BG$2,ROW($A$7:$A$648),65536),ROW(3:3)))&\"\"","v":""},{"$f":"INDEX(輸入表單!$B:$B,SMALL(IF(輸入表單!$A$7:$A$648=BH$2,ROW($A$7:$A$648),65536),ROW(3:3)))&\"\"","v":""},{"$f":"INDEX(輸入表單!$B:$B,SMALL(IF(輸入表單!$A$7:$A$648=BI$2,ROW($A$7:$A$648),65536),ROW(3:3)))&\"\"","v":""},{"$f":"INDEX(輸入表單!$B:$B,SMALL(IF(輸入表單!$A$7:$A$648=BJ$2,ROW($A$7:$A$648),65536),ROW(3:3)))&\"\"","v":""},{"$f":"INDEX(輸入表單!$B:$B,SMALL(IF(輸入表單!$A$7:$A$648=BK$2,ROW($A$7:$A$648),65536),ROW(3:3)))&\"\"","v":""},{"$f":"INDEX(輸入表單!$B:$B,SMALL(IF(輸入表單!$A$7:$A$648=BL$2,ROW($A$7:$A$648),65536),ROW(3:3)))&\"\"","v":""},{"$f":"INDEX(輸入表單!$B:$B,SMALL(IF(輸入表單!$A$7:$A$648=BM$2,ROW($A$7:$A$648),65536),ROW(3:3)))&\"\"","v":""},{"$f":"INDEX(輸入表單!$B:$B,SMALL(IF(輸入表單!$A$7:$A$648=BN$2,ROW($A$7:$A$648),65536),ROW(3:3)))&\"\"","v":""},{"$f":"INDEX(輸入表單!$B:$B,SMALL(IF(輸入表單!$A$7:$A$648=BO$2,ROW($A$7:$A$648),65536),ROW(3:3)))&\"\"","v":""},{"$f":"INDEX(輸入表單!$B:$B,SMALL(IF(輸入表單!$A$7:$A$648=BP$2,ROW($A$7:$A$648),65536),ROW(3:3)))&\"\"","v":""}]
[null,null,"1數學5","5.有多長",null,null,null,4,{"$f":"INDEX(輸入表單!$B:$B,SMALL(IF(輸入表單!$A$7:$A$648=I$2,ROW($A$7:$A$648),65536),ROW(4:4)))&\"\"","v":""},{"$f":"INDEX(輸入表單!$B:$B,SMALL(IF(輸入表單!$A$7:$A$648=J$2,ROW($A$7:$A$648),65536),ROW(4:4)))&\"\"","v":""},{"$f":"INDEX(輸入表單!$B:$B,SMALL(IF(輸入表單!$A$7:$A$648=K$2,ROW($A$7:$A$648),65536),ROW(4:4)))&\"\"","v":""},{"$f":"INDEX(輸入表單!$B:$B,SMALL(IF(輸入表單!$A$7:$A$648=L$2,ROW($A$7:$A$648),65536),ROW(4:4)))&\"\"","v":""},{"$f":"INDEX(輸入表單!$B:$B,SMALL(IF(輸入表單!$A$7:$A$648=M$2,ROW($A$7:$A$648),65536),ROW(4:4)))&\"\"","v":""},{"$f":"INDEX(輸入表單!$B:$B,SMALL(IF(輸入表單!$A$7:$A$648=N$2,ROW($A$7:$A$648),65536),ROW(4:4)))&\"\"","v":""},{"$f":"INDEX(輸入表單!$B:$B,SMALL(IF(輸入表單!$A$7:$A$648=O$2,ROW($A$7:$A$648),65536),ROW(4:4)))&\"\"","v":""},{"$f":"INDEX(輸入表單!$B:$B,SMALL(IF(輸入表單!$A$7:$A$648=P$2,ROW($A$7:$A$648),65536),ROW(4:4)))&\"\"","v":""},{"$f":"INDEX(輸入表單!$B:$B,SMALL(IF(輸入表單!$A$7:$A$648=Q$2,ROW($A$7:$A$648),65536),ROW(4:4)))&\"\"","v":""},{"$f":"INDEX(輸入表單!$B:$B,SMALL(IF(輸入表單!$A$7:$A$648=R$2,ROW($A$7:$A$648),65536),ROW(4:4)))&\"\"","v":""},{"$f":"INDEX(輸入表單!$B:$B,SMALL(IF(輸入表單!$A$7:$A$648=S$2,ROW($A$7:$A$648),65536),ROW(4:4)))&\"\"","v":""},{"$f":"INDEX(輸入表單!$B:$B,SMALL(IF(輸入表單!$A$7:$A$648=T$2,ROW($A$7:$A$648),65536),ROW(4:4)))&\"\"","v":""},{"$f":"INDEX(輸入表單!$B:$B,SMALL(IF(輸入表單!$A$7:$A$648=U$2,ROW($A$7:$A$648),65536),ROW(4:4)))&\"\"","v":""},{"$f":"INDEX(輸入表單!$B:$B,SMALL(IF(輸入表單!$A$7:$A$648=V$2,ROW($A$7:$A$648),65536),ROW(4:4)))&\"\"","v":""},{"$f":"INDEX(輸入表單!$B:$B,SMALL(IF(輸入表單!$A$7:$A$648=W$2,ROW($A$7:$A$648),65536),ROW(4:4)))&\"\"","v":""},{"$f":"INDEX(輸入表單!$B:$B,SMALL(IF(輸入表單!$A$7:$A$648=X$2,ROW($A$7:$A$648),65536),ROW(4:4)))&\"\"","v":""},{"$f":"INDEX(輸入表單!$B:$B,SMALL(IF(輸入表單!$A$7:$A$648=Y$2,ROW($A$7:$A$648),65536),ROW(4:4)))&\"\"","v":""},{"$f":"INDEX(輸入表單!$B:$B,SMALL(IF(輸入表單!$A$7:$A$648=Z$2,ROW($A$7:$A$648),65536),ROW(4:4)))&\"\"","v":""},{"$f":"INDEX(輸入表單!$B:$B,SMALL(IF(輸入表單!$A$7:$A$648=AA$2,ROW($A$7:$A$648),65536),ROW(4:4)))&\"\"","v":""},{"$f":"INDEX(輸入表單!$B:$B,SMALL(IF(輸入表單!$A$7:$A$648=AB$2,ROW($A$7:$A$648),65536),ROW(4:4)))&\"\"","v":""},{"$f":"INDEX(輸入表單!$B:$B,SMALL(IF(輸入表單!$A$7:$A$648=AC$2,ROW($A$7:$A$648),65536),ROW(4:4)))&\"\"","v":""},{"$f":"INDEX(輸入表單!$B:$B,SMALL(IF(輸入表單!$A$7:$A$648=AD$2,ROW($A$7:$A$648),65536),ROW(4:4)))&\"\"","v":""},{"$f":"INDEX(輸入表單!$B:$B,SMALL(IF(輸入表單!$A$7:$A$648=AE$2,ROW($A$7:$A$648),65536),ROW(4:4)))&\"\"","v":""},{"$f":"INDEX(輸入表單!$B:$B,SMALL(IF(輸入表單!$A$7:$A$648=AF$2,ROW($A$7:$A$648),65536),ROW(4:4)))&\"\"","v":""},{"$f":"INDEX(輸入表單!$B:$B,SMALL(IF(輸入表單!$A$7:$A$648=AG$2,ROW($A$7:$A$648),65536),ROW(4:4)))&\"\"","v":""},{"$f":"INDEX(輸入表單!$B:$B,SMALL(IF(輸入表單!$A$7:$A$648=AH$2,ROW($A$7:$A$648),65536),ROW(4:4)))&\"\"","v":""},{"$f":"INDEX(輸入表單!$B:$B,SMALL(IF(輸入表單!$A$7:$A$648=AI$2,ROW($A$7:$A$648),65536),ROW(4:4)))&\"\"","v":""},{"$f":"INDEX(輸入表單!$B:$B,SMALL(IF(輸入表單!$A$7:$A$648=AJ$2,ROW($A$7:$A$648),65536),ROW(4:4)))&\"\"","v":""},{"$f":"INDEX(輸入表單!$B:$B,SMALL(IF(輸入表單!$A$7:$A$648=AK$2,ROW($A$7:$A$648),65536),ROW(4:4)))&\"\"","v":""},{"$f":"INDEX(輸入表單!$B:$B,SMALL(IF(輸入表單!$A$7:$A$648=AL$2,ROW($A$7:$A$648),65536),ROW(4:4)))&\"\"","v":""},{"$f":"INDEX(輸入表單!$B:$B,SMALL(IF(輸入表單!$A$7:$A$648=AM$2,ROW($A$7:$A$648),65536),ROW(4:4)))&\"\"","v":""},{"$f":"INDEX(輸入表單!$B:$B,SMALL(IF(輸入表單!$A$7:$A$648=AN$2,ROW($A$7:$A$648),65536),ROW(4:4)))&\"\"","v":""},{"$f":"INDEX(輸入表單!$B:$B,SMALL(IF(輸入表單!$A$7:$A$648=AO$2,ROW($A$7:$A$648),65536),ROW(4:4)))&\"\"","v":""},{"$f":"INDEX(輸入表單!$B:$B,SMALL(IF(輸入表單!$A$7:$A$648=AP$2,ROW($A$7:$A$648),65536),ROW(4:4)))&\"\"","v":""},{"$f":"INDEX(輸入表單!$B:$B,SMALL(IF(輸入表單!$A$7:$A$648=AQ$2,ROW($A$7:$A$648),65536),ROW(4:4)))&\"\"","v":""},{"$f":"INDEX(輸入表單!$B:$B,SMALL(IF(輸入表單!$A$7:$A$648=AR$2,ROW($A$7:$A$648),65536),ROW(4:4)))&\"\"","v":""},{"$f":"INDEX(輸入表單!$B:$B,SMALL(IF(輸入表單!$A$7:$A$648=AS$2,ROW($A$7:$A$648),65536),ROW(4:4)))&\"\"","v":""},{"$f":"INDEX(輸入表單!$B:$B,SMALL(IF(輸入表單!$A$7:$A$648=AT$2,ROW($A$7:$A$648),65536),ROW(4:4)))&\"\"","v":""},{"$f":"INDEX(輸入表單!$B:$B,SMALL(IF(輸入表單!$A$7:$A$648=AU$2,ROW($A$7:$A$648),65536),ROW(4:4)))&\"\"","v":""},{"$f":"INDEX(輸入表單!$B:$B,SMALL(IF(輸入表單!$A$7:$A$648=AV$2,ROW($A$7:$A$648),65536),ROW(4:4)))&\"\"","v":""},{"$f":"INDEX(輸入表單!$B:$B,SMALL(IF(輸入表單!$A$7:$A$648=AW$2,ROW($A$7:$A$648),65536),ROW(4:4)))&\"\"","v":""},{"$f":"INDEX(輸入表單!$B:$B,SMALL(IF(輸入表單!$A$7:$A$648=AX$2,ROW($A$7:$A$648),65536),ROW(4:4)))&\"\"","v":""},{"$f":"INDEX(輸入表單!$B:$B,SMALL(IF(輸入表單!$A$7:$A$648=AY$2,ROW($A$7:$A$648),65536),ROW(4:4)))&\"\"","v":""},{"$f":"INDEX(輸入表單!$B:$B,SMALL(IF(輸入表單!$A$7:$A$648=AZ$2,ROW($A$7:$A$648),65536),ROW(4:4)))&\"\"","v":""},{"$f":"INDEX(輸入表單!$B:$B,SMALL(IF(輸入表單!$A$7:$A$648=BA$2,ROW($A$7:$A$648),65536),ROW(4:4)))&\"\"","v":""},{"$f":"INDEX(輸入表單!$B:$B,SMALL(IF(輸入表單!$A$7:$A$648=BB$2,ROW($A$7:$A$648),65536),ROW(4:4)))&\"\"","v":""},{"$f":"INDEX(輸入表單!$B:$B,SMALL(IF(輸入表單!$A$7:$A$648=BC$2,ROW($A$7:$A$648),65536),ROW(4:4)))&\"\"","v":""},{"$f":"INDEX(輸入表單!$B:$B,SMALL(IF(輸入表單!$A$7:$A$648=BD$2,ROW($A$7:$A$648),65536),ROW(4:4)))&\"\"","v":""},{"$f":"INDEX(輸入表單!$B:$B,SMALL(IF(輸入表單!$A$7:$A$648=BE$2,ROW($A$7:$A$648),65536),ROW(4:4)))&\"\"","v":""},{"$f":"INDEX(輸入表單!$B:$B,SMALL(IF(輸入表單!$A$7:$A$648=BF$2,ROW($A$7:$A$648),65536),ROW(4:4)))&\"\"","v":""},{"$f":"INDEX(輸入表單!$B:$B,SMALL(IF(輸入表單!$A$7:$A$648=BG$2,ROW($A$7:$A$648),65536),ROW(4:4)))&\"\"","v":""},{"$f":"INDEX(輸入表單!$B:$B,SMALL(IF(輸入表單!$A$7:$A$648=BH$2,ROW($A$7:$A$648),65536),ROW(4:4)))&\"\"","v":""},{"$f":"INDEX(輸入表單!$B:$B,SMALL(IF(輸入表單!$A$7:$A$648=BI$2,ROW($A$7:$A$648),65536),ROW(4:4)))&\"\"","v":""},{"$f":"INDEX(輸入表單!$B:$B,SMALL(IF(輸入表單!$A$7:$A$648=BJ$2,ROW($A$7:$A$648),65536),ROW(4:4)))&\"\"","v":""},{"$f":"INDEX(輸入表單!$B:$B,SMALL(IF(輸入表單!$A$7:$A$648=BK$2,ROW($A$7:$A$648),65536),ROW(4:4)))&\"\"","v":""},{"$f":"INDEX(輸入表單!$B:$B,SMALL(IF(輸入表單!$A$7:$A$648=BL$2,ROW($A$7:$A$648),65536),ROW(4:4)))&\"\"","v":""},{"$f":"INDEX(輸入表單!$B:$B,SMALL(IF(輸入表單!$A$7:$A$648=BM$2,ROW($A$7:$A$648),65536),ROW(4:4)))&\"\"","v":""},{"$f":"INDEX(輸入表單!$B:$B,SMALL(IF(輸入表單!$A$7:$A$648=BN$2,ROW($A$7:$A$648),65536),ROW(4:4)))&\"\"","v":""},{"$f":"INDEX(輸入表單!$B:$B,SMALL(IF(輸入表單!$A$7:$A$648=BO$2,ROW($A$7:$A$648),65536),ROW(4:4)))&\"\"","v":""},{"$f":"INDEX(輸入表單!$B:$B,SMALL(IF(輸入表單!$A$7:$A$648=BP$2,ROW($A$7:$A$648),65536),ROW(4:4)))&\"\"","v":""}]
[null,null,"1數學6","6.100以內的數",null,null,null,5,{"$f":"INDEX(輸入表單!$B:$B,SMALL(IF(輸入表單!$A$7:$A$648=I$2,ROW($A$7:$A$648),65536),ROW(5:5)))&\"\"","v":""},{"$f":"INDEX(輸入表單!$B:$B,SMALL(IF(輸入表單!$A$7:$A$648=J$2,ROW($A$7:$A$648),65536),ROW(5:5)))&\"\"","v":""},{"$f":"INDEX(輸入表單!$B:$B,SMALL(IF(輸入表單!$A$7:$A$648=K$2,ROW($A$7:$A$648),65536),ROW(5:5)))&\"\"","v":""},{"$f":"INDEX(輸入表單!$B:$B,SMALL(IF(輸入表單!$A$7:$A$648=L$2,ROW($A$7:$A$648),65536),ROW(5:5)))&\"\"","v":""},{"$f":"INDEX(輸入表單!$B:$B,SMALL(IF(輸入表單!$A$7:$A$648=M$2,ROW($A$7:$A$648),65536),ROW(5:5)))&\"\"","v":""},{"$f":"INDEX(輸入表單!$B:$B,SMALL(IF(輸入表單!$A$7:$A$648=N$2,ROW($A$7:$A$648),65536),ROW(5:5)))&\"\"","v":""},{"$f":"INDEX(輸入表單!$B:$B,SMALL(IF(輸入表單!$A$7:$A$648=O$2,ROW($A$7:$A$648),65536),ROW(5:5)))&\"\"","v":""},{"$f":"INDEX(輸入表單!$B:$B,SMALL(IF(輸入表單!$A$7:$A$648=P$2,ROW($A$7:$A$648),65536),ROW(5:5)))&\"\"","v":""},{"$f":"INDEX(輸入表單!$B:$B,SMALL(IF(輸入表單!$A$7:$A$648=Q$2,ROW($A$7:$A$648),65536),ROW(5:5)))&\"\"","v":""},{"$f":"INDEX(輸入表單!$B:$B,SMALL(IF(輸入表單!$A$7:$A$648=R$2,ROW($A$7:$A$648),65536),ROW(5:5)))&\"\"","v":""},{"$f":"INDEX(輸入表單!$B:$B,SMALL(IF(輸入表單!$A$7:$A$648=S$2,ROW($A$7:$A$648),65536),ROW(5:5)))&\"\"","v":""},{"$f":"INDEX(輸入表單!$B:$B,SMALL(IF(輸入表單!$A$7:$A$648=T$2,ROW($A$7:$A$648),65536),ROW(5:5)))&\"\"","v":""},{"$f":"INDEX(輸入表單!$B:$B,SMALL(IF(輸入表單!$A$7:$A$648=U$2,ROW($A$7:$A$648),65536),ROW(5:5)))&\"\"","v":""},{"$f":"INDEX(輸入表單!$B:$B,SMALL(IF(輸入表單!$A$7:$A$648=V$2,ROW($A$7:$A$648),65536),ROW(5:5)))&\"\"","v":""},{"$f":"INDEX(輸入表單!$B:$B,SMALL(IF(輸入表單!$A$7:$A$648=W$2,ROW($A$7:$A$648),65536),ROW(5:5)))&\"\"","v":""},{"$f":"INDEX(輸入表單!$B:$B,SMALL(IF(輸入表單!$A$7:$A$648=X$2,ROW($A$7:$A$648),65536),ROW(5:5)))&\"\"","v":""},{"$f":"INDEX(輸入表單!$B:$B,SMALL(IF(輸入表單!$A$7:$A$648=Y$2,ROW($A$7:$A$648),65536),ROW(5:5)))&\"\"","v":""},{"$f":"INDEX(輸入表單!$B:$B,SMALL(IF(輸入表單!$A$7:$A$648=Z$2,ROW($A$7:$A$648),65536),ROW(5:5)))&\"\"","v":""},{"$f":"INDEX(輸入表單!$B:$B,SMALL(IF(輸入表單!$A$7:$A$648=AA$2,ROW($A$7:$A$648),65536),ROW(5:5)))&\"\"","v":""},{"$f":"INDEX(輸入表單!$B:$B,SMALL(IF(輸入表單!$A$7:$A$648=AB$2,ROW($A$7:$A$648),65536),ROW(5:5)))&\"\"","v":""},{"$f":"INDEX(輸入表單!$B:$B,SMALL(IF(輸入表單!$A$7:$A$648=AC$2,ROW($A$7:$A$648),65536),ROW(5:5)))&\"\"","v":""},{"$f":"INDEX(輸入表單!$B:$B,SMALL(IF(輸入表單!$A$7:$A$648=AD$2,ROW($A$7:$A$648),65536),ROW(5:5)))&\"\"","v":""},{"$f":"INDEX(輸入表單!$B:$B,SMALL(IF(輸入表單!$A$7:$A$648=AE$2,ROW($A$7:$A$648),65536),ROW(5:5)))&\"\"","v":""},{"$f":"INDEX(輸入表單!$B:$B,SMALL(IF(輸入表單!$A$7:$A$648=AF$2,ROW($A$7:$A$648),65536),ROW(5:5)))&\"\"","v":""},{"$f":"INDEX(輸入表單!$B:$B,SMALL(IF(輸入表單!$A$7:$A$648=AG$2,ROW($A$7:$A$648),65536),ROW(5:5)))&\"\"","v":""},{"$f":"INDEX(輸入表單!$B:$B,SMALL(IF(輸入表單!$A$7:$A$648=AH$2,ROW($A$7:$A$648),65536),ROW(5:5)))&\"\"","v":""},{"$f":"INDEX(輸入表單!$B:$B,SMALL(IF(輸入表單!$A$7:$A$648=AI$2,ROW($A$7:$A$648),65536),ROW(5:5)))&\"\"","v":""},{"$f":"INDEX(輸入表單!$B:$B,SMALL(IF(輸入表單!$A$7:$A$648=AJ$2,ROW($A$7:$A$648),65536),ROW(5:5)))&\"\"","v":""},{"$f":"INDEX(輸入表單!$B:$B,SMALL(IF(輸入表單!$A$7:$A$648=AK$2,ROW($A$7:$A$648),65536),ROW(5:5)))&\"\"","v":""},{"$f":"INDEX(輸入表單!$B:$B,SMALL(IF(輸入表單!$A$7:$A$648=AL$2,ROW($A$7:$A$648),65536),ROW(5:5)))&\"\"","v":""},{"$f":"INDEX(輸入表單!$B:$B,SMALL(IF(輸入表單!$A$7:$A$648=AM$2,ROW($A$7:$A$648),65536),ROW(5:5)))&\"\"","v":""},{"$f":"INDEX(輸入表單!$B:$B,SMALL(IF(輸入表單!$A$7:$A$648=AN$2,ROW($A$7:$A$648),65536),ROW(5:5)))&\"\"","v":""},{"$f":"INDEX(輸入表單!$B:$B,SMALL(IF(輸入表單!$A$7:$A$648=AO$2,ROW($A$7:$A$648),65536),ROW(5:5)))&\"\"","v":""},{"$f":"INDEX(輸入表單!$B:$B,SMALL(IF(輸入表單!$A$7:$A$648=AP$2,ROW($A$7:$A$648),65536),ROW(5:5)))&\"\"","v":""},{"$f":"INDEX(輸入表單!$B:$B,SMALL(IF(輸入表單!$A$7:$A$648=AQ$2,ROW($A$7:$A$648),65536),ROW(5:5)))&\"\"","v":""},{"$f":"INDEX(輸入表單!$B:$B,SMALL(IF(輸入表單!$A$7:$A$648=AR$2,ROW($A$7:$A$648),65536),ROW(5:5)))&\"\"","v":""},{"$f":"INDEX(輸入表單!$B:$B,SMALL(IF(輸入表單!$A$7:$A$648=AS$2,ROW($A$7:$A$648),65536),ROW(5:5)))&\"\"","v":""},{"$f":"INDEX(輸入表單!$B:$B,SMALL(IF(輸入表單!$A$7:$A$648=AT$2,ROW($A$7:$A$648),65536),ROW(5:5)))&\"\"","v":""},{"$f":"INDEX(輸入表單!$B:$B,SMALL(IF(輸入表單!$A$7:$A$648=AU$2,ROW($A$7:$A$648),65536),ROW(5:5)))&\"\"","v":""},{"$f":"INDEX(輸入表單!$B:$B,SMALL(IF(輸入表單!$A$7:$A$648=AV$2,ROW($A$7:$A$648),65536),ROW(5:5)))&\"\"","v":""},{"$f":"INDEX(輸入表單!$B:$B,SMALL(IF(輸入表單!$A$7:$A$648=AW$2,ROW($A$7:$A$648),65536),ROW(5:5)))&\"\"","v":""},{"$f":"INDEX(輸入表單!$B:$B,SMALL(IF(輸入表單!$A$7:$A$648=AX$2,ROW($A$7:$A$648),65536),ROW(5:5)))&\"\"","v":""},{"$f":"INDEX(輸入表單!$B:$B,SMALL(IF(輸入表單!$A$7:$A$648=AY$2,ROW($A$7:$A$648),65536),ROW(5:5)))&\"\"","v":""},{"$f":"INDEX(輸入表單!$B:$B,SMALL(IF(輸入表單!$A$7:$A$648=AZ$2,ROW($A$7:$A$648),65536),ROW(5:5)))&\"\"","v":""},{"$f":"INDEX(輸入表單!$B:$B,SMALL(IF(輸入表單!$A$7:$A$648=BA$2,ROW($A$7:$A$648),65536),ROW(5:5)))&\"\"","v":""},{"$f":"INDEX(輸入表單!$B:$B,SMALL(IF(輸入表單!$A$7:$A$648=BB$2,ROW($A$7:$A$648),65536),ROW(5:5)))&\"\"","v":""},{"$f":"INDEX(輸入表單!$B:$B,SMALL(IF(輸入表單!$A$7:$A$648=BC$2,ROW($A$7:$A$648),65536),ROW(5:5)))&\"\"","v":""},{"$f":"INDEX(輸入表單!$B:$B,SMALL(IF(輸入表單!$A$7:$A$648=BD$2,ROW($A$7:$A$648),65536),ROW(5:5)))&\"\"","v":""},{"$f":"INDEX(輸入表單!$B:$B,SMALL(IF(輸入表單!$A$7:$A$648=BE$2,ROW($A$7:$A$648),65536),ROW(5:5)))&\"\"","v":""},{"$f":"INDEX(輸入表單!$B:$B,SMALL(IF(輸入表單!$A$7:$A$648=BF$2,ROW($A$7:$A$648),65536),ROW(5:5)))&\"\"","v":""},{"$f":"INDEX(輸入表單!$B:$B,SMALL(IF(輸入表單!$A$7:$A$648=BG$2,ROW($A$7:$A$648),65536),ROW(5:5)))&\"\"","v":""},{"$f":"INDEX(輸入表單!$B:$B,SMALL(IF(輸入表單!$A$7:$A$648=BH$2,ROW($A$7:$A$648),65536),ROW(5:5)))&\"\"","v":""},{"$f":"INDEX(輸入表單!$B:$B,SMALL(IF(輸入表單!$A$7:$A$648=BI$2,ROW($A$7:$A$648),65536),ROW(5:5)))&\"\"","v":""},{"$f":"INDEX(輸入表單!$B:$B,SMALL(IF(輸入表單!$A$7:$A$648=BJ$2,ROW($A$7:$A$648),65536),ROW(5:5)))&\"\"","v":""},{"$f":"INDEX(輸入表單!$B:$B,SMALL(IF(輸入表單!$A$7:$A$648=BK$2,ROW($A$7:$A$648),65536),ROW(5:5)))&\"\"","v":""},{"$f":"INDEX(輸入表單!$B:$B,SMALL(IF(輸入表單!$A$7:$A$648=BL$2,ROW($A$7:$A$648),65536),ROW(5:5)))&\"\"","v":""},{"$f":"INDEX(輸入表單!$B:$B,SMALL(IF(輸入表單!$A$7:$A$648=BM$2,ROW($A$7:$A$648),65536),ROW(5:5)))&\"\"","v":""},{"$f":"INDEX(輸入表單!$B:$B,SMALL(IF(輸入表單!$A$7:$A$648=BN$2,ROW($A$7:$A$648),65536),ROW(5:5)))&\"\"","v":""},{"$f":"INDEX(輸入表單!$B:$B,SMALL(IF(輸入表單!$A$7:$A$648=BO$2,ROW($A$7:$A$648),65536),ROW(5:5)))&\"\"","v":""},{"$f":"INDEX(輸入表單!$B:$B,SMALL(IF(輸入表單!$A$7:$A$648=BP$2,ROW($A$7:$A$648),65536),ROW(5:5)))&\"\"","v":""}]
[null,null,"1數學7","7.認識錢幣",null,null,null,6,{"$f":"INDEX(輸入表單!$B:$B,SMALL(IF(輸入表單!$A$7:$A$648=I$2,ROW($A$7:$A$648),65536),ROW(6:6)))&\"\"","v":""},{"$f":"INDEX(輸入表單!$B:$B,SMALL(IF(輸入表單!$A$7:$A$648=J$2,ROW($A$7:$A$648),65536),ROW(6:6)))&\"\"","v":""},{"$f":"INDEX(輸入表單!$B:$B,SMALL(IF(輸入表單!$A$7:$A$648=K$2,ROW($A$7:$A$648),65536),ROW(6:6)))&\"\"","v":""},{"$f":"INDEX(輸入表單!$B:$B,SMALL(IF(輸入表單!$A$7:$A$648=L$2,ROW($A$7:$A$648),65536),ROW(6:6)))&\"\"","v":""},{"$f":"INDEX(輸入表單!$B:$B,SMALL(IF(輸入表單!$A$7:$A$648=M$2,ROW($A$7:$A$648),65536),ROW(6:6)))&\"\"","v":""},{"$f":"INDEX(輸入表單!$B:$B,SMALL(IF(輸入表單!$A$7:$A$648=N$2,ROW($A$7:$A$648),65536),ROW(6:6)))&\"\"","v":""},{"$f":"INDEX(輸入表單!$B:$B,SMALL(IF(輸入表單!$A$7:$A$648=O$2,ROW($A$7:$A$648),65536),ROW(6:6)))&\"\"","v":""},{"$f":"INDEX(輸入表單!$B:$B,SMALL(IF(輸入表單!$A$7:$A$648=P$2,ROW($A$7:$A$648),65536),ROW(6:6)))&\"\"","v":""},{"$f":"INDEX(輸入表單!$B:$B,SMALL(IF(輸入表單!$A$7:$A$648=Q$2,ROW($A$7:$A$648),65536),ROW(6:6)))&\"\"","v":""},{"$f":"INDEX(輸入表單!$B:$B,SMALL(IF(輸入表單!$A$7:$A$648=R$2,ROW($A$7:$A$648),65536),ROW(6:6)))&\"\"","v":""},{"$f":"INDEX(輸入表單!$B:$B,SMALL(IF(輸入表單!$A$7:$A$648=S$2,ROW($A$7:$A$648),65536),ROW(6:6)))&\"\"","v":""},{"$f":"INDEX(輸入表單!$B:$B,SMALL(IF(輸入表單!$A$7:$A$648=T$2,ROW($A$7:$A$648),65536),ROW(6:6)))&\"\"","v":""},{"$f":"INDEX(輸入表單!$B:$B,SMALL(IF(輸入表單!$A$7:$A$648=U$2,ROW($A$7:$A$648),65536),ROW(6:6)))&\"\"","v":""},{"$f":"INDEX(輸入表單!$B:$B,SMALL(IF(輸入表單!$A$7:$A$648=V$2,ROW($A$7:$A$648),65536),ROW(6:6)))&\"\"","v":""},{"$f":"INDEX(輸入表單!$B:$B,SMALL(IF(輸入表單!$A$7:$A$648=W$2,ROW($A$7:$A$648),65536),ROW(6:6)))&\"\"","v":""},{"$f":"INDEX(輸入表單!$B:$B,SMALL(IF(輸入表單!$A$7:$A$648=X$2,ROW($A$7:$A$648),65536),ROW(6:6)))&\"\"","v":""},{"$f":"INDEX(輸入表單!$B:$B,SMALL(IF(輸入表單!$A$7:$A$648=Y$2,ROW($A$7:$A$648),65536),ROW(6:6)))&\"\"","v":""},{"$f":"INDEX(輸入表單!$B:$B,SMALL(IF(輸入表單!$A$7:$A$648=Z$2,ROW($A$7:$A$648),65536),ROW(6:6)))&\"\"","v":""},{"$f":"INDEX(輸入表單!$B:$B,SMALL(IF(輸入表單!$A$7:$A$648=AA$2,ROW($A$7:$A$648),65536),ROW(6:6)))&\"\"","v":""},{"$f":"INDEX(輸入表單!$B:$B,SMALL(IF(輸入表單!$A$7:$A$648=AB$2,ROW($A$7:$A$648),65536),ROW(6:6)))&\"\"","v":""},{"$f":"INDEX(輸入表單!$B:$B,SMALL(IF(輸入表單!$A$7:$A$648=AC$2,ROW($A$7:$A$648),65536),ROW(6:6)))&\"\"","v":""},{"$f":"INDEX(輸入表單!$B:$B,SMALL(IF(輸入表單!$A$7:$A$648=AD$2,ROW($A$7:$A$648),65536),ROW(6:6)))&\"\"","v":""},{"$f":"INDEX(輸入表單!$B:$B,SMALL(IF(輸入表單!$A$7:$A$648=AE$2,ROW($A$7:$A$648),65536),ROW(6:6)))&\"\"","v":""},{"$f":"INDEX(輸入表單!$B:$B,SMALL(IF(輸入表單!$A$7:$A$648=AF$2,ROW($A$7:$A$648),65536),ROW(6:6)))&\"\"","v":""},{"$f":"INDEX(輸入表單!$B:$B,SMALL(IF(輸入表單!$A$7:$A$648=AG$2,ROW($A$7:$A$648),65536),ROW(6:6)))&\"\"","v":""},{"$f":"INDEX(輸入表單!$B:$B,SMALL(IF(輸入表單!$A$7:$A$648=AH$2,ROW($A$7:$A$648),65536),ROW(6:6)))&\"\"","v":""},{"$f":"INDEX(輸入表單!$B:$B,SMALL(IF(輸入表單!$A$7:$A$648=AI$2,ROW($A$7:$A$648),65536),ROW(6:6)))&\"\"","v":""},{"$f":"INDEX(輸入表單!$B:$B,SMALL(IF(輸入表單!$A$7:$A$648=AJ$2,ROW($A$7:$A$648),65536),ROW(6:6)))&\"\"","v":""},{"$f":"INDEX(輸入表單!$B:$B,SMALL(IF(輸入表單!$A$7:$A$648=AK$2,ROW($A$7:$A$648),65536),ROW(6:6)))&\"\"","v":""},{"$f":"INDEX(輸入表單!$B:$B,SMALL(IF(輸入表單!$A$7:$A$648=AL$2,ROW($A$7:$A$648),65536),ROW(6:6)))&\"\"","v":""},{"$f":"INDEX(輸入表單!$B:$B,SMALL(IF(輸入表單!$A$7:$A$648=AM$2,ROW($A$7:$A$648),65536),ROW(6:6)))&\"\"","v":""},{"$f":"INDEX(輸入表單!$B:$B,SMALL(IF(輸入表單!$A$7:$A$648=AN$2,ROW($A$7:$A$648),65536),ROW(6:6)))&\"\"","v":""},{"$f":"INDEX(輸入表單!$B:$B,SMALL(IF(輸入表單!$A$7:$A$648=AO$2,ROW($A$7:$A$648),65536),ROW(6:6)))&\"\"","v":""},{"$f":"INDEX(輸入表單!$B:$B,SMALL(IF(輸入表單!$A$7:$A$648=AP$2,ROW($A$7:$A$648),65536),ROW(6:6)))&\"\"","v":""},{"$f":"INDEX(輸入表單!$B:$B,SMALL(IF(輸入表單!$A$7:$A$648=AQ$2,ROW($A$7:$A$648),65536),ROW(6:6)))&\"\"","v":""},{"$f":"INDEX(輸入表單!$B:$B,SMALL(IF(輸入表單!$A$7:$A$648=AR$2,ROW($A$7:$A$648),65536),ROW(6:6)))&\"\"","v":""},{"$f":"INDEX(輸入表單!$B:$B,SMALL(IF(輸入表單!$A$7:$A$648=AS$2,ROW($A$7:$A$648),65536),ROW(6:6)))&\"\"","v":""},{"$f":"INDEX(輸入表單!$B:$B,SMALL(IF(輸入表單!$A$7:$A$648=AT$2,ROW($A$7:$A$648),65536),ROW(6:6)))&\"\"","v":""},{"$f":"INDEX(輸入表單!$B:$B,SMALL(IF(輸入表單!$A$7:$A$648=AU$2,ROW($A$7:$A$648),65536),ROW(6:6)))&\"\"","v":""},{"$f":"INDEX(輸入表單!$B:$B,SMALL(IF(輸入表單!$A$7:$A$648=AV$2,ROW($A$7:$A$648),65536),ROW(6:6)))&\"\"","v":""},{"$f":"INDEX(輸入表單!$B:$B,SMALL(IF(輸入表單!$A$7:$A$648=AW$2,ROW($A$7:$A$648),65536),ROW(6:6)))&\"\"","v":""},{"$f":"INDEX(輸入表單!$B:$B,SMALL(IF(輸入表單!$A$7:$A$648=AX$2,ROW($A$7:$A$648),65536),ROW(6:6)))&\"\"","v":""},{"$f":"INDEX(輸入表單!$B:$B,SMALL(IF(輸入表單!$A$7:$A$648=AY$2,ROW($A$7:$A$648),65536),ROW(6:6)))&\"\"","v":""},{"$f":"INDEX(輸入表單!$B:$B,SMALL(IF(輸入表單!$A$7:$A$648=AZ$2,ROW($A$7:$A$648),65536),ROW(6:6)))&\"\"","v":""},{"$f":"INDEX(輸入表單!$B:$B,SMALL(IF(輸入表單!$A$7:$A$648=BA$2,ROW($A$7:$A$648),65536),ROW(6:6)))&\"\"","v":""},{"$f":"INDEX(輸入表單!$B:$B,SMALL(IF(輸入表單!$A$7:$A$648=BB$2,ROW($A$7:$A$648),65536),ROW(6:6)))&\"\"","v":""},{"$f":"INDEX(輸入表單!$B:$B,SMALL(IF(輸入表單!$A$7:$A$648=BC$2,ROW($A$7:$A$648),65536),ROW(6:6)))&\"\"","v":""},{"$f":"INDEX(輸入表單!$B:$B,SMALL(IF(輸入表單!$A$7:$A$648=BD$2,ROW($A$7:$A$648),65536),ROW(6:6)))&\"\"","v":""},{"$f":"INDEX(輸入表單!$B:$B,SMALL(IF(輸入表單!$A$7:$A$648=BE$2,ROW($A$7:$A$648),65536),ROW(6:6)))&\"\"","v":""},{"$f":"INDEX(輸入表單!$B:$B,SMALL(IF(輸入表單!$A$7:$A$648=BF$2,ROW($A$7:$A$648),65536),ROW(6:6)))&\"\"","v":""},{"$f":"INDEX(輸入表單!$B:$B,SMALL(IF(輸入表單!$A$7:$A$648=BG$2,ROW($A$7:$A$648),65536),ROW(6:6)))&\"\"","v":""},{"$f":"INDEX(輸入表單!$B:$B,SMALL(IF(輸入表單!$A$7:$A$648=BH$2,ROW($A$7:$A$648),65536),ROW(6:6)))&\"\"","v":""},{"$f":"INDEX(輸入表單!$B:$B,SMALL(IF(輸入表單!$A$7:$A$648=BI$2,ROW($A$7:$A$648),65536),ROW(6:6)))&\"\"","v":""},{"$f":"INDEX(輸入表單!$B:$B,SMALL(IF(輸入表單!$A$7:$A$648=BJ$2,ROW($A$7:$A$648),65536),ROW(6:6)))&\"\"","v":""},{"$f":"INDEX(輸入表單!$B:$B,SMALL(IF(輸入表單!$A$7:$A$648=BK$2,ROW($A$7:$A$648),65536),ROW(6:6)))&\"\"","v":""},{"$f":"INDEX(輸入表單!$B:$B,SMALL(IF(輸入表單!$A$7:$A$648=BL$2,ROW($A$7:$A$648),65536),ROW(6:6)))&\"\"","v":""},{"$f":"INDEX(輸入表單!$B:$B,SMALL(IF(輸入表單!$A$7:$A$648=BM$2,ROW($A$7:$A$648),65536),ROW(6:6)))&\"\"","v":""},{"$f":"INDEX(輸入表單!$B:$B,SMALL(IF(輸入表單!$A$7:$A$648=BN$2,ROW($A$7:$A$648),65536),ROW(6:6)))&\"\"","v":""},{"$f":"INDEX(輸入表單!$B:$B,SMALL(IF(輸入表單!$A$7:$A$648=BO$2,ROW($A$7:$A$648),65536),ROW(6:6)))&\"\"","v":""},{"$f":"INDEX(輸入表單!$B:$B,SMALL(IF(輸入表單!$A$7:$A$648=BP$2,ROW($A$7:$A$648),65536),ROW(6:6)))&\"\"","v":""}]
[null,null,"1數學8","8.二位數的加減",null,null,null,7,{"$f":"INDEX(輸入表單!$B:$B,SMALL(IF(輸入表單!$A$7:$A$648=I$2,ROW($A$7:$A$648),65536),ROW(7:7)))&\"\"","v":""},{"$f":"INDEX(輸入表單!$B:$B,SMALL(IF(輸入表單!$A$7:$A$648=J$2,ROW($A$7:$A$648),65536),ROW(7:7)))&\"\"","v":""},{"$f":"INDEX(輸入表單!$B:$B,SMALL(IF(輸入表單!$A$7:$A$648=K$2,ROW($A$7:$A$648),65536),ROW(7:7)))&\"\"","v":""},{"$f":"INDEX(輸入表單!$B:$B,SMALL(IF(輸入表單!$A$7:$A$648=L$2,ROW($A$7:$A$648),65536),ROW(7:7)))&\"\"","v":""},{"$f":"INDEX(輸入表單!$B:$B,SMALL(IF(輸入表單!$A$7:$A$648=M$2,ROW($A$7:$A$648),65536),ROW(7:7)))&\"\"","v":""},{"$f":"INDEX(輸入表單!$B:$B,SMALL(IF(輸入表單!$A$7:$A$648=N$2,ROW($A$7:$A$648),65536),ROW(7:7)))&\"\"","v":""},{"$f":"INDEX(輸入表單!$B:$B,SMALL(IF(輸入表單!$A$7:$A$648=O$2,ROW($A$7:$A$648),65536),ROW(7:7)))&\"\"","v":""},{"$f":"INDEX(輸入表單!$B:$B,SMALL(IF(輸入表單!$A$7:$A$648=P$2,ROW($A$7:$A$648),65536),ROW(7:7)))&\"\"","v":""},{"$f":"INDEX(輸入表單!$B:$B,SMALL(IF(輸入表單!$A$7:$A$648=Q$2,ROW($A$7:$A$648),65536),ROW(7:7)))&\"\"","v":""},{"$f":"INDEX(輸入表單!$B:$B,SMALL(IF(輸入表單!$A$7:$A$648=R$2,ROW($A$7:$A$648),65536),ROW(7:7)))&\"\"","v":""},{"$f":"INDEX(輸入表單!$B:$B,SMALL(IF(輸入表單!$A$7:$A$648=S$2,ROW($A$7:$A$648),65536),ROW(7:7)))&\"\"","v":""},{"$f":"INDEX(輸入表單!$B:$B,SMALL(IF(輸入表單!$A$7:$A$648=T$2,ROW($A$7:$A$648),65536),ROW(7:7)))&\"\"","v":""},{"$f":"INDEX(輸入表單!$B:$B,SMALL(IF(輸入表單!$A$7:$A$648=U$2,ROW($A$7:$A$648),65536),ROW(7:7)))&\"\"","v":""},{"$f":"INDEX(輸入表單!$B:$B,SMALL(IF(輸入表單!$A$7:$A$648=V$2,ROW($A$7:$A$648),65536),ROW(7:7)))&\"\"","v":""},{"$f":"INDEX(輸入表單!$B:$B,SMALL(IF(輸入表單!$A$7:$A$648=W$2,ROW($A$7:$A$648),65536),ROW(7:7)))&\"\"","v":""},{"$f":"INDEX(輸入表單!$B:$B,SMALL(IF(輸入表單!$A$7:$A$648=X$2,ROW($A$7:$A$648),65536),ROW(7:7)))&\"\"","v":""},{"$f":"INDEX(輸入表單!$B:$B,SMALL(IF(輸入表單!$A$7:$A$648=Y$2,ROW($A$7:$A$648),65536),ROW(7:7)))&\"\"","v":""},{"$f":"INDEX(輸入表單!$B:$B,SMALL(IF(輸入表單!$A$7:$A$648=Z$2,ROW($A$7:$A$648),65536),ROW(7:7)))&\"\"","v":""},{"$f":"INDEX(輸入表單!$B:$B,SMALL(IF(輸入表單!$A$7:$A$648=AA$2,ROW($A$7:$A$648),65536),ROW(7:7)))&\"\"","v":""},{"$f":"INDEX(輸入表單!$B:$B,SMALL(IF(輸入表單!$A$7:$A$648=AB$2,ROW($A$7:$A$648),65536),ROW(7:7)))&\"\"","v":""},{"$f":"INDEX(輸入表單!$B:$B,SMALL(IF(輸入表單!$A$7:$A$648=AC$2,ROW($A$7:$A$648),65536),ROW(7:7)))&\"\"","v":""},{"$f":"INDEX(輸入表單!$B:$B,SMALL(IF(輸入表單!$A$7:$A$648=AD$2,ROW($A$7:$A$648),65536),ROW(7:7)))&\"\"","v":""},{"$f":"INDEX(輸入表單!$B:$B,SMALL(IF(輸入表單!$A$7:$A$648=AE$2,ROW($A$7:$A$648),65536),ROW(7:7)))&\"\"","v":""},{"$f":"INDEX(輸入表單!$B:$B,SMALL(IF(輸入表單!$A$7:$A$648=AF$2,ROW($A$7:$A$648),65536),ROW(7:7)))&\"\"","v":""},{"$f":"INDEX(輸入表單!$B:$B,SMALL(IF(輸入表單!$A$7:$A$648=AG$2,ROW($A$7:$A$648),65536),ROW(7:7)))&\"\"","v":""},{"$f":"INDEX(輸入表單!$B:$B,SMALL(IF(輸入表單!$A$7:$A$648=AH$2,ROW($A$7:$A$648),65536),ROW(7:7)))&\"\"","v":""},{"$f":"INDEX(輸入表單!$B:$B,SMALL(IF(輸入表單!$A$7:$A$648=AI$2,ROW($A$7:$A$648),65536),ROW(7:7)))&\"\"","v":""},{"$f":"INDEX(輸入表單!$B:$B,SMALL(IF(輸入表單!$A$7:$A$648=AJ$2,ROW($A$7:$A$648),65536),ROW(7:7)))&\"\"","v":""},{"$f":"INDEX(輸入表單!$B:$B,SMALL(IF(輸入表單!$A$7:$A$648=AK$2,ROW($A$7:$A$648),65536),ROW(7:7)))&\"\"","v":""},{"$f":"INDEX(輸入表單!$B:$B,SMALL(IF(輸入表單!$A$7:$A$648=AL$2,ROW($A$7:$A$648),65536),ROW(7:7)))&\"\"","v":""},{"$f":"INDEX(輸入表單!$B:$B,SMALL(IF(輸入表單!$A$7:$A$648=AM$2,ROW($A$7:$A$648),65536),ROW(7:7)))&\"\"","v":""},{"$f":"INDEX(輸入表單!$B:$B,SMALL(IF(輸入表單!$A$7:$A$648=AN$2,ROW($A$7:$A$648),65536),ROW(7:7)))&\"\"","v":""},{"$f":"INDEX(輸入表單!$B:$B,SMALL(IF(輸入表單!$A$7:$A$648=AO$2,ROW($A$7:$A$648),65536),ROW(7:7)))&\"\"","v":""},{"$f":"INDEX(輸入表單!$B:$B,SMALL(IF(輸入表單!$A$7:$A$648=AP$2,ROW($A$7:$A$648),65536),ROW(7:7)))&\"\"","v":""},{"$f":"INDEX(輸入表單!$B:$B,SMALL(IF(輸入表單!$A$7:$A$648=AQ$2,ROW($A$7:$A$648),65536),ROW(7:7)))&\"\"","v":""},{"$f":"INDEX(輸入表單!$B:$B,SMALL(IF(輸入表單!$A$7:$A$648=AR$2,ROW($A$7:$A$648),65536),ROW(7:7)))&\"\"","v":""},{"$f":"INDEX(輸入表單!$B:$B,SMALL(IF(輸入表單!$A$7:$A$648=AS$2,ROW($A$7:$A$648),65536),ROW(7:7)))&\"\"","v":""},{"$f":"INDEX(輸入表單!$B:$B,SMALL(IF(輸入表單!$A$7:$A$648=AT$2,ROW($A$7:$A$648),65536),ROW(7:7)))&\"\"","v":""},{"$f":"INDEX(輸入表單!$B:$B,SMALL(IF(輸入表單!$A$7:$A$648=AU$2,ROW($A$7:$A$648),65536),ROW(7:7)))&\"\"","v":""},{"$f":"INDEX(輸入表單!$B:$B,SMALL(IF(輸入表單!$A$7:$A$648=AV$2,ROW($A$7:$A$648),65536),ROW(7:7)))&\"\"","v":""},{"$f":"INDEX(輸入表單!$B:$B,SMALL(IF(輸入表單!$A$7:$A$648=AW$2,ROW($A$7:$A$648),65536),ROW(7:7)))&\"\"","v":""},{"$f":"INDEX(輸入表單!$B:$B,SMALL(IF(輸入表單!$A$7:$A$648=AX$2,ROW($A$7:$A$648),65536),ROW(7:7)))&\"\"","v":""},{"$f":"INDEX(輸入表單!$B:$B,SMALL(IF(輸入表單!$A$7:$A$648=AY$2,ROW($A$7:$A$648),65536),ROW(7:7)))&\"\"","v":""},{"$f":"INDEX(輸入表單!$B:$B,SMALL(IF(輸入表單!$A$7:$A$648=AZ$2,ROW($A$7:$A$648),65536),ROW(7:7)))&\"\"","v":""},{"$f":"INDEX(輸入表單!$B:$B,SMALL(IF(輸入表單!$A$7:$A$648=BA$2,ROW($A$7:$A$648),65536),ROW(7:7)))&\"\"","v":""},{"$f":"INDEX(輸入表單!$B:$B,SMALL(IF(輸入表單!$A$7:$A$648=BB$2,ROW($A$7:$A$648),65536),ROW(7:7)))&\"\"","v":""},{"$f":"INDEX(輸入表單!$B:$B,SMALL(IF(輸入表單!$A$7:$A$648=BC$2,ROW($A$7:$A$648),65536),ROW(7:7)))&\"\"","v":""},{"$f":"INDEX(輸入表單!$B:$B,SMALL(IF(輸入表單!$A$7:$A$648=BD$2,ROW($A$7:$A$648),65536),ROW(7:7)))&\"\"","v":""},{"$f":"INDEX(輸入表單!$B:$B,SMALL(IF(輸入表單!$A$7:$A$648=BE$2,ROW($A$7:$A$648),65536),ROW(7:7)))&\"\"","v":""},{"$f":"INDEX(輸入表單!$B:$B,SMALL(IF(輸入表單!$A$7:$A$648=BF$2,ROW($A$7:$A$648),65536),ROW(7:7)))&\"\"","v":""},{"$f":"INDEX(輸入表單!$B:$B,SMALL(IF(輸入表單!$A$7:$A$648=BG$2,ROW($A$7:$A$648),65536),ROW(7:7)))&\"\"","v":""},{"$f":"INDEX(輸入表單!$B:$B,SMALL(IF(輸入表單!$A$7:$A$648=BH$2,ROW($A$7:$A$648),65536),ROW(7:7)))&\"\"","v":""},{"$f":"INDEX(輸入表單!$B:$B,SMALL(IF(輸入表單!$A$7:$A$648=BI$2,ROW($A$7:$A$648),65536),ROW(7:7)))&\"\"","v":""},{"$f":"INDEX(輸入表單!$B:$B,SMALL(IF(輸入表單!$A$7:$A$648=BJ$2,ROW($A$7:$A$648),65536),ROW(7:7)))&\"\"","v":""},{"$f":"INDEX(輸入表單!$B:$B,SMALL(IF(輸入表單!$A$7:$A$648=BK$2,ROW($A$7:$A$648),65536),ROW(7:7)))&\"\"","v":""},{"$f":"INDEX(輸入表單!$B:$B,SMALL(IF(輸入表單!$A$7:$A$648=BL$2,ROW($A$7:$A$648),65536),ROW(7:7)))&\"\"","v":""},{"$f":"INDEX(輸入表單!$B:$B,SMALL(IF(輸入表單!$A$7:$A$648=BM$2,ROW($A$7:$A$648),65536),ROW(7:7)))&\"\"","v":""},{"$f":"INDEX(輸入表單!$B:$B,SMALL(IF(輸入表單!$A$7:$A$648=BN$2,ROW($A$7:$A$648),65536),ROW(7:7)))&\"\"","v":""},{"$f":"INDEX(輸入表單!$B:$B,SMALL(IF(輸入表單!$A$7:$A$648=BO$2,ROW($A$7:$A$648),65536),ROW(7:7)))&\"\"","v":""},{"$f":"INDEX(輸入表單!$B:$B,SMALL(IF(輸入表單!$A$7:$A$648=BP$2,ROW($A$7:$A$648),65536),ROW(7:7)))&\"\"","v":""}]
[null,null,"1數學9","9.幾月幾日星期幾",null,null,null,8,{"$f":"INDEX(輸入表單!$B:$B,SMALL(IF(輸入表單!$A$7:$A$648=I$2,ROW($A$7:$A$648),65536),ROW(8:8)))&\"\"","v":""},{"$f":"INDEX(輸入表單!$B:$B,SMALL(IF(輸入表單!$A$7:$A$648=J$2,ROW($A$7:$A$648),65536),ROW(8:8)))&\"\"","v":""},{"$f":"INDEX(輸入表單!$B:$B,SMALL(IF(輸入表單!$A$7:$A$648=K$2,ROW($A$7:$A$648),65536),ROW(8:8)))&\"\"","v":""},{"$f":"INDEX(輸入表單!$B:$B,SMALL(IF(輸入表單!$A$7:$A$648=L$2,ROW($A$7:$A$648),65536),ROW(8:8)))&\"\"","v":""},{"$f":"INDEX(輸入表單!$B:$B,SMALL(IF(輸入表單!$A$7:$A$648=M$2,ROW($A$7:$A$648),65536),ROW(8:8)))&\"\"","v":""},{"$f":"INDEX(輸入表單!$B:$B,SMALL(IF(輸入表單!$A$7:$A$648=N$2,ROW($A$7:$A$648),65536),ROW(8:8)))&\"\"","v":""},{"$f":"INDEX(輸入表單!$B:$B,SMALL(IF(輸入表單!$A$7:$A$648=O$2,ROW($A$7:$A$648),65536),ROW(8:8)))&\"\"","v":""},{"$f":"INDEX(輸入表單!$B:$B,SMALL(IF(輸入表單!$A$7:$A$648=P$2,ROW($A$7:$A$648),65536),ROW(8:8)))&\"\"","v":""},{"$f":"INDEX(輸入表單!$B:$B,SMALL(IF(輸入表單!$A$7:$A$648=Q$2,ROW($A$7:$A$648),65536),ROW(8:8)))&\"\"","v":""},{"$f":"INDEX(輸入表單!$B:$B,SMALL(IF(輸入表單!$A$7:$A$648=R$2,ROW($A$7:$A$648),65536),ROW(8:8)))&\"\"","v":""},{"$f":"INDEX(輸入表單!$B:$B,SMALL(IF(輸入表單!$A$7:$A$648=S$2,ROW($A$7:$A$648),65536),ROW(8:8)))&\"\"","v":""},{"$f":"INDEX(輸入表單!$B:$B,SMALL(IF(輸入表單!$A$7:$A$648=T$2,ROW($A$7:$A$648),65536),ROW(8:8)))&\"\"","v":""},{"$f":"INDEX(輸入表單!$B:$B,SMALL(IF(輸入表單!$A$7:$A$648=U$2,ROW($A$7:$A$648),65536),ROW(8:8)))&\"\"","v":""},{"$f":"INDEX(輸入表單!$B:$B,SMALL(IF(輸入表單!$A$7:$A$648=V$2,ROW($A$7:$A$648),65536),ROW(8:8)))&\"\"","v":""},{"$f":"INDEX(輸入表單!$B:$B,SMALL(IF(輸入表單!$A$7:$A$648=W$2,ROW($A$7:$A$648),65536),ROW(8:8)))&\"\"","v":""},{"$f":"INDEX(輸入表單!$B:$B,SMALL(IF(輸入表單!$A$7:$A$648=X$2,ROW($A$7:$A$648),65536),ROW(8:8)))&\"\"","v":""},{"$f":"INDEX(輸入表單!$B:$B,SMALL(IF(輸入表單!$A$7:$A$648=Y$2,ROW($A$7:$A$648),65536),ROW(8:8)))&\"\"","v":""},{"$f":"INDEX(輸入表單!$B:$B,SMALL(IF(輸入表單!$A$7:$A$648=Z$2,ROW($A$7:$A$648),65536),ROW(8:8)))&\"\"","v":""},{"$f":"INDEX(輸入表單!$B:$B,SMALL(IF(輸入表單!$A$7:$A$648=AA$2,ROW($A$7:$A$648),65536),ROW(8:8)))&\"\"","v":""},{"$f":"INDEX(輸入表單!$B:$B,SMALL(IF(輸入表單!$A$7:$A$648=AB$2,ROW($A$7:$A$648),65536),ROW(8:8)))&\"\"","v":""},{"$f":"INDEX(輸入表單!$B:$B,SMALL(IF(輸入表單!$A$7:$A$648=AC$2,ROW($A$7:$A$648),65536),ROW(8:8)))&\"\"","v":""},{"$f":"INDEX(輸入表單!$B:$B,SMALL(IF(輸入表單!$A$7:$A$648=AD$2,ROW($A$7:$A$648),65536),ROW(8:8)))&\"\"","v":""},{"$f":"INDEX(輸入表單!$B:$B,SMALL(IF(輸入表單!$A$7:$A$648=AE$2,ROW($A$7:$A$648),65536),ROW(8:8)))&\"\"","v":""},{"$f":"INDEX(輸入表單!$B:$B,SMALL(IF(輸入表單!$A$7:$A$648=AF$2,ROW($A$7:$A$648),65536),ROW(8:8)))&\"\"","v":""},{"$f":"INDEX(輸入表單!$B:$B,SMALL(IF(輸入表單!$A$7:$A$648=AG$2,ROW($A$7:$A$648),65536),ROW(8:8)))&\"\"","v":""},{"$f":"INDEX(輸入表單!$B:$B,SMALL(IF(輸入表單!$A$7:$A$648=AH$2,ROW($A$7:$A$648),65536),ROW(8:8)))&\"\"","v":""},{"$f":"INDEX(輸入表單!$B:$B,SMALL(IF(輸入表單!$A$7:$A$648=AI$2,ROW($A$7:$A$648),65536),ROW(8:8)))&\"\"","v":""},{"$f":"INDEX(輸入表單!$B:$B,SMALL(IF(輸入表單!$A$7:$A$648=AJ$2,ROW($A$7:$A$648),65536),ROW(8:8)))&\"\"","v":""},{"$f":"INDEX(輸入表單!$B:$B,SMALL(IF(輸入表單!$A$7:$A$648=AK$2,ROW($A$7:$A$648),65536),ROW(8:8)))&\"\"","v":""},{"$f":"INDEX(輸入表單!$B:$B,SMALL(IF(輸入表單!$A$7:$A$648=AL$2,ROW($A$7:$A$648),65536),ROW(8:8)))&\"\"","v":""},{"$f":"INDEX(輸入表單!$B:$B,SMALL(IF(輸入表單!$A$7:$A$648=AM$2,ROW($A$7:$A$648),65536),ROW(8:8)))&\"\"","v":""},{"$f":"INDEX(輸入表單!$B:$B,SMALL(IF(輸入表單!$A$7:$A$648=AN$2,ROW($A$7:$A$648),65536),ROW(8:8)))&\"\"","v":""},{"$f":"INDEX(輸入表單!$B:$B,SMALL(IF(輸入表單!$A$7:$A$648=AO$2,ROW($A$7:$A$648),65536),ROW(8:8)))&\"\"","v":""},{"$f":"INDEX(輸入表單!$B:$B,SMALL(IF(輸入表單!$A$7:$A$648=AP$2,ROW($A$7:$A$648),65536),ROW(8:8)))&\"\"","v":""},{"$f":"INDEX(輸入表單!$B:$B,SMALL(IF(輸入表單!$A$7:$A$648=AQ$2,ROW($A$7:$A$648),65536),ROW(8:8)))&\"\"","v":""},{"$f":"INDEX(輸入表單!$B:$B,SMALL(IF(輸入表單!$A$7:$A$648=AR$2,ROW($A$7:$A$648),65536),ROW(8:8)))&\"\"","v":""},{"$f":"INDEX(輸入表單!$B:$B,SMALL(IF(輸入表單!$A$7:$A$648=AS$2,ROW($A$7:$A$648),65536),ROW(8:8)))&\"\"","v":""},{"$f":"INDEX(輸入表單!$B:$B,SMALL(IF(輸入表單!$A$7:$A$648=AT$2,ROW($A$7:$A$648),65536),ROW(8:8)))&\"\"","v":""},{"$f":"INDEX(輸入表單!$B:$B,SMALL(IF(輸入表單!$A$7:$A$648=AU$2,ROW($A$7:$A$648),65536),ROW(8:8)))&\"\"","v":""},{"$f":"INDEX(輸入表單!$B:$B,SMALL(IF(輸入表單!$A$7:$A$648=AV$2,ROW($A$7:$A$648),65536),ROW(8:8)))&\"\"","v":""},{"$f":"INDEX(輸入表單!$B:$B,SMALL(IF(輸入表單!$A$7:$A$648=AW$2,ROW($A$7:$A$648),65536),ROW(8:8)))&\"\"","v":""},{"$f":"INDEX(輸入表單!$B:$B,SMALL(IF(輸入表單!$A$7:$A$648=AX$2,ROW($A$7:$A$648),65536),ROW(8:8)))&\"\"","v":""},{"$f":"INDEX(輸入表單!$B:$B,SMALL(IF(輸入表單!$A$7:$A$648=AY$2,ROW($A$7:$A$648),65536),ROW(8:8)))&\"\"","v":""},{"$f":"INDEX(輸入表單!$B:$B,SMALL(IF(輸入表單!$A$7:$A$648=AZ$2,ROW($A$7:$A$648),65536),ROW(8:8)))&\"\"","v":""},{"$f":"INDEX(輸入表單!$B:$B,SMALL(IF(輸入表單!$A$7:$A$648=BA$2,ROW($A$7:$A$648),65536),ROW(8:8)))&\"\"","v":""},{"$f":"INDEX(輸入表單!$B:$B,SMALL(IF(輸入表單!$A$7:$A$648=BB$2,ROW($A$7:$A$648),65536),ROW(8:8)))&\"\"","v":""},{"$f":"INDEX(輸入表單!$B:$B,SMALL(IF(輸入表單!$A$7:$A$648=BC$2,ROW($A$7:$A$648),65536),ROW(8:8)))&\"\"","v":""},{"$f":"INDEX(輸入表單!$B:$B,SMALL(IF(輸入表單!$A$7:$A$648=BD$2,ROW($A$7:$A$648),65536),ROW(8:8)))&\"\"","v":""},{"$f":"INDEX(輸入表單!$B:$B,SMALL(IF(輸入表單!$A$7:$A$648=BE$2,ROW($A$7:$A$648),65536),ROW(8:8)))&\"\"","v":""},{"$f":"INDEX(輸入表單!$B:$B,SMALL(IF(輸入表單!$A$7:$A$648=BF$2,ROW($A$7:$A$648),65536),ROW(8:8)))&\"\"","v":""},{"$f":"INDEX(輸入表單!$B:$B,SMALL(IF(輸入表單!$A$7:$A$648=BG$2,ROW($A$7:$A$648),65536),ROW(8:8)))&\"\"","v":""},{"$f":"INDEX(輸入表單!$B:$B,SMALL(IF(輸入表單!$A$7:$A$648=BH$2,ROW($A$7:$A$648),65536),ROW(8:8)))&\"\"","v":""},{"$f":"INDEX(輸入表單!$B:$B,SMALL(IF(輸入表單!$A$7:$A$648=BI$2,ROW($A$7:$A$648),65536),ROW(8:8)))&\"\"","v":""},{"$f":"INDEX(輸入表單!$B:$B,SMALL(IF(輸入表單!$A$7:$A$648=BJ$2,ROW($A$7:$A$648),65536),ROW(8:8)))&\"\"","v":""},{"$f":"INDEX(輸入表單!$B:$B,SMALL(IF(輸入表單!$A$7:$A$648=BK$2,ROW($A$7:$A$648),65536),ROW(8:8)))&\"\"","v":""},{"$f":"INDEX(輸入表單!$B:$B,SMALL(IF(輸入表單!$A$7:$A$648=BL$2,ROW($A$7:$A$648),65536),ROW(8:8)))&\"\"","v":""},{"$f":"INDEX(輸入表單!$B:$B,SMALL(IF(輸入表單!$A$7:$A$648=BM$2,ROW($A$7:$A$648),65536),ROW(8:8)))&\"\"","v":""},{"$f":"INDEX(輸入表單!$B:$B,SMALL(IF(輸入表單!$A$7:$A$648=BN$2,ROW($A$7:$A$648),65536),ROW(8:8)))&\"\"","v":""},{"$f":"INDEX(輸入表單!$B:$B,SMALL(IF(輸入表單!$A$7:$A$648=BO$2,ROW($A$7:$A$648),65536),ROW(8:8)))&\"\"","v":""},{"$f":"INDEX(輸入表單!$B:$B,SMALL(IF(輸入表單!$A$7:$A$648=BP$2,ROW($A$7:$A$648),65536),ROW(8:8)))&\"\"","v":""}]
[null,null,"1國語1","1.小花狗",null,null,null,9,{"$f":"INDEX(輸入表單!$B:$B,SMALL(IF(輸入表單!$A$7:$A$648=I$2,ROW($A$7:$A$648),65536),ROW(9:9)))&\"\"","v":""},{"$f":"INDEX(輸入表單!$B:$B,SMALL(IF(輸入表單!$A$7:$A$648=J$2,ROW($A$7:$A$648),65536),ROW(9:9)))&\"\"","v":""},{"$f":"INDEX(輸入表單!$B:$B,SMALL(IF(輸入表單!$A$7:$A$648=K$2,ROW($A$7:$A$648),65536),ROW(9:9)))&\"\"","v":""},{"$f":"INDEX(輸入表單!$B:$B,SMALL(IF(輸入表單!$A$7:$A$648=L$2,ROW($A$7:$A$648),65536),ROW(9:9)))&\"\"","v":""},{"$f":"INDEX(輸入表單!$B:$B,SMALL(IF(輸入表單!$A$7:$A$648=M$2,ROW($A$7:$A$648),65536),ROW(9:9)))&\"\"","v":""},{"$f":"INDEX(輸入表單!$B:$B,SMALL(IF(輸入表單!$A$7:$A$648=N$2,ROW($A$7:$A$648),65536),ROW(9:9)))&\"\"","v":""},{"$f":"INDEX(輸入表單!$B:$B,SMALL(IF(輸入表單!$A$7:$A$648=O$2,ROW($A$7:$A$648),65536),ROW(9:9)))&\"\"","v":""},{"$f":"INDEX(輸入表單!$B:$B,SMALL(IF(輸入表單!$A$7:$A$648=P$2,ROW($A$7:$A$648),65536),ROW(9:9)))&\"\"","v":""},{"$f":"INDEX(輸入表單!$B:$B,SMALL(IF(輸入表單!$A$7:$A$648=Q$2,ROW($A$7:$A$648),65536),ROW(9:9)))&\"\"","v":""},{"$f":"INDEX(輸入表單!$B:$B,SMALL(IF(輸入表單!$A$7:$A$648=R$2,ROW($A$7:$A$648),65536),ROW(9:9)))&\"\"","v":""},{"$f":"INDEX(輸入表單!$B:$B,SMALL(IF(輸入表單!$A$7:$A$648=S$2,ROW($A$7:$A$648),65536),ROW(9:9)))&\"\"","v":""},{"$f":"INDEX(輸入表單!$B:$B,SMALL(IF(輸入表單!$A$7:$A$648=T$2,ROW($A$7:$A$648),65536),ROW(9:9)))&\"\"","v":""},{"$f":"INDEX(輸入表單!$B:$B,SMALL(IF(輸入表單!$A$7:$A$648=U$2,ROW($A$7:$A$648),65536),ROW(9:9)))&\"\"","v":""},{"$f":"INDEX(輸入表單!$B:$B,SMALL(IF(輸入表單!$A$7:$A$648=V$2,ROW($A$7:$A$648),65536),ROW(9:9)))&\"\"","v":""},{"$f":"INDEX(輸入表單!$B:$B,SMALL(IF(輸入表單!$A$7:$A$648=W$2,ROW($A$7:$A$648),65536),ROW(9:9)))&\"\"","v":""},{"$f":"INDEX(輸入表單!$B:$B,SMALL(IF(輸入表單!$A$7:$A$648=X$2,ROW($A$7:$A$648),65536),ROW(9:9)))&\"\"","v":""},{"$f":"INDEX(輸入表單!$B:$B,SMALL(IF(輸入表單!$A$7:$A$648=Y$2,ROW($A$7:$A$648),65536),ROW(9:9)))&\"\"","v":""},{"$f":"INDEX(輸入表單!$B:$B,SMALL(IF(輸入表單!$A$7:$A$648=Z$2,ROW($A$7:$A$648),65536),ROW(9:9)))&\"\"","v":""},{"$f":"INDEX(輸入表單!$B:$B,SMALL(IF(輸入表單!$A$7:$A$648=AA$2,ROW($A$7:$A$648),65536),ROW(9:9)))&\"\"","v":""},{"$f":"INDEX(輸入表單!$B:$B,SMALL(IF(輸入表單!$A$7:$A$648=AB$2,ROW($A$7:$A$648),65536),ROW(9:9)))&\"\"","v":""},{"$f":"INDEX(輸入表單!$B:$B,SMALL(IF(輸入表單!$A$7:$A$648=AC$2,ROW($A$7:$A$648),65536),ROW(9:9)))&\"\"","v":""},{"$f":"INDEX(輸入表單!$B:$B,SMALL(IF(輸入表單!$A$7:$A$648=AD$2,ROW($A$7:$A$648),65536),ROW(9:9)))&\"\"","v":""},{"$f":"INDEX(輸入表單!$B:$B,SMALL(IF(輸入表單!$A$7:$A$648=AE$2,ROW($A$7:$A$648),65536),ROW(9:9)))&\"\"","v":""},{"$f":"INDEX(輸入表單!$B:$B,SMALL(IF(輸入表單!$A$7:$A$648=AF$2,ROW($A$7:$A$648),65536),ROW(9:9)))&\"\"","v":""},{"$f":"INDEX(輸入表單!$B:$B,SMALL(IF(輸入表單!$A$7:$A$648=AG$2,ROW($A$7:$A$648),65536),ROW(9:9)))&\"\"","v":""},{"$f":"INDEX(輸入表單!$B:$B,SMALL(IF(輸入表單!$A$7:$A$648=AH$2,ROW($A$7:$A$648),65536),ROW(9:9)))&\"\"","v":""},{"$f":"INDEX(輸入表單!$B:$B,SMALL(IF(輸入表單!$A$7:$A$648=AI$2,ROW($A$7:$A$648),65536),ROW(9:9)))&\"\"","v":""},{"$f":"INDEX(輸入表單!$B:$B,SMALL(IF(輸入表單!$A$7:$A$648=AJ$2,ROW($A$7:$A$648),65536),ROW(9:9)))&\"\"","v":""},{"$f":"INDEX(輸入表單!$B:$B,SMALL(IF(輸入表單!$A$7:$A$648=AK$2,ROW($A$7:$A$648),65536),ROW(9:9)))&\"\"","v":""},{"$f":"INDEX(輸入表單!$B:$B,SMALL(IF(輸入表單!$A$7:$A$648=AL$2,ROW($A$7:$A$648),65536),ROW(9:9)))&\"\"","v":""},{"$f":"INDEX(輸入表單!$B:$B,SMALL(IF(輸入表單!$A$7:$A$648=AM$2,ROW($A$7:$A$648),65536),ROW(9:9)))&\"\"","v":""},{"$f":"INDEX(輸入表單!$B:$B,SMALL(IF(輸入表單!$A$7:$A$648=AN$2,ROW($A$7:$A$648),65536),ROW(9:9)))&\"\"","v":""},{"$f":"INDEX(輸入表單!$B:$B,SMALL(IF(輸入表單!$A$7:$A$648=AO$2,ROW($A$7:$A$648),65536),ROW(9:9)))&\"\"","v":""},{"$f":"INDEX(輸入表單!$B:$B,SMALL(IF(輸入表單!$A$7:$A$648=AP$2,ROW($A$7:$A$648),65536),ROW(9:9)))&\"\"","v":""},{"$f":"INDEX(輸入表單!$B:$B,SMALL(IF(輸入表單!$A$7:$A$648=AQ$2,ROW($A$7:$A$648),65536),ROW(9:9)))&\"\"","v":""},{"$f":"INDEX(輸入表單!$B:$B,SMALL(IF(輸入表單!$A$7:$A$648=AR$2,ROW($A$7:$A$648),65536),ROW(9:9)))&\"\"","v":""},{"$f":"INDEX(輸入表單!$B:$B,SMALL(IF(輸入表單!$A$7:$A$648=AS$2,ROW($A$7:$A$648),65536),ROW(9:9)))&\"\"","v":""},{"$f":"INDEX(輸入表單!$B:$B,SMALL(IF(輸入表單!$A$7:$A$648=AT$2,ROW($A$7:$A$648),65536),ROW(9:9)))&\"\"","v":""},{"$f":"INDEX(輸入表單!$B:$B,SMALL(IF(輸入表單!$A$7:$A$648=AU$2,ROW($A$7:$A$648),65536),ROW(9:9)))&\"\"","v":""},{"$f":"INDEX(輸入表單!$B:$B,SMALL(IF(輸入表單!$A$7:$A$648=AV$2,ROW($A$7:$A$648),65536),ROW(9:9)))&\"\"","v":""},{"$f":"INDEX(輸入表單!$B:$B,SMALL(IF(輸入表單!$A$7:$A$648=AW$2,ROW($A$7:$A$648),65536),ROW(9:9)))&\"\"","v":""},{"$f":"INDEX(輸入表單!$B:$B,SMALL(IF(輸入表單!$A$7:$A$648=AX$2,ROW($A$7:$A$648),65536),ROW(9:9)))&\"\"","v":""},{"$f":"INDEX(輸入表單!$B:$B,SMALL(IF(輸入表單!$A$7:$A$648=AY$2,ROW($A$7:$A$648),65536),ROW(9:9)))&\"\"","v":""},{"$f":"INDEX(輸入表單!$B:$B,SMALL(IF(輸入表單!$A$7:$A$648=AZ$2,ROW($A$7:$A$648),65536),ROW(9:9)))&\"\"","v":""},{"$f":"INDEX(輸入表單!$B:$B,SMALL(IF(輸入表單!$A$7:$A$648=BA$2,ROW($A$7:$A$648),65536),ROW(9:9)))&\"\"","v":""},{"$f":"INDEX(輸入表單!$B:$B,SMALL(IF(輸入表單!$A$7:$A$648=BB$2,ROW($A$7:$A$648),65536),ROW(9:9)))&\"\"","v":""},{"$f":"INDEX(輸入表單!$B:$B,SMALL(IF(輸入表單!$A$7:$A$648=BC$2,ROW($A$7:$A$648),65536),ROW(9:9)))&\"\"","v":""},{"$f":"INDEX(輸入表單!$B:$B,SMALL(IF(輸入表單!$A$7:$A$648=BD$2,ROW($A$7:$A$648),65536),ROW(9:9)))&\"\"","v":""},{"$f":"INDEX(輸入表單!$B:$B,SMALL(IF(輸入表單!$A$7:$A$648=BE$2,ROW($A$7:$A$648),65536),ROW(9:9)))&\"\"","v":""},{"$f":"INDEX(輸入表單!$B:$B,SMALL(IF(輸入表單!$A$7:$A$648=BF$2,ROW($A$7:$A$648),65536),ROW(9:9)))&\"\"","v":""},{"$f":"INDEX(輸入表單!$B:$B,SMALL(IF(輸入表單!$A$7:$A$648=BG$2,ROW($A$7:$A$648),65536),ROW(9:9)))&\"\"","v":""},{"$f":"INDEX(輸入表單!$B:$B,SMALL(IF(輸入表單!$A$7:$A$648=BH$2,ROW($A$7:$A$648),65536),ROW(9:9)))&\"\"","v":""},{"$f":"INDEX(輸入表單!$B:$B,SMALL(IF(輸入表單!$A$7:$A$648=BI$2,ROW($A$7:$A$648),65536),ROW(9:9)))&\"\"","v":""},{"$f":"INDEX(輸入表單!$B:$B,SMALL(IF(輸入表單!$A$7:$A$648=BJ$2,ROW($A$7:$A$648),65536),ROW(9:9)))&\"\"","v":""},{"$f":"INDEX(輸入表單!$B:$B,SMALL(IF(輸入表單!$A$7:$A$648=BK$2,ROW($A$7:$A$648),65536),ROW(9:9)))&\"\"","v":""},{"$f":"INDEX(輸入表單!$B:$B,SMALL(IF(輸入表單!$A$7:$A$648=BL$2,ROW($A$7:$A$648),65536),ROW(9:9)))&\"\"","v":""},{"$f":"INDEX(輸入表單!$B:$B,SMALL(IF(輸入表單!$A$7:$A$648=BM$2,ROW($A$7:$A$648),65536),ROW(9:9)))&\"\"","v":""},{"$f":"INDEX(輸入表單!$B:$B,SMALL(IF(輸入表單!$A$7:$A$648=BN$2,ROW($A$7:$A$648),65536),ROW(9:9)))&\"\"","v":""},{"$f":"INDEX(輸入表單!$B:$B,SMALL(IF(輸入表單!$A$7:$A$648=BO$2,ROW($A$7:$A$648),65536),ROW(9:9)))&\"\"","v":""},{"$f":"INDEX(輸入表單!$B:$B,SMALL(IF(輸入表單!$A$7:$A$648=BP$2,ROW($A$7:$A$648),65536),ROW(9:9)))&\"\"","v":""}]
[null,null,"1國語2","2.春天來了",null,null,null,10,{"$f":"INDEX(輸入表單!$B:$B,SMALL(IF(輸入表單!$A$7:$A$648=I$2,ROW($A$7:$A$648),65536),ROW(10:10)))&\"\"","v":""},{"$f":"INDEX(輸入表單!$B:$B,SMALL(IF(輸入表單!$A$7:$A$648=J$2,ROW($A$7:$A$648),65536),ROW(10:10)))&\"\"","v":""},{"$f":"INDEX(輸入表單!$B:$B,SMALL(IF(輸入表單!$A$7:$A$648=K$2,ROW($A$7:$A$648),65536),ROW(10:10)))&\"\"","v":""},{"$f":"INDEX(輸入表單!$B:$B,SMALL(IF(輸入表單!$A$7:$A$648=L$2,ROW($A$7:$A$648),65536),ROW(10:10)))&\"\"","v":""},{"$f":"INDEX(輸入表單!$B:$B,SMALL(IF(輸入表單!$A$7:$A$648=M$2,ROW($A$7:$A$648),65536),ROW(10:10)))&\"\"","v":""},{"$f":"INDEX(輸入表單!$B:$B,SMALL(IF(輸入表單!$A$7:$A$648=N$2,ROW($A$7:$A$648),65536),ROW(10:10)))&\"\"","v":""},{"$f":"INDEX(輸入表單!$B:$B,SMALL(IF(輸入表單!$A$7:$A$648=O$2,ROW($A$7:$A$648),65536),ROW(10:10)))&\"\"","v":""},{"$f":"INDEX(輸入表單!$B:$B,SMALL(IF(輸入表單!$A$7:$A$648=P$2,ROW($A$7:$A$648),65536),ROW(10:10)))&\"\"","v":""},{"$f":"INDEX(輸入表單!$B:$B,SMALL(IF(輸入表單!$A$7:$A$648=Q$2,ROW($A$7:$A$648),65536),ROW(10:10)))&\"\"","v":""},{"$f":"INDEX(輸入表單!$B:$B,SMALL(IF(輸入表單!$A$7:$A$648=R$2,ROW($A$7:$A$648),65536),ROW(10:10)))&\"\"","v":""},{"$f":"INDEX(輸入表單!$B:$B,SMALL(IF(輸入表單!$A$7:$A$648=S$2,ROW($A$7:$A$648),65536),ROW(10:10)))&\"\"","v":""},{"$f":"INDEX(輸入表單!$B:$B,SMALL(IF(輸入表單!$A$7:$A$648=T$2,ROW($A$7:$A$648),65536),ROW(10:10)))&\"\"","v":""},{"$f":"INDEX(輸入表單!$B:$B,SMALL(IF(輸入表單!$A$7:$A$648=U$2,ROW($A$7:$A$648),65536),ROW(10:10)))&\"\"","v":""},{"$f":"INDEX(輸入表單!$B:$B,SMALL(IF(輸入表單!$A$7:$A$648=V$2,ROW($A$7:$A$648),65536),ROW(10:10)))&\"\"","v":""},{"$f":"INDEX(輸入表單!$B:$B,SMALL(IF(輸入表單!$A$7:$A$648=W$2,ROW($A$7:$A$648),65536),ROW(10:10)))&\"\"","v":""},{"$f":"INDEX(輸入表單!$B:$B,SMALL(IF(輸入表單!$A$7:$A$648=X$2,ROW($A$7:$A$648),65536),ROW(10:10)))&\"\"","v":""},{"$f":"INDEX(輸入表單!$B:$B,SMALL(IF(輸入表單!$A$7:$A$648=Y$2,ROW($A$7:$A$648),65536),ROW(10:10)))&\"\"","v":""},{"$f":"INDEX(輸入表單!$B:$B,SMALL(IF(輸入表單!$A$7:$A$648=Z$2,ROW($A$7:$A$648),65536),ROW(10:10)))&\"\"","v":""},{"$f":"INDEX(輸入表單!$B:$B,SMALL(IF(輸入表單!$A$7:$A$648=AA$2,ROW($A$7:$A$648),65536),ROW(10:10)))&\"\"","v":""},{"$f":"INDEX(輸入表單!$B:$B,SMALL(IF(輸入表單!$A$7:$A$648=AB$2,ROW($A$7:$A$648),65536),ROW(10:10)))&\"\"","v":""},{"$f":"INDEX(輸入表單!$B:$B,SMALL(IF(輸入表單!$A$7:$A$648=AC$2,ROW($A$7:$A$648),65536),ROW(10:10)))&\"\"","v":""},{"$f":"INDEX(輸入表單!$B:$B,SMALL(IF(輸入表單!$A$7:$A$648=AD$2,ROW($A$7:$A$648),65536),ROW(10:10)))&\"\"","v":""},{"$f":"INDEX(輸入表單!$B:$B,SMALL(IF(輸入表單!$A$7:$A$648=AE$2,ROW($A$7:$A$648),65536),ROW(10:10)))&\"\"","v":""},{"$f":"INDEX(輸入表單!$B:$B,SMALL(IF(輸入表單!$A$7:$A$648=AF$2,ROW($A$7:$A$648),65536),ROW(10:10)))&\"\"","v":""},{"$f":"INDEX(輸入表單!$B:$B,SMALL(IF(輸入表單!$A$7:$A$648=AG$2,ROW($A$7:$A$648),65536),ROW(10:10)))&\"\"","v":""},{"$f":"INDEX(輸入表單!$B:$B,SMALL(IF(輸入表單!$A$7:$A$648=AH$2,ROW($A$7:$A$648),65536),ROW(10:10)))&\"\"","v":""},{"$f":"INDEX(輸入表單!$B:$B,SMALL(IF(輸入表單!$A$7:$A$648=AI$2,ROW($A$7:$A$648),65536),ROW(10:10)))&\"\"","v":""},{"$f":"INDEX(輸入表單!$B:$B,SMALL(IF(輸入表單!$A$7:$A$648=AJ$2,ROW($A$7:$A$648),65536),ROW(10:10)))&\"\"","v":""},{"$f":"INDEX(輸入表單!$B:$B,SMALL(IF(輸入表單!$A$7:$A$648=AK$2,ROW($A$7:$A$648),65536),ROW(10:10)))&\"\"","v":""},{"$f":"INDEX(輸入表單!$B:$B,SMALL(IF(輸入表單!$A$7:$A$648=AL$2,ROW($A$7:$A$648),65536),ROW(10:10)))&\"\"","v":""},{"$f":"INDEX(輸入表單!$B:$B,SMALL(IF(輸入表單!$A$7:$A$648=AM$2,ROW($A$7:$A$648),65536),ROW(10:10)))&\"\"","v":""},{"$f":"INDEX(輸入表單!$B:$B,SMALL(IF(輸入表單!$A$7:$A$648=AN$2,ROW($A$7:$A$648),65536),ROW(10:10)))&\"\"","v":""},{"$f":"INDEX(輸入表單!$B:$B,SMALL(IF(輸入表單!$A$7:$A$648=AO$2,ROW($A$7:$A$648),65536),ROW(10:10)))&\"\"","v":""},{"$f":"INDEX(輸入表單!$B:$B,SMALL(IF(輸入表單!$A$7:$A$648=AP$2,ROW($A$7:$A$648),65536),ROW(10:10)))&\"\"","v":""},{"$f":"INDEX(輸入表單!$B:$B,SMALL(IF(輸入表單!$A$7:$A$648=AQ$2,ROW($A$7:$A$648),65536),ROW(10:10)))&\"\"","v":""},{"$f":"INDEX(輸入表單!$B:$B,SMALL(IF(輸入表單!$A$7:$A$648=AR$2,ROW($A$7:$A$648),65536),ROW(10:10)))&\"\"","v":""},{"$f":"INDEX(輸入表單!$B:$B,SMALL(IF(輸入表單!$A$7:$A$648=AS$2,ROW($A$7:$A$648),65536),ROW(10:10)))&\"\"","v":""},{"$f":"INDEX(輸入表單!$B:$B,SMALL(IF(輸入表單!$A$7:$A$648=AT$2,ROW($A$7:$A$648),65536),ROW(10:10)))&\"\"","v":""},{"$f":"INDEX(輸入表單!$B:$B,SMALL(IF(輸入表單!$A$7:$A$648=AU$2,ROW($A$7:$A$648),65536),ROW(10:10)))&\"\"","v":""},{"$f":"INDEX(輸入表單!$B:$B,SMALL(IF(輸入表單!$A$7:$A$648=AV$2,ROW($A$7:$A$648),65536),ROW(10:10)))&\"\"","v":""},{"$f":"INDEX(輸入表單!$B:$B,SMALL(IF(輸入表單!$A$7:$A$648=AW$2,ROW($A$7:$A$648),65536),ROW(10:10)))&\"\"","v":""},{"$f":"INDEX(輸入表單!$B:$B,SMALL(IF(輸入表單!$A$7:$A$648=AX$2,ROW($A$7:$A$648),65536),ROW(10:10)))&\"\"","v":""},{"$f":"INDEX(輸入表單!$B:$B,SMALL(IF(輸入表單!$A$7:$A$648=AY$2,ROW($A$7:$A$648),65536),ROW(10:10)))&\"\"","v":""},{"$f":"INDEX(輸入表單!$B:$B,SMALL(IF(輸入表單!$A$7:$A$648=AZ$2,ROW($A$7:$A$648),65536),ROW(10:10)))&\"\"","v":""},{"$f":"INDEX(輸入表單!$B:$B,SMALL(IF(輸入表單!$A$7:$A$648=BA$2,ROW($A$7:$A$648),65536),ROW(10:10)))&\"\"","v":""},{"$f":"INDEX(輸入表單!$B:$B,SMALL(IF(輸入表單!$A$7:$A$648=BB$2,ROW($A$7:$A$648),65536),ROW(10:10)))&\"\"","v":""},{"$f":"INDEX(輸入表單!$B:$B,SMALL(IF(輸入表單!$A$7:$A$648=BC$2,ROW($A$7:$A$648),65536),ROW(10:10)))&\"\"","v":""},{"$f":"INDEX(輸入表單!$B:$B,SMALL(IF(輸入表單!$A$7:$A$648=BD$2,ROW($A$7:$A$648),65536),ROW(10:10)))&\"\"","v":""},{"$f":"INDEX(輸入表單!$B:$B,SMALL(IF(輸入表單!$A$7:$A$648=BE$2,ROW($A$7:$A$648),65536),ROW(10:10)))&\"\"","v":""},{"$f":"INDEX(輸入表單!$B:$B,SMALL(IF(輸入表單!$A$7:$A$648=BF$2,ROW($A$7:$A$648),65536),ROW(10:10)))&\"\"","v":""},{"$f":"INDEX(輸入表單!$B:$B,SMALL(IF(輸入表單!$A$7:$A$648=BG$2,ROW($A$7:$A$648),65536),ROW(10:10)))&\"\"","v":""},{"$f":"INDEX(輸入表單!$B:$B,SMALL(IF(輸入表單!$A$7:$A$648=BH$2,ROW($A$7:$A$648),65536),ROW(10:10)))&\"\"","v":""},{"$f":"INDEX(輸入表單!$B:$B,SMALL(IF(輸入表單!$A$7:$A$648=BI$2,ROW($A$7:$A$648),65536),ROW(10:10)))&\"\"","v":""},{"$f":"INDEX(輸入表單!$B:$B,SMALL(IF(輸入表單!$A$7:$A$648=BJ$2,ROW($A$7:$A$648),65536),ROW(10:10)))&\"\"","v":""},{"$f":"INDEX(輸入表單!$B:$B,SMALL(IF(輸入表單!$A$7:$A$648=BK$2,ROW($A$7:$A$648),65536),ROW(10:10)))&\"\"","v":""},{"$f":"INDEX(輸入表單!$B:$B,SMALL(IF(輸入表單!$A$7:$A$648=BL$2,ROW($A$7:$A$648),65536),ROW(10:10)))&\"\"","v":""},{"$f":"INDEX(輸入表單!$B:$B,SMALL(IF(輸入表單!$A$7:$A$648=BM$2,ROW($A$7:$A$648),65536),ROW(10:10)))&\"\"","v":""},{"$f":"INDEX(輸入表單!$B:$B,SMALL(IF(輸入表單!$A$7:$A$648=BN$2,ROW($A$7:$A$648),65536),ROW(10:10)))&\"\"","v":""},{"$f":"INDEX(輸入表單!$B:$B,SMALL(IF(輸入表單!$A$7:$A$648=BO$2,ROW($A$7:$A$648),65536),ROW(10:10)))&\"\"","v":""},{"$f":"INDEX(輸入表單!$B:$B,SMALL(IF(輸入表單!$A$7:$A$648=BP$2,ROW($A$7:$A$648),65536),ROW(10:10)))&\"\"","v":""}]
[null,null,"1國語3","3.和春天一樣 + 統整活動一",null,null,null,11,{"$f":"INDEX(輸入表單!$B:$B,SMALL(IF(輸入表單!$A$7:$A$648=I$2,ROW($A$7:$A$648),65536),ROW(11:11)))&\"\"","v":""},{"$f":"INDEX(輸入表單!$B:$B,SMALL(IF(輸入表單!$A$7:$A$648=J$2,ROW($A$7:$A$648),65536),ROW(11:11)))&\"\"","v":""},{"$f":"INDEX(輸入表單!$B:$B,SMALL(IF(輸入表單!$A$7:$A$648=K$2,ROW($A$7:$A$648),65536),ROW(11:11)))&\"\"","v":""},{"$f":"INDEX(輸入表單!$B:$B,SMALL(IF(輸入表單!$A$7:$A$648=L$2,ROW($A$7:$A$648),65536),ROW(11:11)))&\"\"","v":""},{"$f":"INDEX(輸入表單!$B:$B,SMALL(IF(輸入表單!$A$7:$A$648=M$2,ROW($A$7:$A$648),65536),ROW(11:11)))&\"\"","v":""},{"$f":"INDEX(輸入表單!$B:$B,SMALL(IF(輸入表單!$A$7:$A$648=N$2,ROW($A$7:$A$648),65536),ROW(11:11)))&\"\"","v":""},{"$f":"INDEX(輸入表單!$B:$B,SMALL(IF(輸入表單!$A$7:$A$648=O$2,ROW($A$7:$A$648),65536),ROW(11:11)))&\"\"","v":""},{"$f":"INDEX(輸入表單!$B:$B,SMALL(IF(輸入表單!$A$7:$A$648=P$2,ROW($A$7:$A$648),65536),ROW(11:11)))&\"\"","v":""},{"$f":"INDEX(輸入表單!$B:$B,SMALL(IF(輸入表單!$A$7:$A$648=Q$2,ROW($A$7:$A$648),65536),ROW(11:11)))&\"\"","v":""},{"$f":"INDEX(輸入表單!$B:$B,SMALL(IF(輸入表單!$A$7:$A$648=R$2,ROW($A$7:$A$648),65536),ROW(11:11)))&\"\"","v":""},{"$f":"INDEX(輸入表單!$B:$B,SMALL(IF(輸入表單!$A$7:$A$648=S$2,ROW($A$7:$A$648),65536),ROW(11:11)))&\"\"","v":""},{"$f":"INDEX(輸入表單!$B:$B,SMALL(IF(輸入表單!$A$7:$A$648=T$2,ROW($A$7:$A$648),65536),ROW(11:11)))&\"\"","v":""},{"$f":"INDEX(輸入表單!$B:$B,SMALL(IF(輸入表單!$A$7:$A$648=U$2,ROW($A$7:$A$648),65536),ROW(11:11)))&\"\"","v":""},{"$f":"INDEX(輸入表單!$B:$B,SMALL(IF(輸入表單!$A$7:$A$648=V$2,ROW($A$7:$A$648),65536),ROW(11:11)))&\"\"","v":""},{"$f":"INDEX(輸入表單!$B:$B,SMALL(IF(輸入表單!$A$7:$A$648=W$2,ROW($A$7:$A$648),65536),ROW(11:11)))&\"\"","v":""},{"$f":"INDEX(輸入表單!$B:$B,SMALL(IF(輸入表單!$A$7:$A$648=X$2,ROW($A$7:$A$648),65536),ROW(11:11)))&\"\"","v":""},{"$f":"INDEX(輸入表單!$B:$B,SMALL(IF(輸入表單!$A$7:$A$648=Y$2,ROW($A$7:$A$648),65536),ROW(11:11)))&\"\"","v":""},{"$f":"INDEX(輸入表單!$B:$B,SMALL(IF(輸入表單!$A$7:$A$648=Z$2,ROW($A$7:$A$648),65536),ROW(11:11)))&\"\"","v":""},{"$f":"INDEX(輸入表單!$B:$B,SMALL(IF(輸入表單!$A$7:$A$648=AA$2,ROW($A$7:$A$648),65536),ROW(11:11)))&\"\"","v":""},{"$f":"INDEX(輸入表單!$B:$B,SMALL(IF(輸入表單!$A$7:$A$648=AB$2,ROW($A$7:$A$648),65536),ROW(11:11)))&\"\"","v":""},{"$f":"INDEX(輸入表單!$B:$B,SMALL(IF(輸入表單!$A$7:$A$648=AC$2,ROW($A$7:$A$648),65536),ROW(11:11)))&\"\"","v":""},{"$f":"INDEX(輸入表單!$B:$B,SMALL(IF(輸入表單!$A$7:$A$648=AD$2,ROW($A$7:$A$648),65536),ROW(11:11)))&\"\"","v":""},{"$f":"INDEX(輸入表單!$B:$B,SMALL(IF(輸入表單!$A$7:$A$648=AE$2,ROW($A$7:$A$648),65536),ROW(11:11)))&\"\"","v":""},{"$f":"INDEX(輸入表單!$B:$B,SMALL(IF(輸入表單!$A$7:$A$648=AF$2,ROW($A$7:$A$648),65536),ROW(11:11)))&\"\"","v":""},{"$f":"INDEX(輸入表單!$B:$B,SMALL(IF(輸入表單!$A$7:$A$648=AG$2,ROW($A$7:$A$648),65536),ROW(11:11)))&\"\"","v":""},{"$f":"INDEX(輸入表單!$B:$B,SMALL(IF(輸入表單!$A$7:$A$648=AH$2,ROW($A$7:$A$648),65536),ROW(11:11)))&\"\"","v":""},{"$f":"INDEX(輸入表單!$B:$B,SMALL(IF(輸入表單!$A$7:$A$648=AI$2,ROW($A$7:$A$648),65536),ROW(11:11)))&\"\"","v":""},{"$f":"INDEX(輸入表單!$B:$B,SMALL(IF(輸入表單!$A$7:$A$648=AJ$2,ROW($A$7:$A$648),65536),ROW(11:11)))&\"\"","v":""},{"$f":"INDEX(輸入表單!$B:$B,SMALL(IF(輸入表單!$A$7:$A$648=AK$2,ROW($A$7:$A$648),65536),ROW(11:11)))&\"\"","v":""},{"$f":"INDEX(輸入表單!$B:$B,SMALL(IF(輸入表單!$A$7:$A$648=AL$2,ROW($A$7:$A$648),65536),ROW(11:11)))&\"\"","v":""},{"$f":"INDEX(輸入表單!$B:$B,SMALL(IF(輸入表單!$A$7:$A$648=AM$2,ROW($A$7:$A$648),65536),ROW(11:11)))&\"\"","v":""},{"$f":"INDEX(輸入表單!$B:$B,SMALL(IF(輸入表單!$A$7:$A$648=AN$2,ROW($A$7:$A$648),65536),ROW(11:11)))&\"\"","v":""},{"$f":"INDEX(輸入表單!$B:$B,SMALL(IF(輸入表單!$A$7:$A$648=AO$2,ROW($A$7:$A$648),65536),ROW(11:11)))&\"\"","v":""},{"$f":"INDEX(輸入表單!$B:$B,SMALL(IF(輸入表單!$A$7:$A$648=AP$2,ROW($A$7:$A$648),65536),ROW(11:11)))&\"\"","v":""},{"$f":"INDEX(輸入表單!$B:$B,SMALL(IF(輸入表單!$A$7:$A$648=AQ$2,ROW($A$7:$A$648),65536),ROW(11:11)))&\"\"","v":""},{"$f":"INDEX(輸入表單!$B:$B,SMALL(IF(輸入表單!$A$7:$A$648=AR$2,ROW($A$7:$A$648),65536),ROW(11:11)))&\"\"","v":""},{"$f":"INDEX(輸入表單!$B:$B,SMALL(IF(輸入表單!$A$7:$A$648=AS$2,ROW($A$7:$A$648),65536),ROW(11:11)))&\"\"","v":""},{"$f":"INDEX(輸入表單!$B:$B,SMALL(IF(輸入表單!$A$7:$A$648=AT$2,ROW($A$7:$A$648),65536),ROW(11:11)))&\"\"","v":""},{"$f":"INDEX(輸入表單!$B:$B,SMALL(IF(輸入表單!$A$7:$A$648=AU$2,ROW($A$7:$A$648),65536),ROW(11:11)))&\"\"","v":""},{"$f":"INDEX(輸入表單!$B:$B,SMALL(IF(輸入表單!$A$7:$A$648=AV$2,ROW($A$7:$A$648),65536),ROW(11:11)))&\"\"","v":""},{"$f":"INDEX(輸入表單!$B:$B,SMALL(IF(輸入表單!$A$7:$A$648=AW$2,ROW($A$7:$A$648),65536),ROW(11:11)))&\"\"","v":""},{"$f":"INDEX(輸入表單!$B:$B,SMALL(IF(輸入表單!$A$7:$A$648=AX$2,ROW($A$7:$A$648),65536),ROW(11:11)))&\"\"","v":""},{"$f":"INDEX(輸入表單!$B:$B,SMALL(IF(輸入表單!$A$7:$A$648=AY$2,ROW($A$7:$A$648),65536),ROW(11:11)))&\"\"","v":""},{"$f":"INDEX(輸入表單!$B:$B,SMALL(IF(輸入表單!$A$7:$A$648=AZ$2,ROW($A$7:$A$648),65536),ROW(11:11)))&\"\"","v":""},{"$f":"INDEX(輸入表單!$B:$B,SMALL(IF(輸入表單!$A$7:$A$648=BA$2,ROW($A$7:$A$648),65536),ROW(11:11)))&\"\"","v":""},{"$f":"INDEX(輸入表單!$B:$B,SMALL(IF(輸入表單!$A$7:$A$648=BB$2,ROW($A$7:$A$648),65536),ROW(11:11)))&\"\"","v":""},{"$f":"INDEX(輸入表單!$B:$B,SMALL(IF(輸入表單!$A$7:$A$648=BC$2,ROW($A$7:$A$648),65536),ROW(11:11)))&\"\"","v":""},{"$f":"INDEX(輸入表單!$B:$B,SMALL(IF(輸入表單!$A$7:$A$648=BD$2,ROW($A$7:$A$648),65536),ROW(11:11)))&\"\"","v":""},{"$f":"INDEX(輸入表單!$B:$B,SMALL(IF(輸入表單!$A$7:$A$648=BE$2,ROW($A$7:$A$648),65536),ROW(11:11)))&\"\"","v":""},{"$f":"INDEX(輸入表單!$B:$B,SMALL(IF(輸入表單!$A$7:$A$648=BF$2,ROW($A$7:$A$648),65536),ROW(11:11)))&\"\"","v":""},{"$f":"INDEX(輸入表單!$B:$B,SMALL(IF(輸入表單!$A$7:$A$648=BG$2,ROW($A$7:$A$648),65536),ROW(11:11)))&\"\"","v":""},{"$f":"INDEX(輸入表單!$B:$B,SMALL(IF(輸入表單!$A$7:$A$648=BH$2,ROW($A$7:$A$648),65536),ROW(11:11)))&\"\"","v":""},{"$f":"INDEX(輸入表單!$B:$B,SMALL(IF(輸入表單!$A$7:$A$648=BI$2,ROW($A$7:$A$648),65536),ROW(11:11)))&\"\"","v":""},{"$f":"INDEX(輸入表單!$B:$B,SMALL(IF(輸入表單!$A$7:$A$648=BJ$2,ROW($A$7:$A$648),65536),ROW(11:11)))&\"\"","v":""},{"$f":"INDEX(輸入表單!$B:$B,SMALL(IF(輸入表單!$A$7:$A$648=BK$2,ROW($A$7:$A$648),65536),ROW(11:11)))&\"\"","v":""},{"$f":"INDEX(輸入表單!$B:$B,SMALL(IF(輸入表單!$A$7:$A$648=BL$2,ROW($A$7:$A$648),65536),ROW(11:11)))&\"\"","v":""},{"$f":"INDEX(輸入表單!$B:$B,SMALL(IF(輸入表單!$A$7:$A$648=BM$2,ROW($A$7:$A$648),65536),ROW(11:11)))&\"\"","v":""},{"$f":"INDEX(輸入表單!$B:$B,SMALL(IF(輸入表單!$A$7:$A$648=BN$2,ROW($A$7:$A$648),65536),ROW(11:11)))&\"\"","v":""},{"$f":"INDEX(輸入表單!$B:$B,SMALL(IF(輸入表單!$A$7:$A$648=BO$2,ROW($A$7:$A$648),65536),ROW(11:11)))&\"\"","v":""},{"$f":"INDEX(輸入表單!$B:$B,SMALL(IF(輸入表單!$A$7:$A$648=BP$2,ROW($A$7:$A$648),65536),ROW(11:11)))&\"\"","v":""}]
[null,null,"1國語4","4.送什麼呢",null,null,null,12,{"$f":"INDEX(輸入表單!$B:$B,SMALL(IF(輸入表單!$A$7:$A$648=I$2,ROW($A$7:$A$648),65536),ROW(12:12)))&\"\"","v":""},{"$f":"INDEX(輸入表單!$B:$B,SMALL(IF(輸入表單!$A$7:$A$648=J$2,ROW($A$7:$A$648),65536),ROW(12:12)))&\"\"","v":""},{"$f":"INDEX(輸入表單!$B:$B,SMALL(IF(輸入表單!$A$7:$A$648=K$2,ROW($A$7:$A$648),65536),ROW(12:12)))&\"\"","v":""},{"$f":"INDEX(輸入表單!$B:$B,SMALL(IF(輸入表單!$A$7:$A$648=L$2,ROW($A$7:$A$648),65536),ROW(12:12)))&\"\"","v":""},{"$f":"INDEX(輸入表單!$B:$B,SMALL(IF(輸入表單!$A$7:$A$648=M$2,ROW($A$7:$A$648),65536),ROW(12:12)))&\"\"","v":""},{"$f":"INDEX(輸入表單!$B:$B,SMALL(IF(輸入表單!$A$7:$A$648=N$2,ROW($A$7:$A$648),65536),ROW(12:12)))&\"\"","v":""},{"$f":"INDEX(輸入表單!$B:$B,SMALL(IF(輸入表單!$A$7:$A$648=O$2,ROW($A$7:$A$648),65536),ROW(12:12)))&\"\"","v":""},{"$f":"INDEX(輸入表單!$B:$B,SMALL(IF(輸入表單!$A$7:$A$648=P$2,ROW($A$7:$A$648),65536),ROW(12:12)))&\"\"","v":""},{"$f":"INDEX(輸入表單!$B:$B,SMALL(IF(輸入表單!$A$7:$A$648=Q$2,ROW($A$7:$A$648),65536),ROW(12:12)))&\"\"","v":""},{"$f":"INDEX(輸入表單!$B:$B,SMALL(IF(輸入表單!$A$7:$A$648=R$2,ROW($A$7:$A$648),65536),ROW(12:12)))&\"\"","v":""},{"$f":"INDEX(輸入表單!$B:$B,SMALL(IF(輸入表單!$A$7:$A$648=S$2,ROW($A$7:$A$648),65536),ROW(12:12)))&\"\"","v":""},{"$f":"INDEX(輸入表單!$B:$B,SMALL(IF(輸入表單!$A$7:$A$648=T$2,ROW($A$7:$A$648),65536),ROW(12:12)))&\"\"","v":""},{"$f":"INDEX(輸入表單!$B:$B,SMALL(IF(輸入表單!$A$7:$A$648=U$2,ROW($A$7:$A$648),65536),ROW(12:12)))&\"\"","v":""},{"$f":"INDEX(輸入表單!$B:$B,SMALL(IF(輸入表單!$A$7:$A$648=V$2,ROW($A$7:$A$648),65536),ROW(12:12)))&\"\"","v":""},{"$f":"INDEX(輸入表單!$B:$B,SMALL(IF(輸入表單!$A$7:$A$648=W$2,ROW($A$7:$A$648),65536),ROW(12:12)))&\"\"","v":""},{"$f":"INDEX(輸入表單!$B:$B,SMALL(IF(輸入表單!$A$7:$A$648=X$2,ROW($A$7:$A$648),65536),ROW(12:12)))&\"\"","v":""},{"$f":"INDEX(輸入表單!$B:$B,SMALL(IF(輸入表單!$A$7:$A$648=Y$2,ROW($A$7:$A$648),65536),ROW(12:12)))&\"\"","v":""},{"$f":"INDEX(輸入表單!$B:$B,SMALL(IF(輸入表單!$A$7:$A$648=Z$2,ROW($A$7:$A$648),65536),ROW(12:12)))&\"\"","v":""},{"$f":"INDEX(輸入表單!$B:$B,SMALL(IF(輸入表單!$A$7:$A$648=AA$2,ROW($A$7:$A$648),65536),ROW(12:12)))&\"\"","v":""},{"$f":"INDEX(輸入表單!$B:$B,SMALL(IF(輸入表單!$A$7:$A$648=AB$2,ROW($A$7:$A$648),65536),ROW(12:12)))&\"\"","v":""},{"$f":"INDEX(輸入表單!$B:$B,SMALL(IF(輸入表單!$A$7:$A$648=AC$2,ROW($A$7:$A$648),65536),ROW(12:12)))&\"\"","v":""},{"$f":"INDEX(輸入表單!$B:$B,SMALL(IF(輸入表單!$A$7:$A$648=AD$2,ROW($A$7:$A$648),65536),ROW(12:12)))&\"\"","v":""},{"$f":"INDEX(輸入表單!$B:$B,SMALL(IF(輸入表單!$A$7:$A$648=AE$2,ROW($A$7:$A$648),65536),ROW(12:12)))&\"\"","v":""},{"$f":"INDEX(輸入表單!$B:$B,SMALL(IF(輸入表單!$A$7:$A$648=AF$2,ROW($A$7:$A$648),65536),ROW(12:12)))&\"\"","v":""},{"$f":"INDEX(輸入表單!$B:$B,SMALL(IF(輸入表單!$A$7:$A$648=AG$2,ROW($A$7:$A$648),65536),ROW(12:12)))&\"\"","v":""},{"$f":"INDEX(輸入表單!$B:$B,SMALL(IF(輸入表單!$A$7:$A$648=AH$2,ROW($A$7:$A$648),65536),ROW(12:12)))&\"\"","v":""},{"$f":"INDEX(輸入表單!$B:$B,SMALL(IF(輸入表單!$A$7:$A$648=AI$2,ROW($A$7:$A$648),65536),ROW(12:12)))&\"\"","v":""},{"$f":"INDEX(輸入表單!$B:$B,SMALL(IF(輸入表單!$A$7:$A$648=AJ$2,ROW($A$7:$A$648),65536),ROW(12:12)))&\"\"","v":""},{"$f":"INDEX(輸入表單!$B:$B,SMALL(IF(輸入表單!$A$7:$A$648=AK$2,ROW($A$7:$A$648),65536),ROW(12:12)))&\"\"","v":""},{"$f":"INDEX(輸入表單!$B:$B,SMALL(IF(輸入表單!$A$7:$A$648=AL$2,ROW($A$7:$A$648),65536),ROW(12:12)))&\"\"","v":""},{"$f":"INDEX(輸入表單!$B:$B,SMALL(IF(輸入表單!$A$7:$A$648=AM$2,ROW($A$7:$A$648),65536),ROW(12:12)))&\"\"","v":""},{"$f":"INDEX(輸入表單!$B:$B,SMALL(IF(輸入表單!$A$7:$A$648=AN$2,ROW($A$7:$A$648),65536),ROW(12:12)))&\"\"","v":""},{"$f":"INDEX(輸入表單!$B:$B,SMALL(IF(輸入表單!$A$7:$A$648=AO$2,ROW($A$7:$A$648),65536),ROW(12:12)))&\"\"","v":""},{"$f":"INDEX(輸入表單!$B:$B,SMALL(IF(輸入表單!$A$7:$A$648=AP$2,ROW($A$7:$A$648),65536),ROW(12:12)))&\"\"","v":""},{"$f":"INDEX(輸入表單!$B:$B,SMALL(IF(輸入表單!$A$7:$A$648=AQ$2,ROW($A$7:$A$648),65536),ROW(12:12)))&\"\"","v":""},{"$f":"INDEX(輸入表單!$B:$B,SMALL(IF(輸入表單!$A$7:$A$648=AR$2,ROW($A$7:$A$648),65536),ROW(12:12)))&\"\"","v":""},{"$f":"INDEX(輸入表單!$B:$B,SMALL(IF(輸入表單!$A$7:$A$648=AS$2,ROW($A$7:$A$648),65536),ROW(12:12)))&\"\"","v":""},{"$f":"INDEX(輸入表單!$B:$B,SMALL(IF(輸入表單!$A$7:$A$648=AT$2,ROW($A$7:$A$648),65536),ROW(12:12)))&\"\"","v":""},{"$f":"INDEX(輸入表單!$B:$B,SMALL(IF(輸入表單!$A$7:$A$648=AU$2,ROW($A$7:$A$648),65536),ROW(12:12)))&\"\"","v":""},{"$f":"INDEX(輸入表單!$B:$B,SMALL(IF(輸入表單!$A$7:$A$648=AV$2,ROW($A$7:$A$648),65536),ROW(12:12)))&\"\"","v":""},{"$f":"INDEX(輸入表單!$B:$B,SMALL(IF(輸入表單!$A$7:$A$648=AW$2,ROW($A$7:$A$648),65536),ROW(12:12)))&\"\"","v":""},{"$f":"INDEX(輸入表單!$B:$B,SMALL(IF(輸入表單!$A$7:$A$648=AX$2,ROW($A$7:$A$648),65536),ROW(12:12)))&\"\"","v":""},{"$f":"INDEX(輸入表單!$B:$B,SMALL(IF(輸入表單!$A$7:$A$648=AY$2,ROW($A$7:$A$648),65536),ROW(12:12)))&\"\"","v":""},{"$f":"INDEX(輸入表單!$B:$B,SMALL(IF(輸入表單!$A$7:$A$648=AZ$2,ROW($A$7:$A$648),65536),ROW(12:12)))&\"\"","v":""},{"$f":"INDEX(輸入表單!$B:$B,SMALL(IF(輸入表單!$A$7:$A$648=BA$2,ROW($A$7:$A$648),65536),ROW(12:12)))&\"\"","v":""},{"$f":"INDEX(輸入表單!$B:$B,SMALL(IF(輸入表單!$A$7:$A$648=BB$2,ROW($A$7:$A$648),65536),ROW(12:12)))&\"\"","v":""},{"$f":"INDEX(輸入表單!$B:$B,SMALL(IF(輸入表單!$A$7:$A$648=BC$2,ROW($A$7:$A$648),65536),ROW(12:12)))&\"\"","v":""},{"$f":"INDEX(輸入表單!$B:$B,SMALL(IF(輸入表單!$A$7:$A$648=BD$2,ROW($A$7:$A$648),65536),ROW(12:12)))&\"\"","v":""},{"$f":"INDEX(輸入表單!$B:$B,SMALL(IF(輸入表單!$A$7:$A$648=BE$2,ROW($A$7:$A$648),65536),ROW(12:12)))&\"\"","v":""},{"$f":"INDEX(輸入表單!$B:$B,SMALL(IF(輸入表單!$A$7:$A$648=BF$2,ROW($A$7:$A$648),65536),ROW(12:12)))&\"\"","v":""},{"$f":"INDEX(輸入表單!$B:$B,SMALL(IF(輸入表單!$A$7:$A$648=BG$2,ROW($A$7:$A$648),65536),ROW(12:12)))&\"\"","v":""},{"$f":"INDEX(輸入表單!$B:$B,SMALL(IF(輸入表單!$A$7:$A$648=BH$2,ROW($A$7:$A$648),65536),ROW(12:12)))&\"\"","v":""},{"$f":"INDEX(輸入表單!$B:$B,SMALL(IF(輸入表單!$A$7:$A$648=BI$2,ROW($A$7:$A$648),65536),ROW(12:12)))&\"\"","v":""},{"$f":"INDEX(輸入表單!$B:$B,SMALL(IF(輸入表單!$A$7:$A$648=BJ$2,ROW($A$7:$A$648),65536),ROW(12:12)))&\"\"","v":""},{"$f":"INDEX(輸入表單!$B:$B,SMALL(IF(輸入表單!$A$7:$A$648=BK$2,ROW($A$7:$A$648),65536),ROW(12:12)))&\"\"","v":""},{"$f":"INDEX(輸入表單!$B:$B,SMALL(IF(輸入表單!$A$7:$A$648=BL$2,ROW($A$7:$A$648),65536),ROW(12:12)))&\"\"","v":""},{"$f":"INDEX(輸入表單!$B:$B,SMALL(IF(輸入表單!$A$7:$A$648=BM$2,ROW($A$7:$A$648),65536),ROW(12:12)))&\"\"","v":""},{"$f":"INDEX(輸入表單!$B:$B,SMALL(IF(輸入表單!$A$7:$A$648=BN$2,ROW($A$7:$A$648),65536),ROW(12:12)))&\"\"","v":""},{"$f":"INDEX(輸入表單!$B:$B,SMALL(IF(輸入表單!$A$7:$A$648=BO$2,ROW($A$7:$A$648),65536),ROW(12:12)))&\"\"","v":""},{"$f":"INDEX(輸入表單!$B:$B,SMALL(IF(輸入表單!$A$7:$A$648=BP$2,ROW($A$7:$A$648),65536),ROW(12:12)))&\"\"","v":""}]
[null,null,"1國語5","5.窗外的小麻雀",null,null,null,13,{"$f":"INDEX(輸入表單!$B:$B,SMALL(IF(輸入表單!$A$7:$A$648=I$2,ROW($A$7:$A$648),65536),ROW(13:13)))&\"\"","v":""},{"$f":"INDEX(輸入表單!$B:$B,SMALL(IF(輸入表單!$A$7:$A$648=J$2,ROW($A$7:$A$648),65536),ROW(13:13)))&\"\"","v":""},{"$f":"INDEX(輸入表單!$B:$B,SMALL(IF(輸入表單!$A$7:$A$648=K$2,ROW($A$7:$A$648),65536),ROW(13:13)))&\"\"","v":""},{"$f":"INDEX(輸入表單!$B:$B,SMALL(IF(輸入表單!$A$7:$A$648=L$2,ROW($A$7:$A$648),65536),ROW(13:13)))&\"\"","v":""},{"$f":"INDEX(輸入表單!$B:$B,SMALL(IF(輸入表單!$A$7:$A$648=M$2,ROW($A$7:$A$648),65536),ROW(13:13)))&\"\"","v":""},{"$f":"INDEX(輸入表單!$B:$B,SMALL(IF(輸入表單!$A$7:$A$648=N$2,ROW($A$7:$A$648),65536),ROW(13:13)))&\"\"","v":""},{"$f":"INDEX(輸入表單!$B:$B,SMALL(IF(輸入表單!$A$7:$A$648=O$2,ROW($A$7:$A$648),65536),ROW(13:13)))&\"\"","v":""},{"$f":"INDEX(輸入表單!$B:$B,SMALL(IF(輸入表單!$A$7:$A$648=P$2,ROW($A$7:$A$648),65536),ROW(13:13)))&\"\"","v":""},{"$f":"INDEX(輸入表單!$B:$B,SMALL(IF(輸入表單!$A$7:$A$648=Q$2,ROW($A$7:$A$648),65536),ROW(13:13)))&\"\"","v":""},{"$f":"INDEX(輸入表單!$B:$B,SMALL(IF(輸入表單!$A$7:$A$648=R$2,ROW($A$7:$A$648),65536),ROW(13:13)))&\"\"","v":""},{"$f":"INDEX(輸入表單!$B:$B,SMALL(IF(輸入表單!$A$7:$A$648=S$2,ROW($A$7:$A$648),65536),ROW(13:13)))&\"\"","v":""},{"$f":"INDEX(輸入表單!$B:$B,SMALL(IF(輸入表單!$A$7:$A$648=T$2,ROW($A$7:$A$648),65536),ROW(13:13)))&\"\"","v":""},{"$f":"INDEX(輸入表單!$B:$B,SMALL(IF(輸入表單!$A$7:$A$648=U$2,ROW($A$7:$A$648),65536),ROW(13:13)))&\"\"","v":""},{"$f":"INDEX(輸入表單!$B:$B,SMALL(IF(輸入表單!$A$7:$A$648=V$2,ROW($A$7:$A$648),65536),ROW(13:13)))&\"\"","v":""},{"$f":"INDEX(輸入表單!$B:$B,SMALL(IF(輸入表單!$A$7:$A$648=W$2,ROW($A$7:$A$648),65536),ROW(13:13)))&\"\"","v":""},{"$f":"INDEX(輸入表單!$B:$B,SMALL(IF(輸入表單!$A$7:$A$648=X$2,ROW($A$7:$A$648),65536),ROW(13:13)))&\"\"","v":""},{"$f":"INDEX(輸入表單!$B:$B,SMALL(IF(輸入表單!$A$7:$A$648=Y$2,ROW($A$7:$A$648),65536),ROW(13:13)))&\"\"","v":""},{"$f":"INDEX(輸入表單!$B:$B,SMALL(IF(輸入表單!$A$7:$A$648=Z$2,ROW($A$7:$A$648),65536),ROW(13:13)))&\"\"","v":""},{"$f":"INDEX(輸入表單!$B:$B,SMALL(IF(輸入表單!$A$7:$A$648=AA$2,ROW($A$7:$A$648),65536),ROW(13:13)))&\"\"","v":""},{"$f":"INDEX(輸入表單!$B:$B,SMALL(IF(輸入表單!$A$7:$A$648=AB$2,ROW($A$7:$A$648),65536),ROW(13:13)))&\"\"","v":""},{"$f":"INDEX(輸入表單!$B:$B,SMALL(IF(輸入表單!$A$7:$A$648=AC$2,ROW($A$7:$A$648),65536),ROW(13:13)))&\"\"","v":""},{"$f":"INDEX(輸入表單!$B:$B,SMALL(IF(輸入表單!$A$7:$A$648=AD$2,ROW($A$7:$A$648),65536),ROW(13:13)))&\"\"","v":""},{"$f":"INDEX(輸入表單!$B:$B,SMALL(IF(輸入表單!$A$7:$A$648=AE$2,ROW($A$7:$A$648),65536),ROW(13:13)))&\"\"","v":""},{"$f":"INDEX(輸入表單!$B:$B,SMALL(IF(輸入表單!$A$7:$A$648=AF$2,ROW($A$7:$A$648),65536),ROW(13:13)))&\"\"","v":""},{"$f":"INDEX(輸入表單!$B:$B,SMALL(IF(輸入表單!$A$7:$A$648=AG$2,ROW($A$7:$A$648),65536),ROW(13:13)))&\"\"","v":""},{"$f":"INDEX(輸入表單!$B:$B,SMALL(IF(輸入表單!$A$7:$A$648=AH$2,ROW($A$7:$A$648),65536),ROW(13:13)))&\"\"","v":""},{"$f":"INDEX(輸入表單!$B:$B,SMALL(IF(輸入表單!$A$7:$A$648=AI$2,ROW($A$7:$A$648),65536),ROW(13:13)))&\"\"","v":""},{"$f":"INDEX(輸入表單!$B:$B,SMALL(IF(輸入表單!$A$7:$A$648=AJ$2,ROW($A$7:$A$648),65536),ROW(13:13)))&\"\"","v":""},{"$f":"INDEX(輸入表單!$B:$B,SMALL(IF(輸入表單!$A$7:$A$648=AK$2,ROW($A$7:$A$648),65536),ROW(13:13)))&\"\"","v":""},{"$f":"INDEX(輸入表單!$B:$B,SMALL(IF(輸入表單!$A$7:$A$648=AL$2,ROW($A$7:$A$648),65536),ROW(13:13)))&\"\"","v":""},{"$f":"INDEX(輸入表單!$B:$B,SMALL(IF(輸入表單!$A$7:$A$648=AM$2,ROW($A$7:$A$648),65536),ROW(13:13)))&\"\"","v":""},{"$f":"INDEX(輸入表單!$B:$B,SMALL(IF(輸入表單!$A$7:$A$648=AN$2,ROW($A$7:$A$648),65536),ROW(13:13)))&\"\"","v":""},{"$f":"INDEX(輸入表單!$B:$B,SMALL(IF(輸入表單!$A$7:$A$648=AO$2,ROW($A$7:$A$648),65536),ROW(13:13)))&\"\"","v":""},{"$f":"INDEX(輸入表單!$B:$B,SMALL(IF(輸入表單!$A$7:$A$648=AP$2,ROW($A$7:$A$648),65536),ROW(13:13)))&\"\"","v":""},{"$f":"INDEX(輸入表單!$B:$B,SMALL(IF(輸入表單!$A$7:$A$648=AQ$2,ROW($A$7:$A$648),65536),ROW(13:13)))&\"\"","v":""},{"$f":"INDEX(輸入表單!$B:$B,SMALL(IF(輸入表單!$A$7:$A$648=AR$2,ROW($A$7:$A$648),65536),ROW(13:13)))&\"\"","v":""},{"$f":"INDEX(輸入表單!$B:$B,SMALL(IF(輸入表單!$A$7:$A$648=AS$2,ROW($A$7:$A$648),65536),ROW(13:13)))&\"\"","v":""},{"$f":"INDEX(輸入表單!$B:$B,SMALL(IF(輸入表單!$A$7:$A$648=AT$2,ROW($A$7:$A$648),65536),ROW(13:13)))&\"\"","v":""},{"$f":"INDEX(輸入表單!$B:$B,SMALL(IF(輸入表單!$A$7:$A$648=AU$2,ROW($A$7:$A$648),65536),ROW(13:13)))&\"\"","v":""},{"$f":"INDEX(輸入表單!$B:$B,SMALL(IF(輸入表單!$A$7:$A$648=AV$2,ROW($A$7:$A$648),65536),ROW(13:13)))&\"\"","v":""},{"$f":"INDEX(輸入表單!$B:$B,SMALL(IF(輸入表單!$A$7:$A$648=AW$2,ROW($A$7:$A$648),65536),ROW(13:13)))&\"\"","v":""},{"$f":"INDEX(輸入表單!$B:$B,SMALL(IF(輸入表單!$A$7:$A$648=AX$2,ROW($A$7:$A$648),65536),ROW(13:13)))&\"\"","v":""},{"$f":"INDEX(輸入表單!$B:$B,SMALL(IF(輸入表單!$A$7:$A$648=AY$2,ROW($A$7:$A$648),65536),ROW(13:13)))&\"\"","v":""},{"$f":"INDEX(輸入表單!$B:$B,SMALL(IF(輸入表單!$A$7:$A$648=AZ$2,ROW($A$7:$A$648),65536),ROW(13:13)))&\"\"","v":""},{"$f":"INDEX(輸入表單!$B:$B,SMALL(IF(輸入表單!$A$7:$A$648=BA$2,ROW($A$7:$A$648),65536),ROW(13:13)))&\"\"","v":""},{"$f":"INDEX(輸入表單!$B:$B,SMALL(IF(輸入表單!$A$7:$A$648=BB$2,ROW($A$7:$A$648),65536),ROW(13:13)))&\"\"","v":""},{"$f":"INDEX(輸入表單!$B:$B,SMALL(IF(輸入表單!$A$7:$A$648=BC$2,ROW($A$7:$A$648),65536),ROW(13:13)))&\"\"","v":""},{"$f":"INDEX(輸入表單!$B:$B,SMALL(IF(輸入表單!$A$7:$A$648=BD$2,ROW($A$7:$A$648),65536),ROW(13:13)))&\"\"","v":""},{"$f":"INDEX(輸入表單!$B:$B,SMALL(IF(輸入表單!$A$7:$A$648=BE$2,ROW($A$7:$A$648),65536),ROW(13:13)))&\"\"","v":""},{"$f":"INDEX(輸入表單!$B:$B,SMALL(IF(輸入表單!$A$7:$A$648=BF$2,ROW($A$7:$A$648),65536),ROW(13:13)))&\"\"","v":""},{"$f":"INDEX(輸入表單!$B:$B,SMALL(IF(輸入表單!$A$7:$A$648=BG$2,ROW($A$7:$A$648),65536),ROW(13:13)))&\"\"","v":""},{"$f":"INDEX(輸入表單!$B:$B,SMALL(IF(輸入表單!$A$7:$A$648=BH$2,ROW($A$7:$A$648),65536),ROW(13:13)))&\"\"","v":""},{"$f":"INDEX(輸入表單!$B:$B,SMALL(IF(輸入表單!$A$7:$A$648=BI$2,ROW($A$7:$A$648),65536),ROW(13:13)))&\"\"","v":""},{"$f":"INDEX(輸入表單!$B:$B,SMALL(IF(輸入表單!$A$7:$A$648=BJ$2,ROW($A$7:$A$648),65536),ROW(13:13)))&\"\"","v":""},{"$f":"INDEX(輸入表單!$B:$B,SMALL(IF(輸入表單!$A$7:$A$648=BK$2,ROW($A$7:$A$648),65536),ROW(13:13)))&\"\"","v":""},{"$f":"INDEX(輸入表單!$B:$B,SMALL(IF(輸入表單!$A$7:$A$648=BL$2,ROW($A$7:$A$648),65536),ROW(13:13)))&\"\"","v":""},{"$f":"INDEX(輸入表單!$B:$B,SMALL(IF(輸入表單!$A$7:$A$648=BM$2,ROW($A$7:$A$648),65536),ROW(13:13)))&\"\"","v":""},{"$f":"INDEX(輸入表單!$B:$B,SMALL(IF(輸入表單!$A$7:$A$648=BN$2,ROW($A$7:$A$648),65536),ROW(13:13)))&\"\"","v":""},{"$f":"INDEX(輸入表單!$B:$B,SMALL(IF(輸入表單!$A$7:$A$648=BO$2,ROW($A$7:$A$648),65536),ROW(13:13)))&\"\"","v":""},{"$f":"INDEX(輸入表單!$B:$B,SMALL(IF(輸入表單!$A$7:$A$648=BP$2,ROW($A$7:$A$648),65536),ROW(13:13)))&\"\"","v":""}]
[null,null,"1國語6","6.會動的亭子",null,null,null,14,{"$f":"INDEX(輸入表單!$B:$B,SMALL(IF(輸入表單!$A$7:$A$648=I$2,ROW($A$7:$A$648),65536),ROW(14:14)))&\"\"","v":""},{"$f":"INDEX(輸入表單!$B:$B,SMALL(IF(輸入表單!$A$7:$A$648=J$2,ROW($A$7:$A$648),65536),ROW(14:14)))&\"\"","v":""},{"$f":"INDEX(輸入表單!$B:$B,SMALL(IF(輸入表單!$A$7:$A$648=K$2,ROW($A$7:$A$648),65536),ROW(14:14)))&\"\"","v":""},{"$f":"INDEX(輸入表單!$B:$B,SMALL(IF(輸入表單!$A$7:$A$648=L$2,ROW($A$7:$A$648),65536),ROW(14:14)))&\"\"","v":""},{"$f":"INDEX(輸入表單!$B:$B,SMALL(IF(輸入表單!$A$7:$A$648=M$2,ROW($A$7:$A$648),65536),ROW(14:14)))&\"\"","v":""},{"$f":"INDEX(輸入表單!$B:$B,SMALL(IF(輸入表單!$A$7:$A$648=N$2,ROW($A$7:$A$648),65536),ROW(14:14)))&\"\"","v":""},{"$f":"INDEX(輸入表單!$B:$B,SMALL(IF(輸入表單!$A$7:$A$648=O$2,ROW($A$7:$A$648),65536),ROW(14:14)))&\"\"","v":""},{"$f":"INDEX(輸入表單!$B:$B,SMALL(IF(輸入表單!$A$7:$A$648=P$2,ROW($A$7:$A$648),65536),ROW(14:14)))&\"\"","v":""},{"$f":"INDEX(輸入表單!$B:$B,SMALL(IF(輸入表單!$A$7:$A$648=Q$2,ROW($A$7:$A$648),65536),ROW(14:14)))&\"\"","v":""},{"$f":"INDEX(輸入表單!$B:$B,SMALL(IF(輸入表單!$A$7:$A$648=R$2,ROW($A$7:$A$648),65536),ROW(14:14)))&\"\"","v":""},{"$f":"INDEX(輸入表單!$B:$B,SMALL(IF(輸入表單!$A$7:$A$648=S$2,ROW($A$7:$A$648),65536),ROW(14:14)))&\"\"","v":""},{"$f":"INDEX(輸入表單!$B:$B,SMALL(IF(輸入表單!$A$7:$A$648=T$2,ROW($A$7:$A$648),65536),ROW(14:14)))&\"\"","v":""},{"$f":"INDEX(輸入表單!$B:$B,SMALL(IF(輸入表單!$A$7:$A$648=U$2,ROW($A$7:$A$648),65536),ROW(14:14)))&\"\"","v":""},{"$f":"INDEX(輸入表單!$B:$B,SMALL(IF(輸入表單!$A$7:$A$648=V$2,ROW($A$7:$A$648),65536),ROW(14:14)))&\"\"","v":""},{"$f":"INDEX(輸入表單!$B:$B,SMALL(IF(輸入表單!$A$7:$A$648=W$2,ROW($A$7:$A$648),65536),ROW(14:14)))&\"\"","v":""},{"$f":"INDEX(輸入表單!$B:$B,SMALL(IF(輸入表單!$A$7:$A$648=X$2,ROW($A$7:$A$648),65536),ROW(14:14)))&\"\"","v":""},{"$f":"INDEX(輸入表單!$B:$B,SMALL(IF(輸入表單!$A$7:$A$648=Y$2,ROW($A$7:$A$648),65536),ROW(14:14)))&\"\"","v":""},{"$f":"INDEX(輸入表單!$B:$B,SMALL(IF(輸入表單!$A$7:$A$648=Z$2,ROW($A$7:$A$648),65536),ROW(14:14)))&\"\"","v":""},{"$f":"INDEX(輸入表單!$B:$B,SMALL(IF(輸入表單!$A$7:$A$648=AA$2,ROW($A$7:$A$648),65536),ROW(14:14)))&\"\"","v":""},{"$f":"INDEX(輸入表單!$B:$B,SMALL(IF(輸入表單!$A$7:$A$648=AB$2,ROW($A$7:$A$648),65536),ROW(14:14)))&\"\"","v":""},{"$f":"INDEX(輸入表單!$B:$B,SMALL(IF(輸入表單!$A$7:$A$648=AC$2,ROW($A$7:$A$648),65536),ROW(14:14)))&\"\"","v":""},{"$f":"INDEX(輸入表單!$B:$B,SMALL(IF(輸入表單!$A$7:$A$648=AD$2,ROW($A$7:$A$648),65536),ROW(14:14)))&\"\"","v":""},{"$f":"INDEX(輸入表單!$B:$B,SMALL(IF(輸入表單!$A$7:$A$648=AE$2,ROW($A$7:$A$648),65536),ROW(14:14)))&\"\"","v":""},{"$f":"INDEX(輸入表單!$B:$B,SMALL(IF(輸入表單!$A$7:$A$648=AF$2,ROW($A$7:$A$648),65536),ROW(14:14)))&\"\"","v":""},{"$f":"INDEX(輸入表單!$B:$B,SMALL(IF(輸入表單!$A$7:$A$648=AG$2,ROW($A$7:$A$648),65536),ROW(14:14)))&\"\"","v":""},{"$f":"INDEX(輸入表單!$B:$B,SMALL(IF(輸入表單!$A$7:$A$648=AH$2,ROW($A$7:$A$648),65536),ROW(14:14)))&\"\"","v":""},{"$f":"INDEX(輸入表單!$B:$B,SMALL(IF(輸入表單!$A$7:$A$648=AI$2,ROW($A$7:$A$648),65536),ROW(14:14)))&\"\"","v":""},{"$f":"INDEX(輸入表單!$B:$B,SMALL(IF(輸入表單!$A$7:$A$648=AJ$2,ROW($A$7:$A$648),65536),ROW(14:14)))&\"\"","v":""},{"$f":"INDEX(輸入表單!$B:$B,SMALL(IF(輸入表單!$A$7:$A$648=AK$2,ROW($A$7:$A$648),65536),ROW(14:14)))&\"\"","v":""},{"$f":"INDEX(輸入表單!$B:$B,SMALL(IF(輸入表單!$A$7:$A$648=AL$2,ROW($A$7:$A$648),65536),ROW(14:14)))&\"\"","v":""},{"$f":"INDEX(輸入表單!$B:$B,SMALL(IF(輸入表單!$A$7:$A$648=AM$2,ROW($A$7:$A$648),65536),ROW(14:14)))&\"\"","v":""},{"$f":"INDEX(輸入表單!$B:$B,SMALL(IF(輸入表單!$A$7:$A$648=AN$2,ROW($A$7:$A$648),65536),ROW(14:14)))&\"\"","v":""},{"$f":"INDEX(輸入表單!$B:$B,SMALL(IF(輸入表單!$A$7:$A$648=AO$2,ROW($A$7:$A$648),65536),ROW(14:14)))&\"\"","v":""},{"$f":"INDEX(輸入表單!$B:$B,SMALL(IF(輸入表單!$A$7:$A$648=AP$2,ROW($A$7:$A$648),65536),ROW(14:14)))&\"\"","v":""},{"$f":"INDEX(輸入表單!$B:$B,SMALL(IF(輸入表單!$A$7:$A$648=AQ$2,ROW($A$7:$A$648),65536),ROW(14:14)))&\"\"","v":""},{"$f":"INDEX(輸入表單!$B:$B,SMALL(IF(輸入表單!$A$7:$A$648=AR$2,ROW($A$7:$A$648),65536),ROW(14:14)))&\"\"","v":""},{"$f":"INDEX(輸入表單!$B:$B,SMALL(IF(輸入表單!$A$7:$A$648=AS$2,ROW($A$7:$A$648),65536),ROW(14:14)))&\"\"","v":""},{"$f":"INDEX(輸入表單!$B:$B,SMALL(IF(輸入表單!$A$7:$A$648=AT$2,ROW($A$7:$A$648),65536),ROW(14:14)))&\"\"","v":""},{"$f":"INDEX(輸入表單!$B:$B,SMALL(IF(輸入表單!$A$7:$A$648=AU$2,ROW($A$7:$A$648),65536),ROW(14:14)))&\"\"","v":""},{"$f":"INDEX(輸入表單!$B:$B,SMALL(IF(輸入表單!$A$7:$A$648=AV$2,ROW($A$7:$A$648),65536),ROW(14:14)))&\"\"","v":""},{"$f":"INDEX(輸入表單!$B:$B,SMALL(IF(輸入表單!$A$7:$A$648=AW$2,ROW($A$7:$A$648),65536),ROW(14:14)))&\"\"","v":""},{"$f":"INDEX(輸入表單!$B:$B,SMALL(IF(輸入表單!$A$7:$A$648=AX$2,ROW($A$7:$A$648),65536),ROW(14:14)))&\"\"","v":""},{"$f":"INDEX(輸入表單!$B:$B,SMALL(IF(輸入表單!$A$7:$A$648=AY$2,ROW($A$7:$A$648),65536),ROW(14:14)))&\"\"","v":""},{"$f":"INDEX(輸入表單!$B:$B,SMALL(IF(輸入表單!$A$7:$A$648=AZ$2,ROW($A$7:$A$648),65536),ROW(14:14)))&\"\"","v":""},{"$f":"INDEX(輸入表單!$B:$B,SMALL(IF(輸入表單!$A$7:$A$648=BA$2,ROW($A$7:$A$648),65536),ROW(14:14)))&\"\"","v":""},{"$f":"INDEX(輸入表單!$B:$B,SMALL(IF(輸入表單!$A$7:$A$648=BB$2,ROW($A$7:$A$648),65536),ROW(14:14)))&\"\"","v":""},{"$f":"INDEX(輸入表單!$B:$B,SMALL(IF(輸入表單!$A$7:$A$648=BC$2,ROW($A$7:$A$648),65536),ROW(14:14)))&\"\"","v":""},{"$f":"INDEX(輸入表單!$B:$B,SMALL(IF(輸入表單!$A$7:$A$648=BD$2,ROW($A$7:$A$648),65536),ROW(14:14)))&\"\"","v":""},{"$f":"INDEX(輸入表單!$B:$B,SMALL(IF(輸入表單!$A$7:$A$648=BE$2,ROW($A$7:$A$648),65536),ROW(14:14)))&\"\"","v":""},{"$f":"INDEX(輸入表單!$B:$B,SMALL(IF(輸入表單!$A$7:$A$648=BF$2,ROW($A$7:$A$648),65536),ROW(14:14)))&\"\"","v":""},{"$f":"INDEX(輸入表單!$B:$B,SMALL(IF(輸入表單!$A$7:$A$648=BG$2,ROW($A$7:$A$648),65536),ROW(14:14)))&\"\"","v":""},{"$f":"INDEX(輸入表單!$B:$B,SMALL(IF(輸入表單!$A$7:$A$648=BH$2,ROW($A$7:$A$648),65536),ROW(14:14)))&\"\"","v":""},{"$f":"INDEX(輸入表單!$B:$B,SMALL(IF(輸入表單!$A$7:$A$648=BI$2,ROW($A$7:$A$648),65536),ROW(14:14)))&\"\"","v":""},{"$f":"INDEX(輸入表單!$B:$B,SMALL(IF(輸入表單!$A$7:$A$648=BJ$2,ROW($A$7:$A$648),65536),ROW(14:14)))&\"\"","v":""},{"$f":"INDEX(輸入表單!$B:$B,SMALL(IF(輸入表單!$A$7:$A$648=BK$2,ROW($A$7:$A$648),65536),ROW(14:14)))&\"\"","v":""},{"$f":"INDEX(輸入表單!$B:$B,SMALL(IF(輸入表單!$A$7:$A$648=BL$2,ROW($A$7:$A$648),65536),ROW(14:14)))&\"\"","v":""},{"$f":"INDEX(輸入表單!$B:$B,SMALL(IF(輸入表單!$A$7:$A$648=BM$2,ROW($A$7:$A$648),65536),ROW(14:14)))&\"\"","v":""},{"$f":"INDEX(輸入表單!$B:$B,SMALL(IF(輸入表單!$A$7:$A$648=BN$2,ROW($A$7:$A$648),65536),ROW(14:14)))&\"\"","v":""},{"$f":"INDEX(輸入表單!$B:$B,SMALL(IF(輸入表單!$A$7:$A$648=BO$2,ROW($A$7:$A$648),65536),ROW(14:14)))&\"\"","v":""},{"$f":"INDEX(輸入表單!$B:$B,SMALL(IF(輸入表單!$A$7:$A$648=BP$2,ROW($A$7:$A$648),65536),ROW(14:14)))&\"\"","v":""}]
[null,null,"1國語7","7.毛毛蟲過河 + 統整活動二",null,null,null,15,{"$f":"INDEX(輸入表單!$B:$B,SMALL(IF(輸入表單!$A$7:$A$648=I$2,ROW($A$7:$A$648),65536),ROW(15:15)))&\"\"","v":""},{"$f":"INDEX(輸入表單!$B:$B,SMALL(IF(輸入表單!$A$7:$A$648=J$2,ROW($A$7:$A$648),65536),ROW(15:15)))&\"\"","v":""},{"$f":"INDEX(輸入表單!$B:$B,SMALL(IF(輸入表單!$A$7:$A$648=K$2,ROW($A$7:$A$648),65536),ROW(15:15)))&\"\"","v":""},{"$f":"INDEX(輸入表單!$B:$B,SMALL(IF(輸入表單!$A$7:$A$648=L$2,ROW($A$7:$A$648),65536),ROW(15:15)))&\"\"","v":""},{"$f":"INDEX(輸入表單!$B:$B,SMALL(IF(輸入表單!$A$7:$A$648=M$2,ROW($A$7:$A$648),65536),ROW(15:15)))&\"\"","v":""},{"$f":"INDEX(輸入表單!$B:$B,SMALL(IF(輸入表單!$A$7:$A$648=N$2,ROW($A$7:$A$648),65536),ROW(15:15)))&\"\"","v":""},{"$f":"INDEX(輸入表單!$B:$B,SMALL(IF(輸入表單!$A$7:$A$648=O$2,ROW($A$7:$A$648),65536),ROW(15:15)))&\"\"","v":""},{"$f":"INDEX(輸入表單!$B:$B,SMALL(IF(輸入表單!$A$7:$A$648=P$2,ROW($A$7:$A$648),65536),ROW(15:15)))&\"\"","v":""},{"$f":"INDEX(輸入表單!$B:$B,SMALL(IF(輸入表單!$A$7:$A$648=Q$2,ROW($A$7:$A$648),65536),ROW(15:15)))&\"\"","v":""},{"$f":"INDEX(輸入表單!$B:$B,SMALL(IF(輸入表單!$A$7:$A$648=R$2,ROW($A$7:$A$648),65536),ROW(15:15)))&\"\"","v":""},{"$f":"INDEX(輸入表單!$B:$B,SMALL(IF(輸入表單!$A$7:$A$648=S$2,ROW($A$7:$A$648),65536),ROW(15:15)))&\"\"","v":""},{"$f":"INDEX(輸入表單!$B:$B,SMALL(IF(輸入表單!$A$7:$A$648=T$2,ROW($A$7:$A$648),65536),ROW(15:15)))&\"\"","v":""},{"$f":"INDEX(輸入表單!$B:$B,SMALL(IF(輸入表單!$A$7:$A$648=U$2,ROW($A$7:$A$648),65536),ROW(15:15)))&\"\"","v":""},{"$f":"INDEX(輸入表單!$B:$B,SMALL(IF(輸入表單!$A$7:$A$648=V$2,ROW($A$7:$A$648),65536),ROW(15:15)))&\"\"","v":""},{"$f":"INDEX(輸入表單!$B:$B,SMALL(IF(輸入表單!$A$7:$A$648=W$2,ROW($A$7:$A$648),65536),ROW(15:15)))&\"\"","v":""},{"$f":"INDEX(輸入表單!$B:$B,SMALL(IF(輸入表單!$A$7:$A$648=X$2,ROW($A$7:$A$648),65536),ROW(15:15)))&\"\"","v":""},{"$f":"INDEX(輸入表單!$B:$B,SMALL(IF(輸入表單!$A$7:$A$648=Y$2,ROW($A$7:$A$648),65536),ROW(15:15)))&\"\"","v":""},{"$f":"INDEX(輸入表單!$B:$B,SMALL(IF(輸入表單!$A$7:$A$648=Z$2,ROW($A$7:$A$648),65536),ROW(15:15)))&\"\"","v":""},{"$f":"INDEX(輸入表單!$B:$B,SMALL(IF(輸入表單!$A$7:$A$648=AA$2,ROW($A$7:$A$648),65536),ROW(15:15)))&\"\"","v":""},{"$f":"INDEX(輸入表單!$B:$B,SMALL(IF(輸入表單!$A$7:$A$648=AB$2,ROW($A$7:$A$648),65536),ROW(15:15)))&\"\"","v":""},{"$f":"INDEX(輸入表單!$B:$B,SMALL(IF(輸入表單!$A$7:$A$648=AC$2,ROW($A$7:$A$648),65536),ROW(15:15)))&\"\"","v":""},{"$f":"INDEX(輸入表單!$B:$B,SMALL(IF(輸入表單!$A$7:$A$648=AD$2,ROW($A$7:$A$648),65536),ROW(15:15)))&\"\"","v":""},{"$f":"INDEX(輸入表單!$B:$B,SMALL(IF(輸入表單!$A$7:$A$648=AE$2,ROW($A$7:$A$648),65536),ROW(15:15)))&\"\"","v":""},{"$f":"INDEX(輸入表單!$B:$B,SMALL(IF(輸入表單!$A$7:$A$648=AF$2,ROW($A$7:$A$648),65536),ROW(15:15)))&\"\"","v":""},{"$f":"INDEX(輸入表單!$B:$B,SMALL(IF(輸入表單!$A$7:$A$648=AG$2,ROW($A$7:$A$648),65536),ROW(15:15)))&\"\"","v":""},{"$f":"INDEX(輸入表單!$B:$B,SMALL(IF(輸入表單!$A$7:$A$648=AH$2,ROW($A$7:$A$648),65536),ROW(15:15)))&\"\"","v":""},{"$f":"INDEX(輸入表單!$B:$B,SMALL(IF(輸入表單!$A$7:$A$648=AI$2,ROW($A$7:$A$648),65536),ROW(15:15)))&\"\"","v":""},{"$f":"INDEX(輸入表單!$B:$B,SMALL(IF(輸入表單!$A$7:$A$648=AJ$2,ROW($A$7:$A$648),65536),ROW(15:15)))&\"\"","v":""},{"$f":"INDEX(輸入表單!$B:$B,SMALL(IF(輸入表單!$A$7:$A$648=AK$2,ROW($A$7:$A$648),65536),ROW(15:15)))&\"\"","v":""},{"$f":"INDEX(輸入表單!$B:$B,SMALL(IF(輸入表單!$A$7:$A$648=AL$2,ROW($A$7:$A$648),65536),ROW(15:15)))&\"\"","v":""},{"$f":"INDEX(輸入表單!$B:$B,SMALL(IF(輸入表單!$A$7:$A$648=AM$2,ROW($A$7:$A$648),65536),ROW(15:15)))&\"\"","v":""},{"$f":"INDEX(輸入表單!$B:$B,SMALL(IF(輸入表單!$A$7:$A$648=AN$2,ROW($A$7:$A$648),65536),ROW(15:15)))&\"\"","v":""},{"$f":"INDEX(輸入表單!$B:$B,SMALL(IF(輸入表單!$A$7:$A$648=AO$2,ROW($A$7:$A$648),65536),ROW(15:15)))&\"\"","v":""},{"$f":"INDEX(輸入表單!$B:$B,SMALL(IF(輸入表單!$A$7:$A$648=AP$2,ROW($A$7:$A$648),65536),ROW(15:15)))&\"\"","v":""},{"$f":"INDEX(輸入表單!$B:$B,SMALL(IF(輸入表單!$A$7:$A$648=AQ$2,ROW($A$7:$A$648),65536),ROW(15:15)))&\"\"","v":""},{"$f":"INDEX(輸入表單!$B:$B,SMALL(IF(輸入表單!$A$7:$A$648=AR$2,ROW($A$7:$A$648),65536),ROW(15:15)))&\"\"","v":""},{"$f":"INDEX(輸入表單!$B:$B,SMALL(IF(輸入表單!$A$7:$A$648=AS$2,ROW($A$7:$A$648),65536),ROW(15:15)))&\"\"","v":""},{"$f":"INDEX(輸入表單!$B:$B,SMALL(IF(輸入表單!$A$7:$A$648=AT$2,ROW($A$7:$A$648),65536),ROW(15:15)))&\"\"","v":""},{"$f":"INDEX(輸入表單!$B:$B,SMALL(IF(輸入表單!$A$7:$A$648=AU$2,ROW($A$7:$A$648),65536),ROW(15:15)))&\"\"","v":""},{"$f":"INDEX(輸入表單!$B:$B,SMALL(IF(輸入表單!$A$7:$A$648=AV$2,ROW($A$7:$A$648),65536),ROW(15:15)))&\"\"","v":""},{"$f":"INDEX(輸入表單!$B:$B,SMALL(IF(輸入表單!$A$7:$A$648=AW$2,ROW($A$7:$A$648),65536),ROW(15:15)))&\"\"","v":""},{"$f":"INDEX(輸入表單!$B:$B,SMALL(IF(輸入表單!$A$7:$A$648=AX$2,ROW($A$7:$A$648),65536),ROW(15:15)))&\"\"","v":""},{"$f":"INDEX(輸入表單!$B:$B,SMALL(IF(輸入表單!$A$7:$A$648=AY$2,ROW($A$7:$A$648),65536),ROW(15:15)))&\"\"","v":""},{"$f":"INDEX(輸入表單!$B:$B,SMALL(IF(輸入表單!$A$7:$A$648=AZ$2,ROW($A$7:$A$648),65536),ROW(15:15)))&\"\"","v":""},{"$f":"INDEX(輸入表單!$B:$B,SMALL(IF(輸入表單!$A$7:$A$648=BA$2,ROW($A$7:$A$648),65536),ROW(15:15)))&\"\"","v":""},{"$f":"INDEX(輸入表單!$B:$B,SMALL(IF(輸入表單!$A$7:$A$648=BB$2,ROW($A$7:$A$648),65536),ROW(15:15)))&\"\"","v":""},{"$f":"INDEX(輸入表單!$B:$B,SMALL(IF(輸入表單!$A$7:$A$648=BC$2,ROW($A$7:$A$648),65536),ROW(15:15)))&\"\"","v":""},{"$f":"INDEX(輸入表單!$B:$B,SMALL(IF(輸入表單!$A$7:$A$648=BD$2,ROW($A$7:$A$648),65536),ROW(15:15)))&\"\"","v":""},{"$f":"INDEX(輸入表單!$B:$B,SMALL(IF(輸入表單!$A$7:$A$648=BE$2,ROW($A$7:$A$648),65536),ROW(15:15)))&\"\"","v":""},{"$f":"INDEX(輸入表單!$B:$B,SMALL(IF(輸入表單!$A$7:$A$648=BF$2,ROW($A$7:$A$648),65536),ROW(15:15)))&\"\"","v":""},{"$f":"INDEX(輸入表單!$B:$B,SMALL(IF(輸入表單!$A$7:$A$648=BG$2,ROW($A$7:$A$648),65536),ROW(15:15)))&\"\"","v":""},{"$f":"INDEX(輸入表單!$B:$B,SMALL(IF(輸入表單!$A$7:$A$648=BH$2,ROW($A$7:$A$648),65536),ROW(15:15)))&\"\"","v":""},{"$f":"INDEX(輸入表單!$B:$B,SMALL(IF(輸入表單!$A$7:$A$648=BI$2,ROW($A$7:$A$648),65536),ROW(15:15)))&\"\"","v":""},{"$f":"INDEX(輸入表單!$B:$B,SMALL(IF(輸入表單!$A$7:$A$648=BJ$2,ROW($A$7:$A$648),65536),ROW(15:15)))&\"\"","v":""},{"$f":"INDEX(輸入表單!$B:$B,SMALL(IF(輸入表單!$A$7:$A$648=BK$2,ROW($A$7:$A$648),65536),ROW(15:15)))&\"\"","v":""},{"$f":"INDEX(輸入表單!$B:$B,SMALL(IF(輸入表單!$A$7:$A$648=BL$2,ROW($A$7:$A$648),65536),ROW(15:15)))&\"\"","v":""},{"$f":"INDEX(輸入表單!$B:$B,SMALL(IF(輸入表單!$A$7:$A$648=BM$2,ROW($A$7:$A$648),65536),ROW(15:15)))&\"\"","v":""},{"$f":"INDEX(輸入表單!$B:$B,SMALL(IF(輸入表單!$A$7:$A$648=BN$2,ROW($A$7:$A$648),65536),ROW(15:15)))&\"\"","v":""},{"$f":"INDEX(輸入表單!$B:$B,SMALL(IF(輸入表單!$A$7:$A$648=BO$2,ROW($A$7:$A$648),65536),ROW(15:15)))&\"\"","v":""},{"$f":"INDEX(輸入表單!$B:$B,SMALL(IF(輸入表單!$A$7:$A$648=BP$2,ROW($A$7:$A$648),65536),ROW(15:15)))&\"\"","v":""}]
[null,null,"1國語8","8.好朋友的筆",null,null,null,16,{"$f":"INDEX(輸入表單!$B:$B,SMALL(IF(輸入表單!$A$7:$A$648=I$2,ROW($A$7:$A$648),65536),ROW(16:16)))&\"\"","v":""},{"$f":"INDEX(輸入表單!$B:$B,SMALL(IF(輸入表單!$A$7:$A$648=J$2,ROW($A$7:$A$648),65536),ROW(16:16)))&\"\"","v":""},{"$f":"INDEX(輸入表單!$B:$B,SMALL(IF(輸入表單!$A$7:$A$648=K$2,ROW($A$7:$A$648),65536),ROW(16:16)))&\"\"","v":""},{"$f":"INDEX(輸入表單!$B:$B,SMALL(IF(輸入表單!$A$7:$A$648=L$2,ROW($A$7:$A$648),65536),ROW(16:16)))&\"\"","v":""},{"$f":"INDEX(輸入表單!$B:$B,SMALL(IF(輸入表單!$A$7:$A$648=M$2,ROW($A$7:$A$648),65536),ROW(16:16)))&\"\"","v":""},{"$f":"INDEX(輸入表單!$B:$B,SMALL(IF(輸入表單!$A$7:$A$648=N$2,ROW($A$7:$A$648),65536),ROW(16:16)))&\"\"","v":""},{"$f":"INDEX(輸入表單!$B:$B,SMALL(IF(輸入表單!$A$7:$A$648=O$2,ROW($A$7:$A$648),65536),ROW(16:16)))&\"\"","v":""},{"$f":"INDEX(輸入表單!$B:$B,SMALL(IF(輸入表單!$A$7:$A$648=P$2,ROW($A$7:$A$648),65536),ROW(16:16)))&\"\"","v":""},{"$f":"INDEX(輸入表單!$B:$B,SMALL(IF(輸入表單!$A$7:$A$648=Q$2,ROW($A$7:$A$648),65536),ROW(16:16)))&\"\"","v":""},{"$f":"INDEX(輸入表單!$B:$B,SMALL(IF(輸入表單!$A$7:$A$648=R$2,ROW($A$7:$A$648),65536),ROW(16:16)))&\"\"","v":""},{"$f":"INDEX(輸入表單!$B:$B,SMALL(IF(輸入表單!$A$7:$A$648=S$2,ROW($A$7:$A$648),65536),ROW(16:16)))&\"\"","v":""},{"$f":"INDEX(輸入表單!$B:$B,SMALL(IF(輸入表單!$A$7:$A$648=T$2,ROW($A$7:$A$648),65536),ROW(16:16)))&\"\"","v":""},{"$f":"INDEX(輸入表單!$B:$B,SMALL(IF(輸入表單!$A$7:$A$648=U$2,ROW($A$7:$A$648),65536),ROW(16:16)))&\"\"","v":""},{"$f":"INDEX(輸入表單!$B:$B,SMALL(IF(輸入表單!$A$7:$A$648=V$2,ROW($A$7:$A$648),65536),ROW(16:16)))&\"\"","v":""},{"$f":"INDEX(輸入表單!$B:$B,SMALL(IF(輸入表單!$A$7:$A$648=W$2,ROW($A$7:$A$648),65536),ROW(16:16)))&\"\"","v":""},{"$f":"INDEX(輸入表單!$B:$B,SMALL(IF(輸入表單!$A$7:$A$648=X$2,ROW($A$7:$A$648),65536),ROW(16:16)))&\"\"","v":""},{"$f":"INDEX(輸入表單!$B:$B,SMALL(IF(輸入表單!$A$7:$A$648=Y$2,ROW($A$7:$A$648),65536),ROW(16:16)))&\"\"","v":""},{"$f":"INDEX(輸入表單!$B:$B,SMALL(IF(輸入表單!$A$7:$A$648=Z$2,ROW($A$7:$A$648),65536),ROW(16:16)))&\"\"","v":""},{"$f":"INDEX(輸入表單!$B:$B,SMALL(IF(輸入表單!$A$7:$A$648=AA$2,ROW($A$7:$A$648),65536),ROW(16:16)))&\"\"","v":""},{"$f":"INDEX(輸入表單!$B:$B,SMALL(IF(輸入表單!$A$7:$A$648=AB$2,ROW($A$7:$A$648),65536),ROW(16:16)))&\"\"","v":""},{"$f":"INDEX(輸入表單!$B:$B,SMALL(IF(輸入表單!$A$7:$A$648=AC$2,ROW($A$7:$A$648),65536),ROW(16:16)))&\"\"","v":""},{"$f":"INDEX(輸入表單!$B:$B,SMALL(IF(輸入表單!$A$7:$A$648=AD$2,ROW($A$7:$A$648),65536),ROW(16:16)))&\"\"","v":""},{"$f":"INDEX(輸入表單!$B:$B,SMALL(IF(輸入表單!$A$7:$A$648=AE$2,ROW($A$7:$A$648),65536),ROW(16:16)))&\"\"","v":""},{"$f":"INDEX(輸入表單!$B:$B,SMALL(IF(輸入表單!$A$7:$A$648=AF$2,ROW($A$7:$A$648),65536),ROW(16:16)))&\"\"","v":""},{"$f":"INDEX(輸入表單!$B:$B,SMALL(IF(輸入表單!$A$7:$A$648=AG$2,ROW($A$7:$A$648),65536),ROW(16:16)))&\"\"","v":""},{"$f":"INDEX(輸入表單!$B:$B,SMALL(IF(輸入表單!$A$7:$A$648=AH$2,ROW($A$7:$A$648),65536),ROW(16:16)))&\"\"","v":""},{"$f":"INDEX(輸入表單!$B:$B,SMALL(IF(輸入表單!$A$7:$A$648=AI$2,ROW($A$7:$A$648),65536),ROW(16:16)))&\"\"","v":""},{"$f":"INDEX(輸入表單!$B:$B,SMALL(IF(輸入表單!$A$7:$A$648=AJ$2,ROW($A$7:$A$648),65536),ROW(16:16)))&\"\"","v":""},{"$f":"INDEX(輸入表單!$B:$B,SMALL(IF(輸入表單!$A$7:$A$648=AK$2,ROW($A$7:$A$648),65536),ROW(16:16)))&\"\"","v":""},{"$f":"INDEX(輸入表單!$B:$B,SMALL(IF(輸入表單!$A$7:$A$648=AL$2,ROW($A$7:$A$648),65536),ROW(16:16)))&\"\"","v":""},{"$f":"INDEX(輸入表單!$B:$B,SMALL(IF(輸入表單!$A$7:$A$648=AM$2,ROW($A$7:$A$648),65536),ROW(16:16)))&\"\"","v":""},{"$f":"INDEX(輸入表單!$B:$B,SMALL(IF(輸入表單!$A$7:$A$648=AN$2,ROW($A$7:$A$648),65536),ROW(16:16)))&\"\"","v":""},{"$f":"INDEX(輸入表單!$B:$B,SMALL(IF(輸入表單!$A$7:$A$648=AO$2,ROW($A$7:$A$648),65536),ROW(16:16)))&\"\"","v":""},{"$f":"INDEX(輸入表單!$B:$B,SMALL(IF(輸入表單!$A$7:$A$648=AP$2,ROW($A$7:$A$648),65536),ROW(16:16)))&\"\"","v":""},{"$f":"INDEX(輸入表單!$B:$B,SMALL(IF(輸入表單!$A$7:$A$648=AQ$2,ROW($A$7:$A$648),65536),ROW(16:16)))&\"\"","v":""},{"$f":"INDEX(輸入表單!$B:$B,SMALL(IF(輸入表單!$A$7:$A$648=AR$2,ROW($A$7:$A$648),65536),ROW(16:16)))&\"\"","v":""},{"$f":"INDEX(輸入表單!$B:$B,SMALL(IF(輸入表單!$A$7:$A$648=AS$2,ROW($A$7:$A$648),65536),ROW(16:16)))&\"\"","v":""},{"$f":"INDEX(輸入表單!$B:$B,SMALL(IF(輸入表單!$A$7:$A$648=AT$2,ROW($A$7:$A$648),65536),ROW(16:16)))&\"\"","v":""},{"$f":"INDEX(輸入表單!$B:$B,SMALL(IF(輸入表單!$A$7:$A$648=AU$2,ROW($A$7:$A$648),65536),ROW(16:16)))&\"\"","v":""},{"$f":"INDEX(輸入表單!$B:$B,SMALL(IF(輸入表單!$A$7:$A$648=AV$2,ROW($A$7:$A$648),65536),ROW(16:16)))&\"\"","v":""},{"$f":"INDEX(輸入表單!$B:$B,SMALL(IF(輸入表單!$A$7:$A$648=AW$2,ROW($A$7:$A$648),65536),ROW(16:16)))&\"\"","v":""},{"$f":"INDEX(輸入表單!$B:$B,SMALL(IF(輸入表單!$A$7:$A$648=AX$2,ROW($A$7:$A$648),65536),ROW(16:16)))&\"\"","v":""},{"$f":"INDEX(輸入表單!$B:$B,SMALL(IF(輸入表單!$A$7:$A$648=AY$2,ROW($A$7:$A$648),65536),ROW(16:16)))&\"\"","v":""},{"$f":"INDEX(輸入表單!$B:$B,SMALL(IF(輸入表單!$A$7:$A$648=AZ$2,ROW($A$7:$A$648),65536),ROW(16:16)))&\"\"","v":""},{"$f":"INDEX(輸入表單!$B:$B,SMALL(IF(輸入表單!$A$7:$A$648=BA$2,ROW($A$7:$A$648),65536),ROW(16:16)))&\"\"","v":""},{"$f":"INDEX(輸入表單!$B:$B,SMALL(IF(輸入表單!$A$7:$A$648=BB$2,ROW($A$7:$A$648),65536),ROW(16:16)))&\"\"","v":""},{"$f":"INDEX(輸入表單!$B:$B,SMALL(IF(輸入表單!$A$7:$A$648=BC$2,ROW($A$7:$A$648),65536),ROW(16:16)))&\"\"","v":""},{"$f":"INDEX(輸入表單!$B:$B,SMALL(IF(輸入表單!$A$7:$A$648=BD$2,ROW($A$7:$A$648),65536),ROW(16:16)))&\"\"","v":""},{"$f":"INDEX(輸入表單!$B:$B,SMALL(IF(輸入表單!$A$7:$A$648=BE$2,ROW($A$7:$A$648),65536),ROW(16:16)))&\"\"","v":""},{"$f":"INDEX(輸入表單!$B:$B,SMALL(IF(輸入表單!$A$7:$A$648=BF$2,ROW($A$7:$A$648),65536),ROW(16:16)))&\"\"","v":""},{"$f":"INDEX(輸入表單!$B:$B,SMALL(IF(輸入表單!$A$7:$A$648=BG$2,ROW($A$7:$A$648),65536),ROW(16:16)))&\"\"","v":""},{"$f":"INDEX(輸入表單!$B:$B,SMALL(IF(輸入表單!$A$7:$A$648=BH$2,ROW($A$7:$A$648),65536),ROW(16:16)))&\"\"","v":""},{"$f":"INDEX(輸入表單!$B:$B,SMALL(IF(輸入表單!$A$7:$A$648=BI$2,ROW($A$7:$A$648),65536),ROW(16:16)))&\"\"","v":""},{"$f":"INDEX(輸入表單!$B:$B,SMALL(IF(輸入表單!$A$7:$A$648=BJ$2,ROW($A$7:$A$648),65536),ROW(16:16)))&\"\"","v":""},{"$f":"INDEX(輸入表單!$B:$B,SMALL(IF(輸入表單!$A$7:$A$648=BK$2,ROW($A$7:$A$648),65536),ROW(16:16)))&\"\"","v":""},{"$f":"INDEX(輸入表單!$B:$B,SMALL(IF(輸入表單!$A$7:$A$648=BL$2,ROW($A$7:$A$648),65536),ROW(16:16)))&\"\"","v":""},{"$f":"INDEX(輸入表單!$B:$B,SMALL(IF(輸入表單!$A$7:$A$648=BM$2,ROW($A$7:$A$648),65536),ROW(16:16)))&\"\"","v":""},{"$f":"INDEX(輸入表單!$B:$B,SMALL(IF(輸入表單!$A$7:$A$648=BN$2,ROW($A$7:$A$648),65536),ROW(16:16)))&\"\"","v":""},{"$f":"INDEX(輸入表單!$B:$B,SMALL(IF(輸入表單!$A$7:$A$648=BO$2,ROW($A$7:$A$648),65536),ROW(16:16)))&\"\"","v":""},{"$f":"INDEX(輸入表單!$B:$B,SMALL(IF(輸入表單!$A$7:$A$648=BP$2,ROW($A$7:$A$648),65536),ROW(16:16)))&\"\"","v":""}]
[null,null,"1國語9","9.數不完的泡泡",null,null,null,17,{"$f":"INDEX(輸入表單!$B:$B,SMALL(IF(輸入表單!$A$7:$A$648=I$2,ROW($A$7:$A$648),65536),ROW(17:17)))&\"\"","v":""},{"$f":"INDEX(輸入表單!$B:$B,SMALL(IF(輸入表單!$A$7:$A$648=J$2,ROW($A$7:$A$648),65536),ROW(17:17)))&\"\"","v":""},{"$f":"INDEX(輸入表單!$B:$B,SMALL(IF(輸入表單!$A$7:$A$648=K$2,ROW($A$7:$A$648),65536),ROW(17:17)))&\"\"","v":""},{"$f":"INDEX(輸入表單!$B:$B,SMALL(IF(輸入表單!$A$7:$A$648=L$2,ROW($A$7:$A$648),65536),ROW(17:17)))&\"\"","v":""},{"$f":"INDEX(輸入表單!$B:$B,SMALL(IF(輸入表單!$A$7:$A$648=M$2,ROW($A$7:$A$648),65536),ROW(17:17)))&\"\"","v":""},{"$f":"INDEX(輸入表單!$B:$B,SMALL(IF(輸入表單!$A$7:$A$648=N$2,ROW($A$7:$A$648),65536),ROW(17:17)))&\"\"","v":""},{"$f":"INDEX(輸入表單!$B:$B,SMALL(IF(輸入表單!$A$7:$A$648=O$2,ROW($A$7:$A$648),65536),ROW(17:17)))&\"\"","v":""},{"$f":"INDEX(輸入表單!$B:$B,SMALL(IF(輸入表單!$A$7:$A$648=P$2,ROW($A$7:$A$648),65536),ROW(17:17)))&\"\"","v":""},{"$f":"INDEX(輸入表單!$B:$B,SMALL(IF(輸入表單!$A$7:$A$648=Q$2,ROW($A$7:$A$648),65536),ROW(17:17)))&\"\"","v":""},{"$f":"INDEX(輸入表單!$B:$B,SMALL(IF(輸入表單!$A$7:$A$648=R$2,ROW($A$7:$A$648),65536),ROW(17:17)))&\"\"","v":""},{"$f":"INDEX(輸入表單!$B:$B,SMALL(IF(輸入表單!$A$7:$A$648=S$2,ROW($A$7:$A$648),65536),ROW(17:17)))&\"\"","v":""},{"$f":"INDEX(輸入表單!$B:$B,SMALL(IF(輸入表單!$A$7:$A$648=T$2,ROW($A$7:$A$648),65536),ROW(17:17)))&\"\"","v":""},{"$f":"INDEX(輸入表單!$B:$B,SMALL(IF(輸入表單!$A$7:$A$648=U$2,ROW($A$7:$A$648),65536),ROW(17:17)))&\"\"","v":""},{"$f":"INDEX(輸入表單!$B:$B,SMALL(IF(輸入表單!$A$7:$A$648=V$2,ROW($A$7:$A$648),65536),ROW(17:17)))&\"\"","v":""},{"$f":"INDEX(輸入表單!$B:$B,SMALL(IF(輸入表單!$A$7:$A$648=W$2,ROW($A$7:$A$648),65536),ROW(17:17)))&\"\"","v":""},{"$f":"INDEX(輸入表單!$B:$B,SMALL(IF(輸入表單!$A$7:$A$648=X$2,ROW($A$7:$A$648),65536),ROW(17:17)))&\"\"","v":""},{"$f":"INDEX(輸入表單!$B:$B,SMALL(IF(輸入表單!$A$7:$A$648=Y$2,ROW($A$7:$A$648),65536),ROW(17:17)))&\"\"","v":""},{"$f":"INDEX(輸入表單!$B:$B,SMALL(IF(輸入表單!$A$7:$A$648=Z$2,ROW($A$7:$A$648),65536),ROW(17:17)))&\"\"","v":""},{"$f":"INDEX(輸入表單!$B:$B,SMALL(IF(輸入表單!$A$7:$A$648=AA$2,ROW($A$7:$A$648),65536),ROW(17:17)))&\"\"","v":""},{"$f":"INDEX(輸入表單!$B:$B,SMALL(IF(輸入表單!$A$7:$A$648=AB$2,ROW($A$7:$A$648),65536),ROW(17:17)))&\"\"","v":""},{"$f":"INDEX(輸入表單!$B:$B,SMALL(IF(輸入表單!$A$7:$A$648=AC$2,ROW($A$7:$A$648),65536),ROW(17:17)))&\"\"","v":""},{"$f":"INDEX(輸入表單!$B:$B,SMALL(IF(輸入表單!$A$7:$A$648=AD$2,ROW($A$7:$A$648),65536),ROW(17:17)))&\"\"","v":""},{"$f":"INDEX(輸入表單!$B:$B,SMALL(IF(輸入表單!$A$7:$A$648=AE$2,ROW($A$7:$A$648),65536),ROW(17:17)))&\"\"","v":""},{"$f":"INDEX(輸入表單!$B:$B,SMALL(IF(輸入表單!$A$7:$A$648=AF$2,ROW($A$7:$A$648),65536),ROW(17:17)))&\"\"","v":""},{"$f":"INDEX(輸入表單!$B:$B,SMALL(IF(輸入表單!$A$7:$A$648=AG$2,ROW($A$7:$A$648),65536),ROW(17:17)))&\"\"","v":""},{"$f":"INDEX(輸入表單!$B:$B,SMALL(IF(輸入表單!$A$7:$A$648=AH$2,ROW($A$7:$A$648),65536),ROW(17:17)))&\"\"","v":""},{"$f":"INDEX(輸入表單!$B:$B,SMALL(IF(輸入表單!$A$7:$A$648=AI$2,ROW($A$7:$A$648),65536),ROW(17:17)))&\"\"","v":""},{"$f":"INDEX(輸入表單!$B:$B,SMALL(IF(輸入表單!$A$7:$A$648=AJ$2,ROW($A$7:$A$648),65536),ROW(17:17)))&\"\"","v":""},{"$f":"INDEX(輸入表單!$B:$B,SMALL(IF(輸入表單!$A$7:$A$648=AK$2,ROW($A$7:$A$648),65536),ROW(17:17)))&\"\"","v":""},{"$f":"INDEX(輸入表單!$B:$B,SMALL(IF(輸入表單!$A$7:$A$648=AL$2,ROW($A$7:$A$648),65536),ROW(17:17)))&\"\"","v":""},{"$f":"INDEX(輸入表單!$B:$B,SMALL(IF(輸入表單!$A$7:$A$648=AM$2,ROW($A$7:$A$648),65536),ROW(17:17)))&\"\"","v":""},{"$f":"INDEX(輸入表單!$B:$B,SMALL(IF(輸入表單!$A$7:$A$648=AN$2,ROW($A$7:$A$648),65536),ROW(17:17)))&\"\"","v":""},{"$f":"INDEX(輸入表單!$B:$B,SMALL(IF(輸入表單!$A$7:$A$648=AO$2,ROW($A$7:$A$648),65536),ROW(17:17)))&\"\"","v":""},{"$f":"INDEX(輸入表單!$B:$B,SMALL(IF(輸入表單!$A$7:$A$648=AP$2,ROW($A$7:$A$648),65536),ROW(17:17)))&\"\"","v":""},{"$f":"INDEX(輸入表單!$B:$B,SMALL(IF(輸入表單!$A$7:$A$648=AQ$2,ROW($A$7:$A$648),65536),ROW(17:17)))&\"\"","v":""},{"$f":"INDEX(輸入表單!$B:$B,SMALL(IF(輸入表單!$A$7:$A$648=AR$2,ROW($A$7:$A$648),65536),ROW(17:17)))&\"\"","v":""},{"$f":"INDEX(輸入表單!$B:$B,SMALL(IF(輸入表單!$A$7:$A$648=AS$2,ROW($A$7:$A$648),65536),ROW(17:17)))&\"\"","v":""},{"$f":"INDEX(輸入表單!$B:$B,SMALL(IF(輸入表單!$A$7:$A$648=AT$2,ROW($A$7:$A$648),65536),ROW(17:17)))&\"\"","v":""},{"$f":"INDEX(輸入表單!$B:$B,SMALL(IF(輸入表單!$A$7:$A$648=AU$2,ROW($A$7:$A$648),65536),ROW(17:17)))&\"\"","v":""},{"$f":"INDEX(輸入表單!$B:$B,SMALL(IF(輸入表單!$A$7:$A$648=AV$2,ROW($A$7:$A$648),65536),ROW(17:17)))&\"\"","v":""},{"$f":"INDEX(輸入表單!$B:$B,SMALL(IF(輸入表單!$A$7:$A$648=AW$2,ROW($A$7:$A$648),65536),ROW(17:17)))&\"\"","v":""},{"$f":"INDEX(輸入表單!$B:$B,SMALL(IF(輸入表單!$A$7:$A$648=AX$2,ROW($A$7:$A$648),65536),ROW(17:17)))&\"\"","v":""},{"$f":"INDEX(輸入表單!$B:$B,SMALL(IF(輸入表單!$A$7:$A$648=AY$2,ROW($A$7:$A$648),65536),ROW(17:17)))&\"\"","v":""},{"$f":"INDEX(輸入表單!$B:$B,SMALL(IF(輸入表單!$A$7:$A$648=AZ$2,ROW($A$7:$A$648),65536),ROW(17:17)))&\"\"","v":""},{"$f":"INDEX(輸入表單!$B:$B,SMALL(IF(輸入表單!$A$7:$A$648=BA$2,ROW($A$7:$A$648),65536),ROW(17:17)))&\"\"","v":""},{"$f":"INDEX(輸入表單!$B:$B,SMALL(IF(輸入表單!$A$7:$A$648=BB$2,ROW($A$7:$A$648),65536),ROW(17:17)))&\"\"","v":""},{"$f":"INDEX(輸入表單!$B:$B,SMALL(IF(輸入表單!$A$7:$A$648=BC$2,ROW($A$7:$A$648),65536),ROW(17:17)))&\"\"","v":""},{"$f":"INDEX(輸入表單!$B:$B,SMALL(IF(輸入表單!$A$7:$A$648=BD$2,ROW($A$7:$A$648),65536),ROW(17:17)))&\"\"","v":""},{"$f":"INDEX(輸入表單!$B:$B,SMALL(IF(輸入表單!$A$7:$A$648=BE$2,ROW($A$7:$A$648),65536),ROW(17:17)))&\"\"","v":""},{"$f":"INDEX(輸入表單!$B:$B,SMALL(IF(輸入表單!$A$7:$A$648=BF$2,ROW($A$7:$A$648),65536),ROW(17:17)))&\"\"","v":""},{"$f":"INDEX(輸入表單!$B:$B,SMALL(IF(輸入表單!$A$7:$A$648=BG$2,ROW($A$7:$A$648),65536),ROW(17:17)))&\"\"","v":""},{"$f":"INDEX(輸入表單!$B:$B,SMALL(IF(輸入表單!$A$7:$A$648=BH$2,ROW($A$7:$A$648),65536),ROW(17:17)))&\"\"","v":""},{"$f":"INDEX(輸入表單!$B:$B,SMALL(IF(輸入表單!$A$7:$A$648=BI$2,ROW($A$7:$A$648),65536),ROW(17:17)))&\"\"","v":""},{"$f":"INDEX(輸入表單!$B:$B,SMALL(IF(輸入表單!$A$7:$A$648=BJ$2,ROW($A$7:$A$648),65536),ROW(17:17)))&\"\"","v":""},{"$f":"INDEX(輸入表單!$B:$B,SMALL(IF(輸入表單!$A$7:$A$648=BK$2,ROW($A$7:$A$648),65536),ROW(17:17)))&\"\"","v":""},{"$f":"INDEX(輸入表單!$B:$B,SMALL(IF(輸入表單!$A$7:$A$648=BL$2,ROW($A$7:$A$648),65536),ROW(17:17)))&\"\"","v":""},{"$f":"INDEX(輸入表單!$B:$B,SMALL(IF(輸入表單!$A$7:$A$648=BM$2,ROW($A$7:$A$648),65536),ROW(17:17)))&\"\"","v":""},{"$f":"INDEX(輸入表單!$B:$B,SMALL(IF(輸入表單!$A$7:$A$648=BN$2,ROW($A$7:$A$648),65536),ROW(17:17)))&\"\"","v":""},{"$f":"INDEX(輸入表單!$B:$B,SMALL(IF(輸入表單!$A$7:$A$648=BO$2,ROW($A$7:$A$648),65536),ROW(17:17)))&\"\"","v":""},{"$f":"INDEX(輸入表單!$B:$B,SMALL(IF(輸入表單!$A$7:$A$648=BP$2,ROW($A$7:$A$648),65536),ROW(17:17)))&\"\"","v":""}]
[null,null,"1國語10","10.兩張卡片 + 統整活動三",null,null,null,18,{"$f":"INDEX(輸入表單!$B:$B,SMALL(IF(輸入表單!$A$7:$A$648=I$2,ROW($A$7:$A$648),65536),ROW(18:18)))&\"\"","v":""},{"$f":"INDEX(輸入表單!$B:$B,SMALL(IF(輸入表單!$A$7:$A$648=J$2,ROW($A$7:$A$648),65536),ROW(18:18)))&\"\"","v":""},{"$f":"INDEX(輸入表單!$B:$B,SMALL(IF(輸入表單!$A$7:$A$648=K$2,ROW($A$7:$A$648),65536),ROW(18:18)))&\"\"","v":""},{"$f":"INDEX(輸入表單!$B:$B,SMALL(IF(輸入表單!$A$7:$A$648=L$2,ROW($A$7:$A$648),65536),ROW(18:18)))&\"\"","v":""},{"$f":"INDEX(輸入表單!$B:$B,SMALL(IF(輸入表單!$A$7:$A$648=M$2,ROW($A$7:$A$648),65536),ROW(18:18)))&\"\"","v":""},{"$f":"INDEX(輸入表單!$B:$B,SMALL(IF(輸入表單!$A$7:$A$648=N$2,ROW($A$7:$A$648),65536),ROW(18:18)))&\"\"","v":""},{"$f":"INDEX(輸入表單!$B:$B,SMALL(IF(輸入表單!$A$7:$A$648=O$2,ROW($A$7:$A$648),65536),ROW(18:18)))&\"\"","v":""},{"$f":"INDEX(輸入表單!$B:$B,SMALL(IF(輸入表單!$A$7:$A$648=P$2,ROW($A$7:$A$648),65536),ROW(18:18)))&\"\"","v":""},{"$f":"INDEX(輸入表單!$B:$B,SMALL(IF(輸入表單!$A$7:$A$648=Q$2,ROW($A$7:$A$648),65536),ROW(18:18)))&\"\"","v":""},{"$f":"INDEX(輸入表單!$B:$B,SMALL(IF(輸入表單!$A$7:$A$648=R$2,ROW($A$7:$A$648),65536),ROW(18:18)))&\"\"","v":""},{"$f":"INDEX(輸入表單!$B:$B,SMALL(IF(輸入表單!$A$7:$A$648=S$2,ROW($A$7:$A$648),65536),ROW(18:18)))&\"\"","v":""},{"$f":"INDEX(輸入表單!$B:$B,SMALL(IF(輸入表單!$A$7:$A$648=T$2,ROW($A$7:$A$648),65536),ROW(18:18)))&\"\"","v":""},{"$f":"INDEX(輸入表單!$B:$B,SMALL(IF(輸入表單!$A$7:$A$648=U$2,ROW($A$7:$A$648),65536),ROW(18:18)))&\"\"","v":""},{"$f":"INDEX(輸入表單!$B:$B,SMALL(IF(輸入表單!$A$7:$A$648=V$2,ROW($A$7:$A$648),65536),ROW(18:18)))&\"\"","v":""},{"$f":"INDEX(輸入表單!$B:$B,SMALL(IF(輸入表單!$A$7:$A$648=W$2,ROW($A$7:$A$648),65536),ROW(18:18)))&\"\"","v":""},{"$f":"INDEX(輸入表單!$B:$B,SMALL(IF(輸入表單!$A$7:$A$648=X$2,ROW($A$7:$A$648),65536),ROW(18:18)))&\"\"","v":""},{"$f":"INDEX(輸入表單!$B:$B,SMALL(IF(輸入表單!$A$7:$A$648=Y$2,ROW($A$7:$A$648),65536),ROW(18:18)))&\"\"","v":""},{"$f":"INDEX(輸入表單!$B:$B,SMALL(IF(輸入表單!$A$7:$A$648=Z$2,ROW($A$7:$A$648),65536),ROW(18:18)))&\"\"","v":""},{"$f":"INDEX(輸入表單!$B:$B,SMALL(IF(輸入表單!$A$7:$A$648=AA$2,ROW($A$7:$A$648),65536),ROW(18:18)))&\"\"","v":""},{"$f":"INDEX(輸入表單!$B:$B,SMALL(IF(輸入表單!$A$7:$A$648=AB$2,ROW($A$7:$A$648),65536),ROW(18:18)))&\"\"","v":""},{"$f":"INDEX(輸入表單!$B:$B,SMALL(IF(輸入表單!$A$7:$A$648=AC$2,ROW($A$7:$A$648),65536),ROW(18:18)))&\"\"","v":""},{"$f":"INDEX(輸入表單!$B:$B,SMALL(IF(輸入表單!$A$7:$A$648=AD$2,ROW($A$7:$A$648),65536),ROW(18:18)))&\"\"","v":""},{"$f":"INDEX(輸入表單!$B:$B,SMALL(IF(輸入表單!$A$7:$A$648=AE$2,ROW($A$7:$A$648),65536),ROW(18:18)))&\"\"","v":""},{"$f":"INDEX(輸入表單!$B:$B,SMALL(IF(輸入表單!$A$7:$A$648=AF$2,ROW($A$7:$A$648),65536),ROW(18:18)))&\"\"","v":""},{"$f":"INDEX(輸入表單!$B:$B,SMALL(IF(輸入表單!$A$7:$A$648=AG$2,ROW($A$7:$A$648),65536),ROW(18:18)))&\"\"","v":""},{"$f":"INDEX(輸入表單!$B:$B,SMALL(IF(輸入表單!$A$7:$A$648=AH$2,ROW($A$7:$A$648),65536),ROW(18:18)))&\"\"","v":""},{"$f":"INDEX(輸入表單!$B:$B,SMALL(IF(輸入表單!$A$7:$A$648=AI$2,ROW($A$7:$A$648),65536),ROW(18:18)))&\"\"","v":""},{"$f":"INDEX(輸入表單!$B:$B,SMALL(IF(輸入表單!$A$7:$A$648=AJ$2,ROW($A$7:$A$648),65536),ROW(18:18)))&\"\"","v":""},{"$f":"INDEX(輸入表單!$B:$B,SMALL(IF(輸入表單!$A$7:$A$648=AK$2,ROW($A$7:$A$648),65536),ROW(18:18)))&\"\"","v":""},{"$f":"INDEX(輸入表單!$B:$B,SMALL(IF(輸入表單!$A$7:$A$648=AL$2,ROW($A$7:$A$648),65536),ROW(18:18)))&\"\"","v":""},{"$f":"INDEX(輸入表單!$B:$B,SMALL(IF(輸入表單!$A$7:$A$648=AM$2,ROW($A$7:$A$648),65536),ROW(18:18)))&\"\"","v":""},{"$f":"INDEX(輸入表單!$B:$B,SMALL(IF(輸入表單!$A$7:$A$648=AN$2,ROW($A$7:$A$648),65536),ROW(18:18)))&\"\"","v":""},{"$f":"INDEX(輸入表單!$B:$B,SMALL(IF(輸入表單!$A$7:$A$648=AO$2,ROW($A$7:$A$648),65536),ROW(18:18)))&\"\"","v":""},{"$f":"INDEX(輸入表單!$B:$B,SMALL(IF(輸入表單!$A$7:$A$648=AP$2,ROW($A$7:$A$648),65536),ROW(18:18)))&\"\"","v":""},{"$f":"INDEX(輸入表單!$B:$B,SMALL(IF(輸入表單!$A$7:$A$648=AQ$2,ROW($A$7:$A$648),65536),ROW(18:18)))&\"\"","v":""},{"$f":"INDEX(輸入表單!$B:$B,SMALL(IF(輸入表單!$A$7:$A$648=AR$2,ROW($A$7:$A$648),65536),ROW(18:18)))&\"\"","v":""},{"$f":"INDEX(輸入表單!$B:$B,SMALL(IF(輸入表單!$A$7:$A$648=AS$2,ROW($A$7:$A$648),65536),ROW(18:18)))&\"\"","v":""},{"$f":"INDEX(輸入表單!$B:$B,SMALL(IF(輸入表單!$A$7:$A$648=AT$2,ROW($A$7:$A$648),65536),ROW(18:18)))&\"\"","v":""},{"$f":"INDEX(輸入表單!$B:$B,SMALL(IF(輸入表單!$A$7:$A$648=AU$2,ROW($A$7:$A$648),65536),ROW(18:18)))&\"\"","v":""},{"$f":"INDEX(輸入表單!$B:$B,SMALL(IF(輸入表單!$A$7:$A$648=AV$2,ROW($A$7:$A$648),65536),ROW(18:18)))&\"\"","v":""},{"$f":"INDEX(輸入表單!$B:$B,SMALL(IF(輸入表單!$A$7:$A$648=AW$2,ROW($A$7:$A$648),65536),ROW(18:18)))&\"\"","v":""},{"$f":"INDEX(輸入表單!$B:$B,SMALL(IF(輸入表單!$A$7:$A$648=AX$2,ROW($A$7:$A$648),65536),ROW(18:18)))&\"\"","v":""},{"$f":"INDEX(輸入表單!$B:$B,SMALL(IF(輸入表單!$A$7:$A$648=AY$2,ROW($A$7:$A$648),65536),ROW(18:18)))&\"\"","v":""},{"$f":"INDEX(輸入表單!$B:$B,SMALL(IF(輸入表單!$A$7:$A$648=AZ$2,ROW($A$7:$A$648),65536),ROW(18:18)))&\"\"","v":""},{"$f":"INDEX(輸入表單!$B:$B,SMALL(IF(輸入表單!$A$7:$A$648=BA$2,ROW($A$7:$A$648),65536),ROW(18:18)))&\"\"","v":""},{"$f":"INDEX(輸入表單!$B:$B,SMALL(IF(輸入表單!$A$7:$A$648=BB$2,ROW($A$7:$A$648),65536),ROW(18:18)))&\"\"","v":""},{"$f":"INDEX(輸入表單!$B:$B,SMALL(IF(輸入表單!$A$7:$A$648=BC$2,ROW($A$7:$A$648),65536),ROW(18:18)))&\"\"","v":""},{"$f":"INDEX(輸入表單!$B:$B,SMALL(IF(輸入表單!$A$7:$A$648=BD$2,ROW($A$7:$A$648),65536),ROW(18:18)))&\"\"","v":""},{"$f":"INDEX(輸入表單!$B:$B,SMALL(IF(輸入表單!$A$7:$A$648=BE$2,ROW($A$7:$A$648),65536),ROW(18:18)))&\"\"","v":""},{"$f":"INDEX(輸入表單!$B:$B,SMALL(IF(輸入表單!$A$7:$A$648=BF$2,ROW($A$7:$A$648),65536),ROW(18:18)))&\"\"","v":""},{"$f":"INDEX(輸入表單!$B:$B,SMALL(IF(輸入表單!$A$7:$A$648=BG$2,ROW($A$7:$A$648),65536),ROW(18:18)))&\"\"","v":""},{"$f":"INDEX(輸入表單!$B:$B,SMALL(IF(輸入表單!$A$7:$A$648=BH$2,ROW($A$7:$A$648),65536),ROW(18:18)))&\"\"","v":""},{"$f":"INDEX(輸入表單!$B:$B,SMALL(IF(輸入表單!$A$7:$A$648=BI$2,ROW($A$7:$A$648),65536),ROW(18:18)))&\"\"","v":""},{"$f":"INDEX(輸入表單!$B:$B,SMALL(IF(輸入表單!$A$7:$A$648=BJ$2,ROW($A$7:$A$648),65536),ROW(18:18)))&\"\"","v":""},{"$f":"INDEX(輸入表單!$B:$B,SMALL(IF(輸入表單!$A$7:$A$648=BK$2,ROW($A$7:$A$648),65536),ROW(18:18)))&\"\"","v":""},{"$f":"INDEX(輸入表單!$B:$B,SMALL(IF(輸入表單!$A$7:$A$648=BL$2,ROW($A$7:$A$648),65536),ROW(18:18)))&\"\"","v":""},{"$f":"INDEX(輸入表單!$B:$B,SMALL(IF(輸入表單!$A$7:$A$648=BM$2,ROW($A$7:$A$648),65536),ROW(18:18)))&\"\"","v":""},{"$f":"INDEX(輸入表單!$B:$B,SMALL(IF(輸入表單!$A$7:$A$648=BN$2,ROW($A$7:$A$648),65536),ROW(18:18)))&\"\"","v":""},{"$f":"INDEX(輸入表單!$B:$B,SMALL(IF(輸入表單!$A$7:$A$648=BO$2,ROW($A$7:$A$648),65536),ROW(18:18)))&\"\"","v":""},{"$f":"INDEX(輸入表單!$B:$B,SMALL(IF(輸入表單!$A$7:$A$648=BP$2,ROW($A$7:$A$648),65536),ROW(18:18)))&\"\"","v":""}]
[null,null,"1國語11","11.發芽",null,null,null,19,{"$f":"INDEX(輸入表單!$B:$B,SMALL(IF(輸入表單!$A$7:$A$648=I$2,ROW($A$7:$A$648),65536),ROW(19:19)))&\"\"","v":""},{"$f":"INDEX(輸入表單!$B:$B,SMALL(IF(輸入表單!$A$7:$A$648=J$2,ROW($A$7:$A$648),65536),ROW(19:19)))&\"\"","v":""},{"$f":"INDEX(輸入表單!$B:$B,SMALL(IF(輸入表單!$A$7:$A$648=K$2,ROW($A$7:$A$648),65536),ROW(19:19)))&\"\"","v":""},{"$f":"INDEX(輸入表單!$B:$B,SMALL(IF(輸入表單!$A$7:$A$648=L$2,ROW($A$7:$A$648),65536),ROW(19:19)))&\"\"","v":""},{"$f":"INDEX(輸入表單!$B:$B,SMALL(IF(輸入表單!$A$7:$A$648=M$2,ROW($A$7:$A$648),65536),ROW(19:19)))&\"\"","v":""},{"$f":"INDEX(輸入表單!$B:$B,SMALL(IF(輸入表單!$A$7:$A$648=N$2,ROW($A$7:$A$648),65536),ROW(19:19)))&\"\"","v":""},{"$f":"INDEX(輸入表單!$B:$B,SMALL(IF(輸入表單!$A$7:$A$648=O$2,ROW($A$7:$A$648),65536),ROW(19:19)))&\"\"","v":""},{"$f":"INDEX(輸入表單!$B:$B,SMALL(IF(輸入表單!$A$7:$A$648=P$2,ROW($A$7:$A$648),65536),ROW(19:19)))&\"\"","v":""},{"$f":"INDEX(輸入表單!$B:$B,SMALL(IF(輸入表單!$A$7:$A$648=Q$2,ROW($A$7:$A$648),65536),ROW(19:19)))&\"\"","v":""},{"$f":"INDEX(輸入表單!$B:$B,SMALL(IF(輸入表單!$A$7:$A$648=R$2,ROW($A$7:$A$648),65536),ROW(19:19)))&\"\"","v":""},{"$f":"INDEX(輸入表單!$B:$B,SMALL(IF(輸入表單!$A$7:$A$648=S$2,ROW($A$7:$A$648),65536),ROW(19:19)))&\"\"","v":""},{"$f":"INDEX(輸入表單!$B:$B,SMALL(IF(輸入表單!$A$7:$A$648=T$2,ROW($A$7:$A$648),65536),ROW(19:19)))&\"\"","v":""},{"$f":"INDEX(輸入表單!$B:$B,SMALL(IF(輸入表單!$A$7:$A$648=U$2,ROW($A$7:$A$648),65536),ROW(19:19)))&\"\"","v":""},{"$f":"INDEX(輸入表單!$B:$B,SMALL(IF(輸入表單!$A$7:$A$648=V$2,ROW($A$7:$A$648),65536),ROW(19:19)))&\"\"","v":""},{"$f":"INDEX(輸入表單!$B:$B,SMALL(IF(輸入表單!$A$7:$A$648=W$2,ROW($A$7:$A$648),65536),ROW(19:19)))&\"\"","v":""},{"$f":"INDEX(輸入表單!$B:$B,SMALL(IF(輸入表單!$A$7:$A$648=X$2,ROW($A$7:$A$648),65536),ROW(19:19)))&\"\"","v":""},{"$f":"INDEX(輸入表單!$B:$B,SMALL(IF(輸入表單!$A$7:$A$648=Y$2,ROW($A$7:$A$648),65536),ROW(19:19)))&\"\"","v":""},{"$f":"INDEX(輸入表單!$B:$B,SMALL(IF(輸入表單!$A$7:$A$648=Z$2,ROW($A$7:$A$648),65536),ROW(19:19)))&\"\"","v":""},{"$f":"INDEX(輸入表單!$B:$B,SMALL(IF(輸入表單!$A$7:$A$648=AA$2,ROW($A$7:$A$648),65536),ROW(19:19)))&\"\"","v":""},{"$f":"INDEX(輸入表單!$B:$B,SMALL(IF(輸入表單!$A$7:$A$648=AB$2,ROW($A$7:$A$648),65536),ROW(19:19)))&\"\"","v":""},{"$f":"INDEX(輸入表單!$B:$B,SMALL(IF(輸入表單!$A$7:$A$648=AC$2,ROW($A$7:$A$648),65536),ROW(19:19)))&\"\"","v":""},{"$f":"INDEX(輸入表單!$B:$B,SMALL(IF(輸入表單!$A$7:$A$648=AD$2,ROW($A$7:$A$648),65536),ROW(19:19)))&\"\"","v":""},{"$f":"INDEX(輸入表單!$B:$B,SMALL(IF(輸入表單!$A$7:$A$648=AE$2,ROW($A$7:$A$648),65536),ROW(19:19)))&\"\"","v":""},{"$f":"INDEX(輸入表單!$B:$B,SMALL(IF(輸入表單!$A$7:$A$648=AF$2,ROW($A$7:$A$648),65536),ROW(19:19)))&\"\"","v":""},{"$f":"INDEX(輸入表單!$B:$B,SMALL(IF(輸入表單!$A$7:$A$648=AG$2,ROW($A$7:$A$648),65536),ROW(19:19)))&\"\"","v":""},{"$f":"INDEX(輸入表單!$B:$B,SMALL(IF(輸入表單!$A$7:$A$648=AH$2,ROW($A$7:$A$648),65536),ROW(19:19)))&\"\"","v":""},{"$f":"INDEX(輸入表單!$B:$B,SMALL(IF(輸入表單!$A$7:$A$648=AI$2,ROW($A$7:$A$648),65536),ROW(19:19)))&\"\"","v":""},{"$f":"INDEX(輸入表單!$B:$B,SMALL(IF(輸入表單!$A$7:$A$648=AJ$2,ROW($A$7:$A$648),65536),ROW(19:19)))&\"\"","v":""},{"$f":"INDEX(輸入表單!$B:$B,SMALL(IF(輸入表單!$A$7:$A$648=AK$2,ROW($A$7:$A$648),65536),ROW(19:19)))&\"\"","v":""},{"$f":"INDEX(輸入表單!$B:$B,SMALL(IF(輸入表單!$A$7:$A$648=AL$2,ROW($A$7:$A$648),65536),ROW(19:19)))&\"\"","v":""},{"$f":"INDEX(輸入表單!$B:$B,SMALL(IF(輸入表單!$A$7:$A$648=AM$2,ROW($A$7:$A$648),65536),ROW(19:19)))&\"\"","v":""},{"$f":"INDEX(輸入表單!$B:$B,SMALL(IF(輸入表單!$A$7:$A$648=AN$2,ROW($A$7:$A$648),65536),ROW(19:19)))&\"\"","v":""},{"$f":"INDEX(輸入表單!$B:$B,SMALL(IF(輸入表單!$A$7:$A$648=AO$2,ROW($A$7:$A$648),65536),ROW(19:19)))&\"\"","v":""},{"$f":"INDEX(輸入表單!$B:$B,SMALL(IF(輸入表單!$A$7:$A$648=AP$2,ROW($A$7:$A$648),65536),ROW(19:19)))&\"\"","v":""},{"$f":"INDEX(輸入表單!$B:$B,SMALL(IF(輸入表單!$A$7:$A$648=AQ$2,ROW($A$7:$A$648),65536),ROW(19:19)))&\"\"","v":""},{"$f":"INDEX(輸入表單!$B:$B,SMALL(IF(輸入表單!$A$7:$A$648=AR$2,ROW($A$7:$A$648),65536),ROW(19:19)))&\"\"","v":""},{"$f":"INDEX(輸入表單!$B:$B,SMALL(IF(輸入表單!$A$7:$A$648=AS$2,ROW($A$7:$A$648),65536),ROW(19:19)))&\"\"","v":""},{"$f":"INDEX(輸入表單!$B:$B,SMALL(IF(輸入表單!$A$7:$A$648=AT$2,ROW($A$7:$A$648),65536),ROW(19:19)))&\"\"","v":""},{"$f":"INDEX(輸入表單!$B:$B,SMALL(IF(輸入表單!$A$7:$A$648=AU$2,ROW($A$7:$A$648),65536),ROW(19:19)))&\"\"","v":""},{"$f":"INDEX(輸入表單!$B:$B,SMALL(IF(輸入表單!$A$7:$A$648=AV$2,ROW($A$7:$A$648),65536),ROW(19:19)))&\"\"","v":""},{"$f":"INDEX(輸入表單!$B:$B,SMALL(IF(輸入表單!$A$7:$A$648=AW$2,ROW($A$7:$A$648),65536),ROW(19:19)))&\"\"","v":""},{"$f":"INDEX(輸入表單!$B:$B,SMALL(IF(輸入表單!$A$7:$A$648=AX$2,ROW($A$7:$A$648),65536),ROW(19:19)))&\"\"","v":""},{"$f":"INDEX(輸入表單!$B:$B,SMALL(IF(輸入表單!$A$7:$A$648=AY$2,ROW($A$7:$A$648),65536),ROW(19:19)))&\"\"","v":""},{"$f":"INDEX(輸入表單!$B:$B,SMALL(IF(輸入表單!$A$7:$A$648=AZ$2,ROW($A$7:$A$648),65536),ROW(19:19)))&\"\"","v":""},{"$f":"INDEX(輸入表單!$B:$B,SMALL(IF(輸入表單!$A$7:$A$648=BA$2,ROW($A$7:$A$648),65536),ROW(19:19)))&\"\"","v":""},{"$f":"INDEX(輸入表單!$B:$B,SMALL(IF(輸入表單!$A$7:$A$648=BB$2,ROW($A$7:$A$648),65536),ROW(19:19)))&\"\"","v":""},{"$f":"INDEX(輸入表單!$B:$B,SMALL(IF(輸入表單!$A$7:$A$648=BC$2,ROW($A$7:$A$648),65536),ROW(19:19)))&\"\"","v":""},{"$f":"INDEX(輸入表單!$B:$B,SMALL(IF(輸入表單!$A$7:$A$648=BD$2,ROW($A$7:$A$648),65536),ROW(19:19)))&\"\"","v":""},{"$f":"INDEX(輸入表單!$B:$B,SMALL(IF(輸入表單!$A$7:$A$648=BE$2,ROW($A$7:$A$648),65536),ROW(19:19)))&\"\"","v":""},{"$f":"INDEX(輸入表單!$B:$B,SMALL(IF(輸入表單!$A$7:$A$648=BF$2,ROW($A$7:$A$648),65536),ROW(19:19)))&\"\"","v":""},{"$f":"INDEX(輸入表單!$B:$B,SMALL(IF(輸入表單!$A$7:$A$648=BG$2,ROW($A$7:$A$648),65536),ROW(19:19)))&\"\"","v":""},{"$f":"INDEX(輸入表單!$B:$B,SMALL(IF(輸入表單!$A$7:$A$648=BH$2,ROW($A$7:$A$648),65536),ROW(19:19)))&\"\"","v":""},{"$f":"INDEX(輸入表單!$B:$B,SMALL(IF(輸入表單!$A$7:$A$648=BI$2,ROW($A$7:$A$648),65536),ROW(19:19)))&\"\"","v":""},{"$f":"INDEX(輸入表單!$B:$B,SMALL(IF(輸入表單!$A$7:$A$648=BJ$2,ROW($A$7:$A$648),65536),ROW(19:19)))&\"\"","v":""},{"$f":"INDEX(輸入表單!$B:$B,SMALL(IF(輸入表單!$A$7:$A$648=BK$2,ROW($A$7:$A$648),65536),ROW(19:19)))&\"\"","v":""},{"$f":"INDEX(輸入表單!$B:$B,SMALL(IF(輸入表單!$A$7:$A$648=BL$2,ROW($A$7:$A$648),65536),ROW(19:19)))&\"\"","v":""},{"$f":"INDEX(輸入表單!$B:$B,SMALL(IF(輸入表單!$A$7:$A$648=BM$2,ROW($A$7:$A$648),65536),ROW(19:19)))&\"\"","v":""},{"$f":"INDEX(輸入表單!$B:$B,SMALL(IF(輸入表單!$A$7:$A$648=BN$2,ROW($A$7:$A$648),65536),ROW(19:19)))&\"\"","v":""},{"$f":"INDEX(輸入表單!$B:$B,SMALL(IF(輸入表單!$A$7:$A$648=BO$2,ROW($A$7:$A$648),65536),ROW(19:19)))&\"\"","v":""},{"$f":"INDEX(輸入表單!$B:$B,SMALL(IF(輸入表單!$A$7:$A$648=BP$2,ROW($A$7:$A$648),65536),ROW(19:19)))&\"\"","v":""}]
[null,null,"1國語12","12.鉛筆和橡皮擦",null,null,null,20,{"$f":"INDEX(輸入表單!$B:$B,SMALL(IF(輸入表單!$A$7:$A$648=I$2,ROW($A$7:$A$648),65536),ROW(20:20)))&\"\"","v":""},{"$f":"INDEX(輸入表單!$B:$B,SMALL(IF(輸入表單!$A$7:$A$648=J$2,ROW($A$7:$A$648),65536),ROW(20:20)))&\"\"","v":""},{"$f":"INDEX(輸入表單!$B:$B,SMALL(IF(輸入表單!$A$7:$A$648=K$2,ROW($A$7:$A$648),65536),ROW(20:20)))&\"\"","v":""},{"$f":"INDEX(輸入表單!$B:$B,SMALL(IF(輸入表單!$A$7:$A$648=L$2,ROW($A$7:$A$648),65536),ROW(20:20)))&\"\"","v":""},{"$f":"INDEX(輸入表單!$B:$B,SMALL(IF(輸入表單!$A$7:$A$648=M$2,ROW($A$7:$A$648),65536),ROW(20:20)))&\"\"","v":""},{"$f":"INDEX(輸入表單!$B:$B,SMALL(IF(輸入表單!$A$7:$A$648=N$2,ROW($A$7:$A$648),65536),ROW(20:20)))&\"\"","v":""},{"$f":"INDEX(輸入表單!$B:$B,SMALL(IF(輸入表單!$A$7:$A$648=O$2,ROW($A$7:$A$648),65536),ROW(20:20)))&\"\"","v":""},{"$f":"INDEX(輸入表單!$B:$B,SMALL(IF(輸入表單!$A$7:$A$648=P$2,ROW($A$7:$A$648),65536),ROW(20:20)))&\"\"","v":""},{"$f":"INDEX(輸入表單!$B:$B,SMALL(IF(輸入表單!$A$7:$A$648=Q$2,ROW($A$7:$A$648),65536),ROW(20:20)))&\"\"","v":""},{"$f":"INDEX(輸入表單!$B:$B,SMALL(IF(輸入表單!$A$7:$A$648=R$2,ROW($A$7:$A$648),65536),ROW(20:20)))&\"\"","v":""},{"$f":"INDEX(輸入表單!$B:$B,SMALL(IF(輸入表單!$A$7:$A$648=S$2,ROW($A$7:$A$648),65536),ROW(20:20)))&\"\"","v":""},{"$f":"INDEX(輸入表單!$B:$B,SMALL(IF(輸入表單!$A$7:$A$648=T$2,ROW($A$7:$A$648),65536),ROW(20:20)))&\"\"","v":""},{"$f":"INDEX(輸入表單!$B:$B,SMALL(IF(輸入表單!$A$7:$A$648=U$2,ROW($A$7:$A$648),65536),ROW(20:20)))&\"\"","v":""},{"$f":"INDEX(輸入表單!$B:$B,SMALL(IF(輸入表單!$A$7:$A$648=V$2,ROW($A$7:$A$648),65536),ROW(20:20)))&\"\"","v":""},{"$f":"INDEX(輸入表單!$B:$B,SMALL(IF(輸入表單!$A$7:$A$648=W$2,ROW($A$7:$A$648),65536),ROW(20:20)))&\"\"","v":""},{"$f":"INDEX(輸入表單!$B:$B,SMALL(IF(輸入表單!$A$7:$A$648=X$2,ROW($A$7:$A$648),65536),ROW(20:20)))&\"\"","v":""},{"$f":"INDEX(輸入表單!$B:$B,SMALL(IF(輸入表單!$A$7:$A$648=Y$2,ROW($A$7:$A$648),65536),ROW(20:20)))&\"\"","v":""},{"$f":"INDEX(輸入表單!$B:$B,SMALL(IF(輸入表單!$A$7:$A$648=Z$2,ROW($A$7:$A$648),65536),ROW(20:20)))&\"\"","v":""},{"$f":"INDEX(輸入表單!$B:$B,SMALL(IF(輸入表單!$A$7:$A$648=AA$2,ROW($A$7:$A$648),65536),ROW(20:20)))&\"\"","v":""},{"$f":"INDEX(輸入表單!$B:$B,SMALL(IF(輸入表單!$A$7:$A$648=AB$2,ROW($A$7:$A$648),65536),ROW(20:20)))&\"\"","v":""},{"$f":"INDEX(輸入表單!$B:$B,SMALL(IF(輸入表單!$A$7:$A$648=AC$2,ROW($A$7:$A$648),65536),ROW(20:20)))&\"\"","v":""},{"$f":"INDEX(輸入表單!$B:$B,SMALL(IF(輸入表單!$A$7:$A$648=AD$2,ROW($A$7:$A$648),65536),ROW(20:20)))&\"\"","v":""},{"$f":"INDEX(輸入表單!$B:$B,SMALL(IF(輸入表單!$A$7:$A$648=AE$2,ROW($A$7:$A$648),65536),ROW(20:20)))&\"\"","v":""},{"$f":"INDEX(輸入表單!$B:$B,SMALL(IF(輸入表單!$A$7:$A$648=AF$2,ROW($A$7:$A$648),65536),ROW(20:20)))&\"\"","v":""},{"$f":"INDEX(輸入表單!$B:$B,SMALL(IF(輸入表單!$A$7:$A$648=AG$2,ROW($A$7:$A$648),65536),ROW(20:20)))&\"\"","v":""},{"$f":"INDEX(輸入表單!$B:$B,SMALL(IF(輸入表單!$A$7:$A$648=AH$2,ROW($A$7:$A$648),65536),ROW(20:20)))&\"\"","v":""},{"$f":"INDEX(輸入表單!$B:$B,SMALL(IF(輸入表單!$A$7:$A$648=AI$2,ROW($A$7:$A$648),65536),ROW(20:20)))&\"\"","v":""},{"$f":"INDEX(輸入表單!$B:$B,SMALL(IF(輸入表單!$A$7:$A$648=AJ$2,ROW($A$7:$A$648),65536),ROW(20:20)))&\"\"","v":""},{"$f":"INDEX(輸入表單!$B:$B,SMALL(IF(輸入表單!$A$7:$A$648=AK$2,ROW($A$7:$A$648),65536),ROW(20:20)))&\"\"","v":""},{"$f":"INDEX(輸入表單!$B:$B,SMALL(IF(輸入表單!$A$7:$A$648=AL$2,ROW($A$7:$A$648),65536),ROW(20:20)))&\"\"","v":""},{"$f":"INDEX(輸入表單!$B:$B,SMALL(IF(輸入表單!$A$7:$A$648=AM$2,ROW($A$7:$A$648),65536),ROW(20:20)))&\"\"","v":""},{"$f":"INDEX(輸入表單!$B:$B,SMALL(IF(輸入表單!$A$7:$A$648=AN$2,ROW($A$7:$A$648),65536),ROW(20:20)))&\"\"","v":""},{"$f":"INDEX(輸入表單!$B:$B,SMALL(IF(輸入表單!$A$7:$A$648=AO$2,ROW($A$7:$A$648),65536),ROW(20:20)))&\"\"","v":""},{"$f":"INDEX(輸入表單!$B:$B,SMALL(IF(輸入表單!$A$7:$A$648=AP$2,ROW($A$7:$A$648),65536),ROW(20:20)))&\"\"","v":""},{"$f":"INDEX(輸入表單!$B:$B,SMALL(IF(輸入表單!$A$7:$A$648=AQ$2,ROW($A$7:$A$648),65536),ROW(20:20)))&\"\"","v":""},{"$f":"INDEX(輸入表單!$B:$B,SMALL(IF(輸入表單!$A$7:$A$648=AR$2,ROW($A$7:$A$648),65536),ROW(20:20)))&\"\"","v":""},{"$f":"INDEX(輸入表單!$B:$B,SMALL(IF(輸入表單!$A$7:$A$648=AS$2,ROW($A$7:$A$648),65536),ROW(20:20)))&\"\"","v":""},{"$f":"INDEX(輸入表單!$B:$B,SMALL(IF(輸入表單!$A$7:$A$648=AT$2,ROW($A$7:$A$648),65536),ROW(20:20)))&\"\"","v":""},{"$f":"INDEX(輸入表單!$B:$B,SMALL(IF(輸入表單!$A$7:$A$648=AU$2,ROW($A$7:$A$648),65536),ROW(20:20)))&\"\"","v":""},{"$f":"INDEX(輸入表單!$B:$B,SMALL(IF(輸入表單!$A$7:$A$648=AV$2,ROW($A$7:$A$648),65536),ROW(20:20)))&\"\"","v":""},{"$f":"INDEX(輸入表單!$B:$B,SMALL(IF(輸入表單!$A$7:$A$648=AW$2,ROW($A$7:$A$648),65536),ROW(20:20)))&\"\"","v":""},{"$f":"INDEX(輸入表單!$B:$B,SMALL(IF(輸入表單!$A$7:$A$648=AX$2,ROW($A$7:$A$648),65536),ROW(20:20)))&\"\"","v":""},{"$f":"INDEX(輸入表單!$B:$B,SMALL(IF(輸入表單!$A$7:$A$648=AY$2,ROW($A$7:$A$648),65536),ROW(20:20)))&\"\"","v":""},{"$f":"INDEX(輸入表單!$B:$B,SMALL(IF(輸入表單!$A$7:$A$648=AZ$2,ROW($A$7:$A$648),65536),ROW(20:20)))&\"\"","v":""},{"$f":"INDEX(輸入表單!$B:$B,SMALL(IF(輸入表單!$A$7:$A$648=BA$2,ROW($A$7:$A$648),65536),ROW(20:20)))&\"\"","v":""},{"$f":"INDEX(輸入表單!$B:$B,SMALL(IF(輸入表單!$A$7:$A$648=BB$2,ROW($A$7:$A$648),65536),ROW(20:20)))&\"\"","v":""},{"$f":"INDEX(輸入表單!$B:$B,SMALL(IF(輸入表單!$A$7:$A$648=BC$2,ROW($A$7:$A$648),65536),ROW(20:20)))&\"\"","v":""},{"$f":"INDEX(輸入表單!$B:$B,SMALL(IF(輸入表單!$A$7:$A$648=BD$2,ROW($A$7:$A$648),65536),ROW(20:20)))&\"\"","v":""},{"$f":"INDEX(輸入表單!$B:$B,SMALL(IF(輸入表單!$A$7:$A$648=BE$2,ROW($A$7:$A$648),65536),ROW(20:20)))&\"\"","v":""},{"$f":"INDEX(輸入表單!$B:$B,SMALL(IF(輸入表單!$A$7:$A$648=BF$2,ROW($A$7:$A$648),65536),ROW(20:20)))&\"\"","v":""},{"$f":"INDEX(輸入表單!$B:$B,SMALL(IF(輸入表單!$A$7:$A$648=BG$2,ROW($A$7:$A$648),65536),ROW(20:20)))&\"\"","v":""},{"$f":"INDEX(輸入表單!$B:$B,SMALL(IF(輸入表單!$A$7:$A$648=BH$2,ROW($A$7:$A$648),65536),ROW(20:20)))&\"\"","v":""},{"$f":"INDEX(輸入表單!$B:$B,SMALL(IF(輸入表單!$A$7:$A$648=BI$2,ROW($A$7:$A$648),65536),ROW(20:20)))&\"\"","v":""},{"$f":"INDEX(輸入表單!$B:$B,SMALL(IF(輸入表單!$A$7:$A$648=BJ$2,ROW($A$7:$A$648),65536),ROW(20:20)))&\"\"","v":""},{"$f":"INDEX(輸入表單!$B:$B,SMALL(IF(輸入表單!$A$7:$A$648=BK$2,ROW($A$7:$A$648),65536),ROW(20:20)))&\"\"","v":""},{"$f":"INDEX(輸入表單!$B:$B,SMALL(IF(輸入表單!$A$7:$A$648=BL$2,ROW($A$7:$A$648),65536),ROW(20:20)))&\"\"","v":""},{"$f":"INDEX(輸入表單!$B:$B,SMALL(IF(輸入表單!$A$7:$A$648=BM$2,ROW($A$7:$A$648),65536),ROW(20:20)))&\"\"","v":""},{"$f":"INDEX(輸入表單!$B:$B,SMALL(IF(輸入表單!$A$7:$A$648=BN$2,ROW($A$7:$A$648),65536),ROW(20:20)))&\"\"","v":""},{"$f":"INDEX(輸入表單!$B:$B,SMALL(IF(輸入表單!$A$7:$A$648=BO$2,ROW($A$7:$A$648),65536),ROW(20:20)))&\"\"","v":""},{"$f":"INDEX(輸入表單!$B:$B,SMALL(IF(輸入表單!$A$7:$A$648=BP$2,ROW($A$7:$A$648),65536),ROW(20:20)))&\"\"","v":""}]
[null,null,"1國語13","13.誰能上臺",{"$nulls":4},{"$f":"INDEX(輸入表單!$B:$B,SMALL(IF(輸入表單!$A$7:$A$648=I$2,ROW($A$7:$A$648),65536),ROW(21:21)))&\"\"","v":""},{"$f":"INDEX(輸入表單!$B:$B,SMALL(IF(輸入表單!$A$7:$A$648=J$2,ROW($A$7:$A$648),65536),ROW(21:21)))&\"\"","v":""},{"$f":"INDEX(輸入表單!$B:$B,SMALL(IF(輸入表單!$A$7:$A$648=K$2,ROW($A$7:$A$648),65536),ROW(21:21)))&\"\"","v":""},{"$f":"INDEX(輸入表單!$B:$B,SMALL(IF(輸入表單!$A$7:$A$648=L$2,ROW($A$7:$A$648),65536),ROW(21:21)))&\"\"","v":""},{"$f":"INDEX(輸入表單!$B:$B,SMALL(IF(輸入表單!$A$7:$A$648=M$2,ROW($A$7:$A$648),65536),ROW(21:21)))&\"\"","v":""},{"$f":"INDEX(輸入表單!$B:$B,SMALL(IF(輸入表單!$A$7:$A$648=N$2,ROW($A$7:$A$648),65536),ROW(21:21)))&\"\"","v":""},{"$f":"INDEX(輸入表單!$B:$B,SMALL(IF(輸入表單!$A$7:$A$648=O$2,ROW($A$7:$A$648),65536),ROW(21:21)))&\"\"","v":""},{"$f":"INDEX(輸入表單!$B:$B,SMALL(IF(輸入表單!$A$7:$A$648=P$2,ROW($A$7:$A$648),65536),ROW(21:21)))&\"\"","v":""},{"$f":"INDEX(輸入表單!$B:$B,SMALL(IF(輸入表單!$A$7:$A$648=Q$2,ROW($A$7:$A$648),65536),ROW(21:21)))&\"\"","v":""},{"$f":"INDEX(輸入表單!$B:$B,SMALL(IF(輸入表單!$A$7:$A$648=R$2,ROW($A$7:$A$648),65536),ROW(21:21)))&\"\"","v":""},{"$f":"INDEX(輸入表單!$B:$B,SMALL(IF(輸入表單!$A$7:$A$648=S$2,ROW($A$7:$A$648),65536),ROW(21:21)))&\"\"","v":""},{"$f":"INDEX(輸入表單!$B:$B,SMALL(IF(輸入表單!$A$7:$A$648=T$2,ROW($A$7:$A$648),65536),ROW(21:21)))&\"\"","v":""},{"$f":"INDEX(輸入表單!$B:$B,SMALL(IF(輸入表單!$A$7:$A$648=U$2,ROW($A$7:$A$648),65536),ROW(21:21)))&\"\"","v":""},{"$f":"INDEX(輸入表單!$B:$B,SMALL(IF(輸入表單!$A$7:$A$648=V$2,ROW($A$7:$A$648),65536),ROW(21:21)))&\"\"","v":""},{"$f":"INDEX(輸入表單!$B:$B,SMALL(IF(輸入表單!$A$7:$A$648=W$2,ROW($A$7:$A$648),65536),ROW(21:21)))&\"\"","v":""},{"$f":"INDEX(輸入表單!$B:$B,SMALL(IF(輸入表單!$A$7:$A$648=X$2,ROW($A$7:$A$648),65536),ROW(21:21)))&\"\"","v":""},{"$f":"INDEX(輸入表單!$B:$B,SMALL(IF(輸入表單!$A$7:$A$648=Y$2,ROW($A$7:$A$648),65536),ROW(21:21)))&\"\"","v":""},{"$f":"INDEX(輸入表單!$B:$B,SMALL(IF(輸入表單!$A$7:$A$648=Z$2,ROW($A$7:$A$648),65536),ROW(21:21)))&\"\"","v":""},{"$f":"INDEX(輸入表單!$B:$B,SMALL(IF(輸入表單!$A$7:$A$648=AA$2,ROW($A$7:$A$648),65536),ROW(21:21)))&\"\"","v":""},{"$f":"INDEX(輸入表單!$B:$B,SMALL(IF(輸入表單!$A$7:$A$648=AB$2,ROW($A$7:$A$648),65536),ROW(21:21)))&\"\"","v":""},{"$f":"INDEX(輸入表單!$B:$B,SMALL(IF(輸入表單!$A$7:$A$648=AC$2,ROW($A$7:$A$648),65536),ROW(21:21)))&\"\"","v":""},{"$f":"INDEX(輸入表單!$B:$B,SMALL(IF(輸入表單!$A$7:$A$648=AD$2,ROW($A$7:$A$648),65536),ROW(21:21)))&\"\"","v":""},{"$f":"INDEX(輸入表單!$B:$B,SMALL(IF(輸入表單!$A$7:$A$648=AE$2,ROW($A$7:$A$648),65536),ROW(21:21)))&\"\"","v":""},{"$f":"INDEX(輸入表單!$B:$B,SMALL(IF(輸入表單!$A$7:$A$648=AF$2,ROW($A$7:$A$648),65536),ROW(21:21)))&\"\"","v":""},{"$f":"INDEX(輸入表單!$B:$B,SMALL(IF(輸入表單!$A$7:$A$648=AG$2,ROW($A$7:$A$648),65536),ROW(21:21)))&\"\"","v":""},{"$f":"INDEX(輸入表單!$B:$B,SMALL(IF(輸入表單!$A$7:$A$648=AH$2,ROW($A$7:$A$648),65536),ROW(21:21)))&\"\"","v":""},{"$f":"INDEX(輸入表單!$B:$B,SMALL(IF(輸入表單!$A$7:$A$648=AI$2,ROW($A$7:$A$648),65536),ROW(21:21)))&\"\"","v":""},{"$f":"INDEX(輸入表單!$B:$B,SMALL(IF(輸入表單!$A$7:$A$648=AJ$2,ROW($A$7:$A$648),65536),ROW(21:21)))&\"\"","v":""},{"$f":"INDEX(輸入表單!$B:$B,SMALL(IF(輸入表單!$A$7:$A$648=AK$2,ROW($A$7:$A$648),65536),ROW(21:21)))&\"\"","v":""},{"$f":"INDEX(輸入表單!$B:$B,SMALL(IF(輸入表單!$A$7:$A$648=AL$2,ROW($A$7:$A$648),65536),ROW(21:21)))&\"\"","v":""},{"$f":"INDEX(輸入表單!$B:$B,SMALL(IF(輸入表單!$A$7:$A$648=AM$2,ROW($A$7:$A$648),65536),ROW(21:21)))&\"\"","v":""},{"$f":"INDEX(輸入表單!$B:$B,SMALL(IF(輸入表單!$A$7:$A$648=AN$2,ROW($A$7:$A$648),65536),ROW(21:21)))&\"\"","v":""},{"$f":"INDEX(輸入表單!$B:$B,SMALL(IF(輸入表單!$A$7:$A$648=AO$2,ROW($A$7:$A$648),65536),ROW(21:21)))&\"\"","v":""},{"$f":"INDEX(輸入表單!$B:$B,SMALL(IF(輸入表單!$A$7:$A$648=AP$2,ROW($A$7:$A$648),65536),ROW(21:21)))&\"\"","v":""},{"$f":"INDEX(輸入表單!$B:$B,SMALL(IF(輸入表單!$A$7:$A$648=AQ$2,ROW($A$7:$A$648),65536),ROW(21:21)))&\"\"","v":""},{"$f":"INDEX(輸入表單!$B:$B,SMALL(IF(輸入表單!$A$7:$A$648=AR$2,ROW($A$7:$A$648),65536),ROW(21:21)))&\"\"","v":""},{"$f":"INDEX(輸入表單!$B:$B,SMALL(IF(輸入表單!$A$7:$A$648=AS$2,ROW($A$7:$A$648),65536),ROW(21:21)))&\"\"","v":""},{"$f":"INDEX(輸入表單!$B:$B,SMALL(IF(輸入表單!$A$7:$A$648=AT$2,ROW($A$7:$A$648),65536),ROW(21:21)))&\"\"","v":""},{"$f":"INDEX(輸入表單!$B:$B,SMALL(IF(輸入表單!$A$7:$A$648=AU$2,ROW($A$7:$A$648),65536),ROW(21:21)))&\"\"","v":""},{"$f":"INDEX(輸入表單!$B:$B,SMALL(IF(輸入表單!$A$7:$A$648=AV$2,ROW($A$7:$A$648),65536),ROW(21:21)))&\"\"","v":""},{"$f":"INDEX(輸入表單!$B:$B,SMALL(IF(輸入表單!$A$7:$A$648=AW$2,ROW($A$7:$A$648),65536),ROW(21:21)))&\"\"","v":""},{"$f":"INDEX(輸入表單!$B:$B,SMALL(IF(輸入表單!$A$7:$A$648=AX$2,ROW($A$7:$A$648),65536),ROW(21:21)))&\"\"","v":""},{"$f":"INDEX(輸入表單!$B:$B,SMALL(IF(輸入表單!$A$7:$A$648=AY$2,ROW($A$7:$A$648),65536),ROW(21:21)))&\"\"","v":""},{"$f":"INDEX(輸入表單!$B:$B,SMALL(IF(輸入表單!$A$7:$A$648=AZ$2,ROW($A$7:$A$648),65536),ROW(21:21)))&\"\"","v":""},{"$f":"INDEX(輸入表單!$B:$B,SMALL(IF(輸入表單!$A$7:$A$648=BA$2,ROW($A$7:$A$648),65536),ROW(21:21)))&\"\"","v":""},{"$f":"INDEX(輸入表單!$B:$B,SMALL(IF(輸入表單!$A$7:$A$648=BB$2,ROW($A$7:$A$648),65536),ROW(21:21)))&\"\"","v":""},{"$f":"INDEX(輸入表單!$B:$B,SMALL(IF(輸入表單!$A$7:$A$648=BC$2,ROW($A$7:$A$648),65536),ROW(21:21)))&\"\"","v":""},{"$f":"INDEX(輸入表單!$B:$B,SMALL(IF(輸入表單!$A$7:$A$648=BD$2,ROW($A$7:$A$648),65536),ROW(21:21)))&\"\"","v":""},{"$f":"INDEX(輸入表單!$B:$B,SMALL(IF(輸入表單!$A$7:$A$648=BE$2,ROW($A$7:$A$648),65536),ROW(21:21)))&\"\"","v":""},{"$f":"INDEX(輸入表單!$B:$B,SMALL(IF(輸入表單!$A$7:$A$648=BF$2,ROW($A$7:$A$648),65536),ROW(21:21)))&\"\"","v":""},{"$f":"INDEX(輸入表單!$B:$B,SMALL(IF(輸入表單!$A$7:$A$648=BG$2,ROW($A$7:$A$648),65536),ROW(21:21)))&\"\"","v":""},{"$f":"INDEX(輸入表單!$B:$B,SMALL(IF(輸入表單!$A$7:$A$648=BH$2,ROW($A$7:$A$648),65536),ROW(21:21)))&\"\"","v":""},{"$f":"INDEX(輸入表單!$B:$B,SMALL(IF(輸入表單!$A$7:$A$648=BI$2,ROW($A$7:$A$648),65536),ROW(21:21)))&\"\"","v":""},{"$f":"INDEX(輸入表單!$B:$B,SMALL(IF(輸入表單!$A$7:$A$648=BJ$2,ROW($A$7:$A$648),65536),ROW(21:21)))&\"\"","v":""},{"$f":"INDEX(輸入表單!$B:$B,SMALL(IF(輸入表單!$A$7:$A$648=BK$2,ROW($A$7:$A$648),65536),ROW(21:21)))&\"\"","v":""},{"$f":"INDEX(輸入表單!$B:$B,SMALL(IF(輸入表單!$A$7:$A$648=BL$2,ROW($A$7:$A$648),65536),ROW(21:21)))&\"\"","v":""},{"$f":"INDEX(輸入表單!$B:$B,SMALL(IF(輸入表單!$A$7:$A$648=BM$2,ROW($A$7:$A$648),65536),ROW(21:21)))&\"\"","v":""},{"$f":"INDEX(輸入表單!$B:$B,SMALL(IF(輸入表單!$A$7:$A$648=BN$2,ROW($A$7:$A$648),65536),ROW(21:21)))&\"\"","v":""},{"$f":"INDEX(輸入表單!$B:$B,SMALL(IF(輸入表單!$A$7:$A$648=BO$2,ROW($A$7:$A$648),65536),ROW(21:21)))&\"\"","v":""},{"$f":"INDEX(輸入表單!$B:$B,SMALL(IF(輸入表單!$A$7:$A$648=BP$2,ROW($A$7:$A$648),65536),ROW(21:21)))&\"\"","v":""}]
[null,null,"1國語14","14.山頂 + 統整活動四",null,null,null,"合併",{"$f":"IF(I3<>\"\",IF(I4<>\"\",IF(I5<>\"\",IF(I6<>\"\",IF(I7<>\"\",IF(I8<>\"\",IF(I9<>\"\",IF(I10<>\"\",IF(I11<>\"\",IF(I12<>\"\",IF(I13<>\"\",IF(I14<>\"\",IF(I15<>\"\",IF(I16<>\"\",IF(I17<>\"\",IF(I18<>\"\",IF(I19<>\"\",IF(I20<>\"\",IF(I21<>\"\",IF(I22<>\"\",I3&\"；\"&I4&\"；\"&I5&\"；\"&I6&\"；\"&I7&\"；\"&I8&\"；\"&I9&\"；\"&I10&\"；\"&I11&\"；\"&I12&\"；\"&I13&\"；\"&I14&\"；\"&I15&\"；\"&I16&\"；\"&I17&\"；\"&I18&\"；\"&I19&\"；\"&I20&\"；\"&I21&\"；\"&I22,I3&\"；\"&I4&\"；\"&I5&\"；\"&I6&\"；\"&I7&\"；\"&I8&\"；\"&I9&\"；\"&I10&\"；\"&I11&\"；\"&I12&\"；\"&I13&\"；\"&I14&\"；\"&I15&\"；\"&I16&\"；\"&I17&\"；\"&I18&\"；\"&I19&\"；\"&I20&\"；\"&I21),I3&\"；\"&I4&\"；\"&I5&\"；\"&I6&\"；\"&I7&\"；\"&I8&\"；\"&I9&\"；\"&I10&\"；\"&I11&\"；\"&I12&\"；\"&I13&\"；\"&I14&\"；\"&I15&\"；\"&I16&\"；\"&I17&\"；\"&I18&\"；\"&I19&\"；\"&I20),I3&\"；\"&I4&\"；\"&I5&\"；\"&I6&\"；\"&I7&\"；\"&I8&\"；\"&I9&\"；\"&I10&\"；\"&I11&\"；\"&I12&\"；\"&I13&\"；\"&I14&\"；\"&I15&\"；\"&I16&\"；\"&I17&\"；\"&I18&\"；\"&I19),I3&\"；\"&I4&\"；\"&I5&\"；\"&I6&\"；\"&I7&\"；\"&I8&\"；\"&I9&\"；\"&I10&\"；\"&I11&\"；\"&I12&\"；\"&I13&\"；\"&I14&\"；\"&I15&\"；\"&I16&\"；\"&I17&\"；\"&I18),I3&\"；\"&I4&\"；\"&I5&\"；\"&I6&\"；\"&I7&\"；\"&I8&\"；\"&I9&\"；\"&I10&\"；\"&I11&\"；\"&I12&\"；\"&I13&\"；\"&I14&\"；\"&I15&\"；\"&I16&\"；\"&I17),I3&\"；\"&I4&\"；\"&I5&\"；\"&I6&\"；\"&I7&\"；\"&I8&\"；\"&I9&\"；\"&I10&\"；\"&I11&\"；\"&I12&\"；\"&I13&\"；\"&I14&\"；\"&I15&\"；\"&I16),I3&\"；\"&I4&\"；\"&I5&\"；\"&I6&\"；\"&I7&\"；\"&I8&\"；\"&I9&\"；\"&I10&\"；\"&I11&\"；\"&I12&\"；\"&I13&\"；\"&I14&\"；\"&I15),I3&\"；\"&I4&\"；\"&I5&\"；\"&I6&\"；\"&I7&\"；\"&I8&\"；\"&I9&\"；\"&I10&\"；\"&I11&\"；\"&I12&\"；\"&I13&\"；\"&I14),I3&\"；\"&I4&\"；\"&I5&\"；\"&I6&\"；\"&I7&\"；\"&I8&\"；\"&I9&\"；\"&I10&\"；\"&I11&\"；\"&I12&\"；\"&I13),I3&\"；\"&I4&\"；\"&I5&\"；\"&I6&\"；\"&I7&\"；\"&I8&\"；\"&I9&\"；\"&I10&\"；\"&I11&\"；\"&I12),I3&\"；\"&I4&\"；\"&I5&\"；\"&I6&\"；\"&I7&\"；\"&I8&\"；\"&I9&\"；\"&I10&\"；\"&I11),I3&\"；\"&I4&\"；\"&I5&\"；\"&I6&\"；\"&I7&\"；\"&I8&\"；\"&I9&\"；\"&I10),I3&\"；\"&I4&\"；\"&I5&\"；\"&I6&\"；\"&I7&\"；\"&I8&\"；\"&I9),I3&\"；\"&I4&\"；\"&I5&\"；\"&I6&\"；\"&I7&\"；\"&I8),I3&\"；\"&I4&\"；\"&I5&\"；\"&I6&\"；\"&I7),I3&\"；\"&I4&\"；\"&I5&\"；\"&I6),I3&\"；\"&I4&\"；\"&I5),I3&\"；\"&I4),I3),\"\")","v":""},{"$f":"IF(J3<>\"\",IF(J4<>\"\",IF(J5<>\"\",IF(J6<>\"\",IF(J7<>\"\",IF(J8<>\"\",IF(J9<>\"\",IF(J10<>\"\",IF(J11<>\"\",IF(J12<>\"\",IF(J13<>\"\",IF(J14<>\"\",IF(J15<>\"\",IF(J16<>\"\",IF(J17<>\"\",IF(J18<>\"\",IF(J19<>\"\",IF(J20<>\"\",IF(J21<>\"\",IF(J22<>\"\",J3&\"；\"&J4&\"；\"&J5&\"；\"&J6&\"；\"&J7&\"；\"&J8&\"；\"&J9&\"；\"&J10&\"；\"&J11&\"；\"&J12&\"；\"&J13&\"；\"&J14&\"；\"&J15&\"；\"&J16&\"；\"&J17&\"；\"&J18&\"；\"&J19&\"；\"&J20&\"；\"&J21&\"；\"&J22,J3&\"；\"&J4&\"；\"&J5&\"；\"&J6&\"；\"&J7&\"；\"&J8&\"；\"&J9&\"；\"&J10&\"；\"&J11&\"；\"&J12&\"；\"&J13&\"；\"&J14&\"；\"&J15&\"；\"&J16&\"；\"&J17&\"；\"&J18&\"；\"&J19&\"；\"&J20&\"；\"&J21),J3&\"；\"&J4&\"；\"&J5&\"；\"&J6&\"；\"&J7&\"；\"&J8&\"；\"&J9&\"；\"&J10&\"；\"&J11&\"；\"&J12&\"；\"&J13&\"；\"&J14&\"；\"&J15&\"；\"&J16&\"；\"&J17&\"；\"&J18&\"；\"&J19&\"；\"&J20),J3&\"；\"&J4&\"；\"&J5&\"；\"&J6&\"；\"&J7&\"；\"&J8&\"；\"&J9&\"；\"&J10&\"；\"&J11&\"；\"&J12&\"；\"&J13&\"；\"&J14&\"；\"&J15&\"；\"&J16&\"；\"&J17&\"；\"&J18&\"；\"&J19),J3&\"；\"&J4&\"；\"&J5&\"；\"&J6&\"；\"&J7&\"；\"&J8&\"；\"&J9&\"；\"&J10&\"；\"&J11&\"；\"&J12&\"；\"&J13&\"；\"&J14&\"；\"&J15&\"；\"&J16&\"；\"&J17&\"；\"&J18),J3&\"；\"&J4&\"；\"&J5&\"；\"&J6&\"；\"&J7&\"；\"&J8&\"；\"&J9&\"；\"&J10&\"；\"&J11&\"；\"&J12&\"；\"&J13&\"；\"&J14&\"；\"&J15&\"；\"&J16&\"；\"&J17),J3&\"；\"&J4&\"；\"&J5&\"；\"&J6&\"；\"&J7&\"；\"&J8&\"；\"&J9&\"；\"&J10&\"；\"&J11&\"；\"&J12&\"；\"&J13&\"；\"&J14&\"；\"&J15&\"；\"&J16),J3&\"；\"&J4&\"；\"&J5&\"；\"&J6&\"；\"&J7&\"；\"&J8&\"；\"&J9&\"；\"&J10&\"；\"&J11&\"；\"&J12&\"；\"&J13&\"；\"&J14&\"；\"&J15),J3&\"；\"&J4&\"；\"&J5&\"；\"&J6&\"；\"&J7&\"；\"&J8&\"；\"&J9&\"；\"&J10&\"；\"&J11&\"；\"&J12&\"；\"&J13&\"；\"&J14),J3&\"；\"&J4&\"；\"&J5&\"；\"&J6&\"；\"&J7&\"；\"&J8&\"；\"&J9&\"；\"&J10&\"；\"&J11&\"；\"&J12&\"；\"&J13),J3&\"；\"&J4&\"；\"&J5&\"；\"&J6&\"；\"&J7&\"；\"&J8&\"；\"&J9&\"；\"&J10&\"；\"&J11&\"；\"&J12),J3&\"；\"&J4&\"；\"&J5&\"；\"&J6&\"；\"&J7&\"；\"&J8&\"；\"&J9&\"；\"&J10&\"；\"&J11),J3&\"；\"&J4&\"；\"&J5&\"；\"&J6&\"；\"&J7&\"；\"&J8&\"；\"&J9&\"；\"&J10),J3&\"；\"&J4&\"；\"&J5&\"；\"&J6&\"；\"&J7&\"；\"&J8&\"；\"&J9),J3&\"；\"&J4&\"；\"&J5&\"；\"&J6&\"；\"&J7&\"；\"&J8),J3&\"；\"&J4&\"；\"&J5&\"；\"&J6&\"；\"&J7),J3&\"；\"&J4&\"；\"&J5&\"；\"&J6),J3&\"；\"&J4&\"；\"&J5),J3&\"；\"&J4),J3),\"\")","v":""},"","","","","","","","","","","","","","","","","","","","","","","","","","","","","","","","","","","","","","","","","","","","","","","","","","","","","","","","","",""]
[null,null,"1英語1","1.From Head to Toe"]
[null,null,"1英語2","2.The wheels on the bus"]
[null,null,"1英語3","3.The Very Hurgry Caterpillar",null,null,null,{"$f":"I$2","v":"1記憶"},{"$f":"TRANSPOSE(I24:BP24)","v":""}]
[null,null,"1英語4","4.Five little ducks",null,null,2,{"$f":"J$2","v":"2記憶"},""]
[null,null,"2數學1","1.1000以內的數",null,null,3,{"$f":"K$2","v":"3記憶"},""]
[null,null,"2數學2","2.10、1、0的乘法",null,null,4,{"$f":"L$2","v":"4記憶"},""]
[null,null,"2數學3","3.三位數的加減",null,null,5,{"$f":"M$2","v":"5記憶"},""]
[null,null,"2數學4","4.年、月、日",null,null,6,{"$f":"N$2","v":"6記憶"},""]
[null,null,"2數學5","5.公尺和公分",null,null,7,{"$f":"O$2","v":"7記憶"},""]
[null,null,"2數學6","6.兩步驟的乘法",null,null,8,{"$f":"P$2","v":"8記憶"},""]
[null,null,"2數學7","7.分分看",null,null,9,{"$f":"Q$2","v":"9記憶"},""]
[null,null,"2數學8","8.加法和減法",null,null,10,{"$f":"R$2","v":"10記憶"},""]
[null,null,"2數學9","9.平面圖形與立體形體",null,null,null,{"$f":"S$2","v":"1了解"},""]
[null,null,"2數學10",{"$nulls":4},{"$f":"T$2","v":"2了解"},""]
[null,null,"2國語1","1.走進大自然",null,null,null,{"$f":"U$2","v":"3了解"},""]
[null,null,"2國語2","2.不開燈的夜晚",null,null,null,{"$f":"V$2","v":"4了解"},""]
[null,null,"2國語3","3.飛魚季",null,null,null,{"$f":"W$2","v":"5了解"},""]
[null,null,"2國語4","4.紫斑蝶回故鄉 + 統整活動一",null,null,null,{"$f":"X$2","v":"6了解"},""]
[null,null,"2國語5","5.啄木鳥醫生",null,null,null,{"$f":"Y$2","v":"7了解"},""]
[null,null,"2國語6","6.邀請",null,null,null,{"$f":"Z$2","v":"8了解"},""]
[null,null,"2國語7","7.拼貼畫 + 統整活動二 + 閱讀樂園一",null,null,null,{"$f":"AA$2","v":"9了解"},""]
[null,null,"2國語8","8.想",null,null,null,{"$f":"AB$2","v":"10了解"},""]
[null,null,"2國語9","9.上臺說故事",null,null,null,{"$f":"AC$2","v":"1應用"},""]
[null,null,"2國語10","10.聽媽媽的話",null,null,null,{"$f":"AD$2","v":"2應用"},""]
[null,null,"2國語11","11.陪外公運動 + 統整活動三",null,null,null,{"$f":"AE$2","v":"3應用"},""]
[null,null,"2國語12","12.雨天猜謎",null,null,null,{"$f":"AF$2","v":"4應用"},""]
[null,null,"2國語13","13.一點就通",null,null,null,{"$f":"AG$2","v":"5應用"},""]
[null,null,"2國語14","14.詠鵝 + 統整活動四 + 閱讀樂園二",null,null,null,{"$f":"AH$2","v":"6應用"},""]
[null,null,"2英語1","1.Nn Oo",null,null,null,{"$f":"AI$2","v":"7應用"},""]
[null,null,"2英語2","2.Pp Qq",null,null,null,{"$f":"AJ$2","v":"8應用"},""]
[null,null,"2英語3","3.Rr Ss",null,null,null,{"$f":"AK$2","v":"9應用"},""]
[null,null,"2英語4","4.Review1",null,null,null,{"$f":"AL$2","v":"10應用"},""]
[null,null,"2英語5","5.Tt Uu",null,null,null,{"$f":"AM$2","v":"1高層次思考"},""]
[null,null,"2英語6","6.Vv Ww",null,null,null,{"$f":"AN$2","v":"2高層次思考"},""]
[null,null,"2英語7","7.Xx Yy Zz",null,null,null,{"$f":"AO$2","v":"3高層次思考"},""]
[null,null,"2英語8","8.Review2",null,null,null,{"$f":"AP$2","v":"4高層次思考"},""]
[null,null,"3數學1","1.分數",null,null,null,{"$f":"AQ$2","v":"5高層次思考"},""]
[null,null,"3數學2","2.除法",null,null,null,{"$f":"AR$2","v":"6高層次思考"},""]
[null,null,"3數學3","3.時間",null,null,null,{"$f":"AS$2","v":"7高層次思考"},""]
[null,null,"3數學4","4.小數",null,null,null,{"$f":"AT$2","v":"8高層次思考"},""]
[null,null,"3數學5","5.統計表",null,null,null,{"$f":"AU$2","v":"9高層次思考"},""]
[null,null,"3數學6","6.長度",null,null,null,{"$f":"AV$2","v":"10高層次思考"},""]
[null,null,"3數學7","7.分數的加減",null,null,null,{"$f":"AW$2","v":"1評鑑"},""]
[null,null,"3數學8","8.面積",null,null,null,{"$f":"AX$2","v":"2評鑑"},""]
[null,null,"3數學9","9.乘法與除法",null,null,null,{"$f":"AY$2","v":"3評鑑"},""]
[null,null,"3數學10","10.容量",null,null,null,{"$f":"AZ$2","v":"4評鑑"},""]
[null,null,"3國語1","1.小白兔的牛仔褲",null,null,null,{"$f":"BA$2","v":"5評鑑"},""]
[null,null,"3國語2","2.午餐作畫",null,null,null,{"$f":"BB$2","v":"6評鑑"},""]
[null,null,"3國語3","3.薑麻樂園 + 語文天地一",null,null,null,{"$f":"BC$2","v":"7評鑑"},""]
[null,null,"3國語4","4.黑猩猩的守護者",null,null,null,{"$f":"BD$2","v":"8評鑑"},""]
[null,null,"3國語5","5.捕捉光的畫家",null,null,null,{"$f":"BE$2","v":"9評鑑"},""]
[null,null,"3國語6","6.編織高手",null,null,null,{"$f":"BF$2","v":"10評鑑"},""]
[null,null,"3國語7","7.蚊子博士 + 語文天地二 + 閱讀列車",null,null,null,{"$f":"BG$2","v":"1創作"},""]
[null,null,"3國語8","8.大自然花茶",null,null,null,{"$f":"BH$2","v":"2創作"},""]
[null,null,"3國語9","9.珍珠雨",null,null,null,{"$f":"BI$2","v":"3創作"},""]
[null,null,"3國語10","10.破紀錄 + 語文天地三",null,null,null,{"$f":"BJ$2","v":"4創作"},""]
[null,null,"3國語11","11.開羅．金字塔",null,null,null,{"$f":"BK$2","v":"5創作"},""]
[null,null,"3國語12","12.彩色花田",null,null,null,{"$f":"BL$2","v":"6創作"},""]
[null,null,"3國語13","13.拜訪童話大師的故鄉",null,null,null,{"$f":"BM$2","v":"7創作"},""]
[null,null,"3國語14","14.阿瑪菲小鎮的音樂會 + 語文天地四 + 閱讀列車",null,null,null,{"$f":"BN$2","v":"8創作"},""]
[null,null,"3英語1","1.Is This a Ball?",null,null,null,{"$f":"BO$2","v":"9創作"},""]
[null,null,"3英語2","2.Are You Hungry?",null,null,null,{"$f":"BP$2","v":"10創作"},""]
[null,null,"3英語3","3.Review 1"]
[null,null,"3英語4","4.Who’s He?"]
[null,null,"3英語5","5.Is He a Cook?"]
[null,null,"3英語6","6.Review2"]
[null,null,"3英語7","7.Final Review"]
[null,null,"3自然1","1.小園丁學種菜"]
[null,null,"3自然2","2.水的變化"]
[null,null,"3自然3","3.認識動物"]
[null,null,"3自然4","4.天氣與生活"]
[null,null,"3社會1","1.家鄉的生活"]
[null,null,"3社會2","2.家鄉的活動"]
[null,null,"3社會3","3.家鄉的消費與生活"]
[null,null,"3社會4","4.家鄉風情畫"]
[null,null,"3社會5","5.家鄉的地名"]
[null,null,"3社會6","6.守護我家鄉"]
[null,null,"4數學1","1.整數四則混合計算"]
[null,null,"4數學2","2.公里"]
[null,null,"4數學3","3.分數"]
[null,null,"4數學4","4.四邊形"]
[null,null,"4數學5","5.億以上的數"]
[null,null,"4數學6","6.小數的乘法"]
[null,null,"4數學7","7.概數"]
[null,null,"4數學8","8.周長與面積"]
[null,null,"4數學9","9.時間的計算"]
[null,null,"4數學10","10.體積"]
[null,null,"4國語1","1.從心出發"]
[null,null,"4國語2","2.一束鮮花"]
[null,null,"4國語3","3.往夢想前進 + 統整活動一 "]
[null,null,"4國語4","4.米食飄香"]
[null,null,"4國語5","5.遠方的來信"]
[null,null,"4國語6","6.掌中天地"]
[null,null,"4國語7","7.請到我的家鄉來 + 統整活動二 + 閱讀開門一"]
[null,null,"4國語8","8.小小鴿子要回家"]
[null,null,"4國語9","9.臺灣昆蟲知己——李淳陽"]
[null,null,"4國語10","10.處處皆學問 + 統整活動三"]
[null,null,"4國語11","11.臺灣的孩子"]
[null,null,"4國語12","12.有用好還是沒用好？"]
[null,null,"4國語13","13.動物啟示錄"]
[null,null,"4國語14","14.愛心樹 + 統整活動四 + 閱讀開門二"]
[null,null,"4英語1","1.How’s the Weather?"]
[null,null,"4英語2","2.What Are You Doing?"]
[null,null,"4英語3","3.Review1"]
[null,null,"4英語4","4.What Do You Want to Eat?"]
[null,null,"4英語5","5.Do You Like Tigers?"]
[null,null,"4英語6","6.Review2"]
[null,null,"4英語7","7.Final Review"]
[null,null,"4自然1","1.時間的測量"]
[null,null,"4自然2","2.水的移動"]
[null,null,"4自然3","3.昆蟲家族"]
[null,null,"4自然4","4.奇妙的電路"]
[null,null,"4社會1","1.家鄉的機構與組織"]
[null,null,"4社會2","2.家鄉的交通"]
[null,null,"4社會3","3.家鄉的人口"]
[null,null,"4社會4","4.家鄉的古蹟與名勝"]
[null,null,"4社會5","5.家鄉的生活"]
[null,null,"4社會6","6.家鄉新願景"]
[null,null,"5數學1","1.分數"]
[null,null,"5數學2","2.長方體和正方體的體積"]
[null,null,"5數學3","3.容積"]
[null,null,"5數學4","4.時間的計算"]
[null,null,"5數學5","5.符號代表數 + 綜合與應用一"]
[null,null,"5數學6","6.表面積"]
[null,null,"5數學7","7.小數"]
[null,null,"5數學8","8.生活中的大單位"]
[null,null,"5數學9","9.比率與百分率"]
[null,null,"5數學10","10.立體形體 + 綜合與應用二"]
[null,null,"5國語1","1.名人記趣"]
[null,null,"5國語2","2.秋江獨釣"]
[null,null,"5國語3","3.智救養馬人 + 統整活動一"]
[null,null,"5國語4","4.故宮挖「寶趣」"]
[null,null,"5國語5","5.恆久的美"]
[null,null,"5國語6","6.戲迷"]
[null,null,"5國語7","7.舞動美麗人生 + 統整活動二 + 閱讀階梯一"]
[null,null,"5國語8","8.動物的尾巴"]
[null,null,"5國語9","9.生命中的「大石頭」"]
[null,null,"5國語10","10.果真如此嗎？ + 統整活動三"]
[null,null,"5國語11","11.湖光山色"]
[null,null,"5國語12","12.田園交響曲"]
[null,null,"5國語13","13.山豬學校，飛鼠大學"]
[null,null,"5國語14","14.湖濱散記 + 統整活動四 + 閱讀階梯二"]
[null,null,"5英語1","1.It’s a Piece of Cake"]
[null,null,"5英語2","2.We’re in the Same Boat."]
[null,null,"5英語3","3.Review 1"]
[null,null,"5英語4","4.Face the Music."]
[null,null,"5英語5","5.Don’t be a Couch Potato."]
[null,null,"5英語6","6.Review 2"]
[null,null,"5英語7","7.Final Review"]
[null,null,"5自然1","1.美麗的星空"]
[null,null,"5自然2","2.燃燒與生鏽"]
[null,null,"5自然3","3.動物世界面面觀"]
[null,null,"5自然4","4.聲音與樂器"]
[null,null,"5社會1","1.清末現代化的建設"]
[null,null,"5社會2","2.日本統治下的臺灣"]
[null,null,"5社會3","3.中華民國時期"]
[null,null,"5社會4","4.我們的人民與政府"]
[null,null,"5社會5","5.聚落與人口"]
[null,null,"5社會6","6.臺灣的區域與交通"]
[null,null,"6數學1","1.小數與分數的四則運算"]
[null,null,"6數學2","2.角柱與圓柱"]
[null,null,"6數學3","3.速率 + 綜合與應用一"]
[null,null,"6數學4","4.圓形圖"]
[null,null,"6數學5","5.基準量與比較量"]
[null,null,"6數學6","6.怎樣解題 + 綜合與應用二"]
[null,null,"6數學7"]
[null,null,"6數學8"]
[null,null,"6數學9"]
[null,null,"6數學10"]
[null,null,"6國語1","1.過故人莊"]
[null,null,"6國語2","2.把愛傳下去"]
[null,null,"6國語3","3.山村車輄寮 + 統整活動一"]
[null,null,"6國語4","4.迷途"]
[null,null,"6國語5","5.馬達加斯加，出發！"]
[null,null,"6國語6","6.劍橋秋日漫步 + 統整活動二 + 閱讀階梯一"]
[null,null,"6國語7","7.油條報紙‧文字夢"]
[null,null,"6國語8","8.雕刻一座小島"]
[null,null,"6國語9","9.童年‧夏日‧棉花糖 + 統整活動三"]
[null,null,"6國語10","10.追夢的翅膀"]
[null,null,"6國語11","11.祝賀你，孩子 + 統整活動四"]
[null,null,"6國語12"]
[null,null,"6國語13"]
[null,null,"6國語14"]
[null,null,"6英語1","1.He Has Ants in His Pants"]
[null,null,"6英語2","2.The Game Is in the Bag! "]
[null,null,"6英語3","3.Review1 "]
[null,null,"6英語4","4.He Has a Sweet Tooth"]
[null,null,"6英語5","5.Let’s Hit the Road!"]
[null,null,"6英語6","6.Review2"]
[null,null,"6自然1","1.力與運動"]
[null,null,"6自然2","2.簡單機械"]
[null,null,"6自然3","3.生物、環境與自然資源"]
[null,null,"6自然4"]
[null,null,"6社會1","1.文明與科技生活"]
[null,null,"6社會2","2.從臺灣走向世界"]
[null,null,"6社會3","3.放眼看世界"]
[null,null,"6社會4","4.關心我們的地球"]
[null,null,"6社會5"]
[null,null,"6社會6"]